BEGIN:VCALENDAR
VERSION:2.0
PRODID:-//New Milford Chamber of Commerce - ECPv6.15.20//NONSGML v1.0//EN
CALSCALE:GREGORIAN
METHOD:PUBLISH
X-ORIGINAL-URL:https://newmilford-chamber.com
X-WR-CALDESC:Events for New Milford Chamber of Commerce
REFRESH-INTERVAL;VALUE=DURATION:PT1H
X-Robots-Tag:noindex
X-PUBLISHED-TTL:PT1H
BEGIN:VTIMEZONE
TZID:America/New_York
BEGIN:DAYLIGHT
TZOFFSETFROM:-0500
TZOFFSETTO:-0400
TZNAME:EDT
DTSTART:20240310T070000
END:DAYLIGHT
BEGIN:STANDARD
TZOFFSETFROM:-0400
TZOFFSETTO:-0500
TZNAME:EST
DTSTART:20241103T060000
END:STANDARD
BEGIN:DAYLIGHT
TZOFFSETFROM:-0500
TZOFFSETTO:-0400
TZNAME:EDT
DTSTART:20250309T070000
END:DAYLIGHT
BEGIN:STANDARD
TZOFFSETFROM:-0400
TZOFFSETTO:-0500
TZNAME:EST
DTSTART:20251102T060000
END:STANDARD
BEGIN:DAYLIGHT
TZOFFSETFROM:-0500
TZOFFSETTO:-0400
TZNAME:EDT
DTSTART:20260308T070000
END:DAYLIGHT
BEGIN:STANDARD
TZOFFSETFROM:-0400
TZOFFSETTO:-0500
TZNAME:EST
DTSTART:20261101T060000
END:STANDARD
END:VTIMEZONE
BEGIN:VEVENT
DTSTART;TZID=America/New_York:20250911T170000
DTEND;TZID=America/New_York:20250911T200000
DTSTAMP:20260420T201137
CREATED:20250804T184615Z
LAST-MODIFIED:20250909T133012Z
UID:28253-1757610000-1757620800@newmilford-chamber.com
SUMMARY:September Business Scene Hoedown Edition
DESCRIPTION: Sunset Connections at Candlelight FarmsPresented by Bakewell Mulhare CPA & Nicholas Tobin Insurance\nJoin us for an unforgettable evening of networking\, community\, and connection in one of New Milford’s most scenic settings!\n\n Thursday\, September 11 5:00-8:00 PM  Candlelight Farms\, New Milford\n What’s Happening:\n\nFREE and open to all – business owners\, professionals\, and neighbors alike\nGrocery Store Gift Cards being collected for the Food Pantry\nBeverages courtesy of NeJaime’s wine & spirits\nRelaxed and friendly networking vibe with barbeque made on site with line dancing demonstrations too!\nDoor prizes welcome – a great way to spotlight your business!\nBring your business cards and a friend — or two!\nWhether you’re expanding your professional circle or just enjoying the view\, this is a golden opportunity to mix\, mingle\, and build meaningful connections\n\n Let’s build stronger connections together — we’d love to see you there!
URL:https://newmilford-chamber.com/events/sunset-connections-candlelight-farms-2025/
LOCATION:Candlelight Farms\, 214 Candlewood Mountain Rd\, New Milford\, CT
CATEGORIES:chamber/Community Event,Networking
ATTACH;FMTTYPE=image/png:https://newmilford-chamber.com/wp-content/uploads/2025/08/244-3-1.png
ORGANIZER;CN="The Greater New Milford Chamber of Commerce":MAILTO:nmcc@newmilford-chamber.com
END:VEVENT
BEGIN:VEVENT
DTSTART;TZID=America/New_York:20250923T040000
DTEND;TZID=America/New_York:20250923T050000
DTSTAMP:20260420T201137
CREATED:20250804T234706Z
LAST-MODIFIED:20250804T234706Z
UID:28258-1758600000-1758603600@newmilford-chamber.com
SUMMARY:Chamber Members Breakfast Networking
DESCRIPTION: Members Only Speed Networking & Breakfast Presented by the Greater New Milford Chamber of Commerce\n Monday\, September 23 8:00 AM – 9:00 AM The MAXX – 94 Railroad Street\, New Milford\, CT\nStart your week off strong with a fun and focused members-only networking event!\nEnjoy a light breakfast and take part in speed networking\, where each attendee will have a quick moment to introduce themselves\, pitch their business\, and make meaningful connections in a relaxed and supportive environment.\n Bring your business cards! Build relationships\, expand your network\, and boost your visibility — all before 9 AM!\nThis event is exclusively for Greater New Milford Chamber of Commerce members.\n Space is limited – RSVP today!
URL:https://newmilford-chamber.com/events/chamber-members-breakfast-networking/
LOCATION:The Maxx\, 94 Railroad Street\, New Milford\, CT\, 06776
CATEGORIES:chamber/Community Event,Networking
ATTACH;FMTTYPE=image/jpeg:https://newmilford-chamber.com/wp-content/uploads/2025/08/coffe-and-a-cared.jpg
ORGANIZER;CN="The Greater New Milford Chamber of Commerce":MAILTO:nmcc@newmilford-chamber.com
END:VEVENT
END:VCALENDAR