BEGIN:VCALENDAR
VERSION:2.0
PRODID:-//New Milford Chamber of Commerce - ECPv6.15.20//NONSGML v1.0//EN
CALSCALE:GREGORIAN
METHOD:PUBLISH
X-WR-CALNAME:New Milford Chamber of Commerce
X-ORIGINAL-URL:https://newmilford-chamber.com
X-WR-CALDESC:Events for New Milford Chamber of Commerce
REFRESH-INTERVAL;VALUE=DURATION:PT1H
X-Robots-Tag:noindex
X-PUBLISHED-TTL:PT1H
BEGIN:VTIMEZONE
TZID:America/New_York
BEGIN:DAYLIGHT
TZOFFSETFROM:-0500
TZOFFSETTO:-0400
TZNAME:EDT
DTSTART:20250309T070000
END:DAYLIGHT
BEGIN:STANDARD
TZOFFSETFROM:-0400
TZOFFSETTO:-0500
TZNAME:EST
DTSTART:20251102T060000
END:STANDARD
BEGIN:DAYLIGHT
TZOFFSETFROM:-0500
TZOFFSETTO:-0400
TZNAME:EDT
DTSTART:20260308T070000
END:DAYLIGHT
BEGIN:STANDARD
TZOFFSETFROM:-0400
TZOFFSETTO:-0500
TZNAME:EST
DTSTART:20261101T060000
END:STANDARD
BEGIN:DAYLIGHT
TZOFFSETFROM:-0500
TZOFFSETTO:-0400
TZNAME:EDT
DTSTART:20270314T070000
END:DAYLIGHT
BEGIN:STANDARD
TZOFFSETFROM:-0400
TZOFFSETTO:-0500
TZNAME:EST
DTSTART:20271107T060000
END:STANDARD
END:VTIMEZONE
BEGIN:VEVENT
DTSTART;TZID=America/New_York:20260624T130000
DTEND;TZID=America/New_York:20260624T150000
DTSTAMP:20260423T193556
CREATED:20260423T124100Z
LAST-MODIFIED:20260423T124100Z
UID:34087-1782306000-1782313200@newmilford-chamber.com
SUMMARY:Mah Jongg
DESCRIPTION:Come and learn how to play this fun game! Bring your friends! Beginners are welcome.
URL:https://newmilford-chamber.com/events/mah-jongg-3/
LOCATION:New Milford Public Library\, 24 Main Street\, New Milford\, CT\, 06776
CATEGORIES:Community Events
ATTACH;FMTTYPE=image/jpeg:https://newmilford-chamber.com/wp-content/uploads/2026/04/may-and-june-mah-jongg-3.jpg
ORGANIZER;CN="New Milford Public Library":MAILTO:aberkun@biblio.org
END:VEVENT
BEGIN:VEVENT
DTSTART;TZID=America/New_York:20260625T180000
DTEND;TZID=America/New_York:20260625T193000
DTSTAMP:20260423T193556
CREATED:20260423T124043Z
LAST-MODIFIED:20260423T124043Z
UID:34107-1782410400-1782415800@newmilford-chamber.com
SUMMARY:Writing Motherhood: An Expressive & Creative Writing Workshop
DESCRIPTION:Motherhood is a universe in and of itself. Creative and expressive writing can provide a much needed container to process the experience of mothering at any stage\, whether in the throes of caring for a newborn or navigating teens and young adults. \nIn this workshop\, we will read some short passages written by mother-writers in memoir\, poetry\, and fiction genres and then produce a piece of our own writing. Your writing piece can take any form: a journal entry\, a poem\, a collage of words\, etc. Spark your creativity and connect with other mothers in this generative writing workshop. (No writing experience necessary). \nShannon Kearns is a writer of speculative poetry and fiction. Her poetry collection\, The Uterus is an Impossible Forest\, was recently published by Raw Dog Screaming Press (August 2025). Her work has been supported by the Yale Writers Workshop and she was recently awarded a residency at Sundress Academy for the Arts to take place in February 2026. Shannon also serves on the Housatonic Book Award panel for poetry. She teaches writing and literature at Sacred Heart University and lives in Connecticut with her wife and two children.
URL:https://newmilford-chamber.com/events/writing-motherhood-an-expressive-creative-writing-workshop/
LOCATION:New Milford Public Library\, 24 Main Street\, New Milford\, CT\, 06776
CATEGORIES:Community Events
ATTACH;FMTTYPE=image/jpeg:https://newmilford-chamber.com/wp-content/uploads/2026/04/writing-motherhood.jpg
ORGANIZER;CN="New Milford Public Library":MAILTO:aberkun@biblio.org
END:VEVENT
BEGIN:VEVENT
DTSTART;TZID=America/New_York:20260627T130000
DTEND;TZID=America/New_York:20260627T170000
DTSTAMP:20260423T193556
CREATED:20260423T124016Z
LAST-MODIFIED:20260423T124016Z
UID:34102-1782565200-1782579600@newmilford-chamber.com
SUMMARY:NMPL Chess Tournament
DESCRIPTION:Like to play chess? Join us at the New Milford Chess Tournament–for everyone ages 8 and up! When you register\, you’ll be asked your age and your rating\, if you have one. (No worries if you don’t have a rating!) Plus\, we’ll be raffling off a beautiful chess set! Sign up today!
URL:https://newmilford-chamber.com/events/nmpl-chess-tournament-3/
LOCATION:New Milford Public Library\, 24 Main Street\, New Milford\, CT\, 06776
CATEGORIES:Community Events
ATTACH;FMTTYPE=image/jpeg:https://newmilford-chamber.com/wp-content/uploads/2026/04/JUNE-2026-chess-tournament.jpg
ORGANIZER;CN="New Milford Public Library":MAILTO:aberkun@biblio.org
END:VEVENT
BEGIN:VEVENT
DTSTART;VALUE=DATE:20260808
DTEND;VALUE=DATE:20260809
DTSTAMP:20260423T193556
CREATED:20251104T194231Z
LAST-MODIFIED:20251104T203717Z
UID:31128-1786147200-1786233599@newmilford-chamber.com
SUMMARY:The Greater New Milford Open
DESCRIPTION:New Milford’s Premier Golf Event Returns to Candlewood Valley Country Club\, Saturday and Sunday\, August 8 and 9\, 2026. \nRegistration opens spring of 2026. Sponsorship opportunities available.
URL:https://newmilford-chamber.com/events/the-greater-new-milford-open/
LOCATION:Candlewood Valley Country Club\, 401 Danbury Rd\, New Milford\, CT\, 06776
CATEGORIES:Special Event
ATTACH;FMTTYPE=image/jpeg:https://newmilford-chamber.com/wp-content/uploads/2025/10/Save-The-Dated-GNMO.jpg
END:VEVENT
BEGIN:VEVENT
DTSTART;VALUE=DATE:20260809
DTEND;VALUE=DATE:20260810
DTSTAMP:20260423T193556
CREATED:20251114T012920Z
LAST-MODIFIED:20251114T012920Z
UID:31256-1786233600-1786319999@newmilford-chamber.com
SUMMARY:The Greater New Milford Open
DESCRIPTION:New Milford’s Premier Golf Event Returns to Candlewood Valley Country Club Saturday and Sunday\, August 8 and 9\, 2026. \nRegistration opens spring of 2026.  Sponsorship opportunities available.
URL:https://newmilford-chamber.com/events/the-greater-new-milford-open-2/
LOCATION:Candlewood Valley Country Club\, 401 Danbury Rd\, New Milford\, CT\, 06776
CATEGORIES:Special Event
ATTACH;FMTTYPE=image/jpeg:https://newmilford-chamber.com/wp-content/uploads/2025/11/Save-The-Dated-GNMO.jpg
END:VEVENT
BEGIN:VEVENT
DTSTART;TZID=America/New_York:20260820T173000
DTEND;TZID=America/New_York:20260820T190000
DTSTAMP:20260423T193556
CREATED:20260123T221234Z
LAST-MODIFIED:20260123T221234Z
UID:32668-1787247000-1787252400@newmilford-chamber.com
SUMMARY:Chamber Business Scene
DESCRIPTION:Join us and other business professionals to connect and network at this informal networking opportunity.\n* Free and open to the public* Bring your business cards* Bring a friend/colleague* Food and beverages* Door prizes welcome to help promote your business\n\nSponsored this month by:\n\nAll American Waste\n&\nRich’s Wings & Things
URL:https://newmilford-chamber.com/events/chamber-business-scene-3/
LOCATION:CT
CATEGORIES:Chamber Events,chamber/Community Event
END:VEVENT
BEGIN:VEVENT
DTSTART;TZID=America/New_York:20261128T173000
DTEND;TZID=America/New_York:20261128T193000
DTSTAMP:20260423T193556
CREATED:20251228T223619Z
LAST-MODIFIED:20251228T224021Z
UID:32229-1795887000-1795894200@newmilford-chamber.com
SUMMARY:Annual Tree Lighting on Green
DESCRIPTION:Join us for a festive event where the lights on the trees on the Green – put up by the United Methodist Church’s Men’s Group – are lighted and Santa visits with children.
URL:https://newmilford-chamber.com/events/annual-tree-lighting-on-green/
LOCATION:New Milford Green\, Main Street\, New Milford\, CT
CATEGORIES:Chamber Events,Community Events
ORGANIZER;CN="The Greater New Milford Chamber of Commerce":MAILTO:nmcc@newmilford-chamber.com
END:VEVENT
END:VCALENDAR