BEGIN:VCALENDAR
VERSION:2.0
PRODID:-//New Milford Chamber of Commerce - ECPv6.15.20//NONSGML v1.0//EN
CALSCALE:GREGORIAN
METHOD:PUBLISH
X-ORIGINAL-URL:https://newmilford-chamber.com
X-WR-CALDESC:Events for New Milford Chamber of Commerce
REFRESH-INTERVAL;VALUE=DURATION:PT1H
X-Robots-Tag:noindex
X-PUBLISHED-TTL:PT1H
BEGIN:VTIMEZONE
TZID:America/New_York
BEGIN:DAYLIGHT
TZOFFSETFROM:-0500
TZOFFSETTO:-0400
TZNAME:EDT
DTSTART:20250309T070000
END:DAYLIGHT
BEGIN:STANDARD
TZOFFSETFROM:-0400
TZOFFSETTO:-0500
TZNAME:EST
DTSTART:20251102T060000
END:STANDARD
BEGIN:DAYLIGHT
TZOFFSETFROM:-0500
TZOFFSETTO:-0400
TZNAME:EDT
DTSTART:20260308T070000
END:DAYLIGHT
BEGIN:STANDARD
TZOFFSETFROM:-0400
TZOFFSETTO:-0500
TZNAME:EST
DTSTART:20261101T060000
END:STANDARD
BEGIN:DAYLIGHT
TZOFFSETFROM:-0500
TZOFFSETTO:-0400
TZNAME:EDT
DTSTART:20270314T070000
END:DAYLIGHT
BEGIN:STANDARD
TZOFFSETFROM:-0400
TZOFFSETTO:-0500
TZNAME:EST
DTSTART:20271107T060000
END:STANDARD
END:VTIMEZONE
BEGIN:VEVENT
DTSTART;TZID=America/New_York:20260530T190000
DTEND;TZID=America/New_York:20260530T210000
DTSTAMP:20260423T182519
CREATED:20260408T225304Z
LAST-MODIFIED:20260408T225304Z
UID:33922-1780167600-1780174800@newmilford-chamber.com
SUMMARY:The Chase (Live Music)
DESCRIPTION:The Chase Returns to the JCC in Sherman with High-Energy Night of Crowd Favorites on May 30th! \nSHERMAN\, CT – Get ready for another unforgettable night of live music as The Chase\, Fairfield County’s premier five-piece band\, returns to the JCC in Sherman on Saturday\, May 30\, at 7 PM. \nKnown for their unique take on rock\, folk\, and soft rock classics\, The Chase is showcasing a dynamic set featuring timeless favorites\, along with some original songs from their debut album Range. \nWith a lineup of experienced musicians and powerful vocal harmonies\, The Chase is celebrated for their meticulous attention to detail and their ability to bring high-energy performances to every show. Audiences can expect to hear beloved yet rarely performed classics from Simon & Garfunkel\, Fleetwood Mac\, Billy Joel\, Coldplay\, Dave Matthews Band\, Crosby\, Stills & Nash\, Linda Ronstadt\, Dire Straits\, The Beatles\, Supertramp\, Collective Soul\, and more. \nMeet The Chase: \n● Ryan Weber (vocals\, guitar\, bass) – Connecticut native and seasoned singer-songwriter with a knack for blending rock and pop influences. \n● Rob Stagno (electric & acoustic guitar\, mandolin\, vocals) – A versatile musician with over 20 years of experience spanning multiple styles\, from gypsy jazz to intricate acoustic arrangements. His musicality and technical skill bring a unique depth to The Chase’s sound. \n● Kevin Bailie (piano\, keyboards\, vocals) – A veteran cover band performer and classic rock aficionado with a love for Billy Joel. \n● Susan Siegel (vocals) – A powerhouse singer with a rich history in musical theatre\, symphony performances\, and cabaret shows. \n● Andrew Neil (drums) – A dynamic drummer with over two decades of experience across multiple genres\, bringing energy and precision to every performance. \nThis return performance at the JCC in Sherman is a must-see event for local music lovers. Whether you come to hear your favorite classics brought to life or to catch a few originals\, The Chase promises a night of exceptional musicianship\, engaging performances\, and plenty of great music.
URL:https://newmilford-chamber.com/events/the-chase-live-music/
LOCATION:JCC in Sherman\, 9 Route 39 South\, Sherman\, CT
END:VEVENT
BEGIN:VEVENT
DTSTART;TZID=America/New_York:20260602T173000
DTEND;TZID=America/New_York:20260602T183000
DTSTAMP:20260423T182519
CREATED:20260423T124521Z
LAST-MODIFIED:20260423T124521Z
UID:34075-1780421400-1780425000@newmilford-chamber.com
SUMMARY:Ukulele Club
DESCRIPTION:Join this club to learn the ukulele and to improve your skills. Playing the ukulele with others is loads of fun! A collaboration between NMPL and NM Senior Center. If you are over 60 and need a ride to the library\, please call 860-355-6075.
URL:https://newmilford-chamber.com/events/ukulele-club-7/
LOCATION:New Milford Public Library\, 24 Main Street\, New Milford\, CT\, 06776
CATEGORIES:Community Events
ATTACH;FMTTYPE=image/jpeg:https://newmilford-chamber.com/wp-content/uploads/2026/04/April-May-June-learn-the-ukulele-2.jpg
ORGANIZER;CN="New Milford Public Library":MAILTO:aberkun@biblio.org
END:VEVENT
BEGIN:VEVENT
DTSTART;TZID=America/New_York:20260604T180000
DTEND;TZID=America/New_York:20260604T193000
DTSTAMP:20260423T182519
CREATED:20260423T124424Z
LAST-MODIFIED:20260423T124501Z
UID:34112-1780596000-1780601400@newmilford-chamber.com
SUMMARY:Funky Fruits Still Life
DESCRIPTION:Bring fruit of your choice or pick some out at the class in this still life workshop. Learn about composition\, drawing skills\, painting techniques and more as you create a painted still life in your own style.
URL:https://newmilford-chamber.com/events/funky-fruits-still-life/
LOCATION:New Milford Public Library\, 24 Main Street\, New Milford\, CT\, 06776
CATEGORIES:Community Events
ATTACH;FMTTYPE=image/jpeg:https://newmilford-chamber.com/wp-content/uploads/2026/04/JUNE-2026-funky-fruits.jpg
ORGANIZER;CN="New Milford Public Library":MAILTO:aberkun@biblio.org
END:VEVENT
BEGIN:VEVENT
DTSTART;TZID=America/New_York:20260608T110000
DTEND;TZID=America/New_York:20260608T123000
DTSTAMP:20260423T182519
CREATED:20260423T124445Z
LAST-MODIFIED:20260423T124445Z
UID:34137-1780916400-1780921800@newmilford-chamber.com
SUMMARY:Sensory-Friendly Social Time for Special Needs Adults
DESCRIPTION:Come join this social group for special needs adults and their caregivers. We’ll have fun crafting and more! Caregivers are welcome!
URL:https://newmilford-chamber.com/events/sensory-friendly-social-time-for-special-needs-adults-2/
LOCATION:New Milford Public Library\, 24 Main Street\, New Milford\, CT\, 06776
CATEGORIES:Community Events
ATTACH;FMTTYPE=image/jpeg:https://newmilford-chamber.com/wp-content/uploads/2026/04/JUNE-Sensory-Friendly-Social-Time-for-Special-Needs.jpg
ORGANIZER;CN="New Milford Public Library":MAILTO:aberkun@biblio.org
END:VEVENT
BEGIN:VEVENT
DTSTART;TZID=America/New_York:20260608T133000
DTEND;TZID=America/New_York:20260608T143000
DTSTAMP:20260423T182519
CREATED:20260423T124401Z
LAST-MODIFIED:20260423T124401Z
UID:34117-1780925400-1780929000@newmilford-chamber.com
SUMMARY:Gentle Yoga
DESCRIPTION:Robert Meko teaches with an emphasis on breathwork\, meditation\, and turning inward to observe mental\, physical\, and spiritual states without judgement. It is his goal to teach\, promote\, and support safe\, sustainable\, and deeply transformational yoga practices.
URL:https://newmilford-chamber.com/events/gentle-yoga-4/
LOCATION:New Milford Public Library\, 24 Main Street\, New Milford\, CT\, 06776
CATEGORIES:Community Events
ATTACH;FMTTYPE=image/jpeg:https://newmilford-chamber.com/wp-content/uploads/2026/04/JUNE-2026-gentle-yoga.jpg
ORGANIZER;CN="New Milford Public Library":MAILTO:aberkun@biblio.org
END:VEVENT
BEGIN:VEVENT
DTSTART;TZID=America/New_York:20260610T130000
DTEND;TZID=America/New_York:20260610T150000
DTSTAMP:20260423T182519
CREATED:20260423T124339Z
LAST-MODIFIED:20260423T124339Z
UID:34082-1781096400-1781103600@newmilford-chamber.com
SUMMARY:Mah Jongg
DESCRIPTION:Come and learn how to play this fun game! Bring your friends! Beginners are welcome.
URL:https://newmilford-chamber.com/events/mah-jongg-4/
LOCATION:New Milford Public Library\, 24 Main Street\, New Milford\, CT\, 06776
CATEGORIES:Community Events
ATTACH;FMTTYPE=image/jpeg:https://newmilford-chamber.com/wp-content/uploads/2026/04/may-and-june-mah-jongg-2.jpg
ORGANIZER;CN="New Milford Public Library":MAILTO:aberkun@biblio.org
END:VEVENT
BEGIN:VEVENT
DTSTART;TZID=America/New_York:20260612T180000
DTEND;TZID=America/New_York:20260612T190000
DTSTAMP:20260423T182519
CREATED:20260423T124322Z
LAST-MODIFIED:20260423T124322Z
UID:34122-1781287200-1781290800@newmilford-chamber.com
SUMMARY:Thomas A. Edison: A Life of Invention!
DESCRIPTION:Join Edward Sierra for an engaging and informative presentation on the life and work of the “Wizard of Menlo Park.” Born in 1847 in Ohio\, Edison was a husband\, a father\, and arguably the most prolific inventor in American history. He held 1\,093 U.S. patents\, including for the light bulb\, the phonograph\, the motion picture camera\, and a battery for an electric car.
URL:https://newmilford-chamber.com/events/thomas-a-edison-a-life-of-invention/
LOCATION:New Milford Public Library\, 24 Main Street\, New Milford\, CT\, 06776
CATEGORIES:Community Events
ATTACH;FMTTYPE=image/jpeg:https://newmilford-chamber.com/wp-content/uploads/2026/04/thomas-edison.jpg
ORGANIZER;CN="New Milford Public Library":MAILTO:aberkun@biblio.org
END:VEVENT
BEGIN:VEVENT
DTSTART;TZID=America/New_York:20260613T103000
DTEND;TZID=America/New_York:20260613T113000
DTSTAMP:20260423T182519
CREATED:20260423T124244Z
LAST-MODIFIED:20260423T124244Z
UID:34132-1781346600-1781350200@newmilford-chamber.com
SUMMARY:Sound Meditation
DESCRIPTION:Jeanine Chayka will soothe your soul with the calming and vibrational sounds of her instruments. This technique helps with sleeping and chronic pain\, while increasing creativity and energy.
URL:https://newmilford-chamber.com/events/sound-meditation-2/
LOCATION:New Milford Public Library\, 24 Main Street\, New Milford\, CT\, 06776
CATEGORIES:Community Events
ATTACH;FMTTYPE=image/jpeg:https://newmilford-chamber.com/wp-content/uploads/2026/04/sound-meditation-with-Jeanine-JUNE-2026.jpg
ORGANIZER;CN="New Milford Public Library":MAILTO:aberkun@biblio.org
END:VEVENT
BEGIN:VEVENT
DTSTART;TZID=America/New_York:20260613T130000
DTEND;TZID=America/New_York:20260613T140000
DTSTAMP:20260423T182519
CREATED:20260423T124229Z
LAST-MODIFIED:20260423T124229Z
UID:34127-1781355600-1781359200@newmilford-chamber.com
SUMMARY:The Liberty Bell - Symbol of American Freedom
DESCRIPTION:In the early days of America\, bells served as vital communication tools for communities\, ringing\nout for significant events like fires\, funerals\, and festivals. The Liberty Bell\, cast in England\,\nweighing over a ton\, was brought to Philadelphia in 1752. Despite its initial lackluster sound and\ndevastating crack during its initial assessment\, the determined colonists melted it down and\nrecast it multiple times.\nDuring the Revolution\, the bell was cleverly hidden from the British and narrowly escaped being\nsold for scrap. A visionary recognized its monumental significance and rescued it\, transforming\nthe Liberty Bell into a cherished national treasure. Today\, it stands proudly among the six most\niconic symbols of America. John Cilio explores the historical accounts that have made the\nLiberty Bell an enduring emblem of American tradition\, reminding us of the resilience and spirit\nthat define our nation. \nSpeaker Bio: John Cilio\nJohn Cilio is an engaging historical storyteller\, author\, and researcher who has captivated\naudiences with his tales of the past for over 15 years. He is an active member of the\nOrganization of American Historians\, the Association for the Study of Connecticut History\, and\nthe Connecticut League of Museums. He has shared his knowledge through numerous articles\nin national magazines and newspapers and continues to inspire and educate with his\ncaptivating storytelling and in-depth research. Get ready to be transported through time and\nexperience history through period stories and vintage photographs.
URL:https://newmilford-chamber.com/events/the-liberty-bell-symbol-of-american-freedom/
LOCATION:New Milford Public Library\, 24 Main Street\, New Milford\, CT\, 06776
CATEGORIES:Community Events
ATTACH;FMTTYPE=image/jpeg:https://newmilford-chamber.com/wp-content/uploads/2026/04/the-story-behind-the-liberty-bell-JUNE-2026.jpg
ORGANIZER;CN="New Milford Public Library":MAILTO:aberkun@biblio.org
END:VEVENT
BEGIN:VEVENT
DTSTART;TZID=America/New_York:20260618T123000
DTEND;TZID=America/New_York:20260618T143000
DTSTAMP:20260423T182519
CREATED:20260423T124211Z
LAST-MODIFIED:20260423T124211Z
UID:34092-1781785800-1781793000@newmilford-chamber.com
SUMMARY:Art Through Art History Series\, Part One\, Andy Warhol Everyday Object Pop Art
DESCRIPTION:Bring any household item to create an Andy Warhol style pop art painting in your own style. A fun\, funky class that will help you develop your drawing\, composition and painting skills in a supportive\, engaging environment.
URL:https://newmilford-chamber.com/events/art-through-art-history-series-part-one-andy-warhol-everyday-object-pop-art/
LOCATION:New Milford Public Library\, 24 Main Street\, New Milford\, CT\, 06776
CATEGORIES:Community Events
ATTACH;FMTTYPE=image/jpeg:https://newmilford-chamber.com/wp-content/uploads/2026/04/andy-warhol-art-series-1.jpg
ORGANIZER;CN="New Milford Public Library":MAILTO:aberkun@biblio.org
END:VEVENT
BEGIN:VEVENT
DTSTART;TZID=America/New_York:20260618T173000
DTEND;TZID=America/New_York:20260618T193000
DTSTAMP:20260423T182519
CREATED:20260205T034055Z
LAST-MODIFIED:20260206T164613Z
UID:32812-1781803800-1781811000@newmilford-chamber.com
SUMMARY:June Business Scene
DESCRIPTION:Forge powerful connections and unlock opportunities to grow your business. \nBring your business cards. \nHors d’oeuvres and beverages provided by sponsor. \nSponsored this month by New Milford Tennis & Swim Club & National Iron Bank
URL:https://newmilford-chamber.com/events/june-business-scene-4/
LOCATION:New Milford Tennis & Swim Club\, 93 Aspetuck Ridge Road\, New Milford\, CT\, 06776
CATEGORIES:Chamber Events,Networking
ATTACH;FMTTYPE=image/png:https://newmilford-chamber.com/wp-content/uploads/2026/02/June-Business-Scene-06-11-26.png
ORGANIZER;CN="The Greater New Milford Chamber of Commerce":MAILTO:nmcc@newmilford-chamber.com
END:VEVENT
BEGIN:VEVENT
DTSTART;TZID=America/New_York:20260618T180000
DTEND;TZID=America/New_York:20260618T190000
DTSTAMP:20260423T182519
CREATED:20260423T124120Z
LAST-MODIFIED:20260423T124120Z
UID:34097-1781805600-1781809200@newmilford-chamber.com
SUMMARY:Congregate\, Communicate\, Collaborate: Learn about Civil Discourse
DESCRIPTION:Welcome to a presentation and collaborative workshop about civil discourse! Learn from host Miranda King about constructive conversation with someone of a different view. After\, use specialized decks of prompts to practice respectful and mutually beneficial discussion. Refreshments included.
URL:https://newmilford-chamber.com/events/congregate-communicate-collaborate-learn-about-civil-discourse/
LOCATION:New Milford Public Library\, 24 Main Street\, New Milford\, CT\, 06776
CATEGORIES:Community Events
ATTACH;FMTTYPE=image/jpeg:https://newmilford-chamber.com/wp-content/uploads/2026/04/collaborate-program-M.-King.jpg
ORGANIZER;CN="New Milford Public Library":MAILTO:aberkun@biblio.org
END:VEVENT
BEGIN:VEVENT
DTSTART;TZID=America/New_York:20260622T110000
DTEND;TZID=America/New_York:20260622T123000
DTSTAMP:20260423T182519
CREATED:20260423T124301Z
LAST-MODIFIED:20260423T124301Z
UID:34144-1782126000-1782131400@newmilford-chamber.com
SUMMARY:Sensory-Friendly Social Time for Special Needs Adults
DESCRIPTION:Come join this social group for special needs adults and their caregivers. We’ll have fun crafting and more! Caregivers are welcome!
URL:https://newmilford-chamber.com/events/sensory-friendly-social-time-for-special-needs-adults/
LOCATION:New Milford Public Library\, 24 Main Street\, New Milford\, CT\, 06776
CATEGORIES:Community Events
ATTACH;FMTTYPE=image/jpeg:https://newmilford-chamber.com/wp-content/uploads/2026/04/JUNE-Sensory-Friendly-Social-Time-for-Special-Needs-1.jpg
ORGANIZER;CN="New Milford Public Library":MAILTO:aberkun@biblio.org
END:VEVENT
BEGIN:VEVENT
DTSTART;TZID=America/New_York:20260624T130000
DTEND;TZID=America/New_York:20260624T150000
DTSTAMP:20260423T182519
CREATED:20260423T124100Z
LAST-MODIFIED:20260423T124100Z
UID:34087-1782306000-1782313200@newmilford-chamber.com
SUMMARY:Mah Jongg
DESCRIPTION:Come and learn how to play this fun game! Bring your friends! Beginners are welcome.
URL:https://newmilford-chamber.com/events/mah-jongg-3/
LOCATION:New Milford Public Library\, 24 Main Street\, New Milford\, CT\, 06776
CATEGORIES:Community Events
ATTACH;FMTTYPE=image/jpeg:https://newmilford-chamber.com/wp-content/uploads/2026/04/may-and-june-mah-jongg-3.jpg
ORGANIZER;CN="New Milford Public Library":MAILTO:aberkun@biblio.org
END:VEVENT
BEGIN:VEVENT
DTSTART;TZID=America/New_York:20260625T180000
DTEND;TZID=America/New_York:20260625T193000
DTSTAMP:20260423T182519
CREATED:20260423T124043Z
LAST-MODIFIED:20260423T124043Z
UID:34107-1782410400-1782415800@newmilford-chamber.com
SUMMARY:Writing Motherhood: An Expressive & Creative Writing Workshop
DESCRIPTION:Motherhood is a universe in and of itself. Creative and expressive writing can provide a much needed container to process the experience of mothering at any stage\, whether in the throes of caring for a newborn or navigating teens and young adults. \nIn this workshop\, we will read some short passages written by mother-writers in memoir\, poetry\, and fiction genres and then produce a piece of our own writing. Your writing piece can take any form: a journal entry\, a poem\, a collage of words\, etc. Spark your creativity and connect with other mothers in this generative writing workshop. (No writing experience necessary). \nShannon Kearns is a writer of speculative poetry and fiction. Her poetry collection\, The Uterus is an Impossible Forest\, was recently published by Raw Dog Screaming Press (August 2025). Her work has been supported by the Yale Writers Workshop and she was recently awarded a residency at Sundress Academy for the Arts to take place in February 2026. Shannon also serves on the Housatonic Book Award panel for poetry. She teaches writing and literature at Sacred Heart University and lives in Connecticut with her wife and two children.
URL:https://newmilford-chamber.com/events/writing-motherhood-an-expressive-creative-writing-workshop/
LOCATION:New Milford Public Library\, 24 Main Street\, New Milford\, CT\, 06776
CATEGORIES:Community Events
ATTACH;FMTTYPE=image/jpeg:https://newmilford-chamber.com/wp-content/uploads/2026/04/writing-motherhood.jpg
ORGANIZER;CN="New Milford Public Library":MAILTO:aberkun@biblio.org
END:VEVENT
BEGIN:VEVENT
DTSTART;TZID=America/New_York:20260627T130000
DTEND;TZID=America/New_York:20260627T170000
DTSTAMP:20260423T182519
CREATED:20260423T124016Z
LAST-MODIFIED:20260423T124016Z
UID:34102-1782565200-1782579600@newmilford-chamber.com
SUMMARY:NMPL Chess Tournament
DESCRIPTION:Like to play chess? Join us at the New Milford Chess Tournament–for everyone ages 8 and up! When you register\, you’ll be asked your age and your rating\, if you have one. (No worries if you don’t have a rating!) Plus\, we’ll be raffling off a beautiful chess set! Sign up today!
URL:https://newmilford-chamber.com/events/nmpl-chess-tournament-3/
LOCATION:New Milford Public Library\, 24 Main Street\, New Milford\, CT\, 06776
CATEGORIES:Community Events
ATTACH;FMTTYPE=image/jpeg:https://newmilford-chamber.com/wp-content/uploads/2026/04/JUNE-2026-chess-tournament.jpg
ORGANIZER;CN="New Milford Public Library":MAILTO:aberkun@biblio.org
END:VEVENT
BEGIN:VEVENT
DTSTART;VALUE=DATE:20260808
DTEND;VALUE=DATE:20260809
DTSTAMP:20260423T182519
CREATED:20251104T194231Z
LAST-MODIFIED:20251104T203717Z
UID:31128-1786147200-1786233599@newmilford-chamber.com
SUMMARY:The Greater New Milford Open
DESCRIPTION:New Milford’s Premier Golf Event Returns to Candlewood Valley Country Club\, Saturday and Sunday\, August 8 and 9\, 2026. \nRegistration opens spring of 2026. Sponsorship opportunities available.
URL:https://newmilford-chamber.com/events/the-greater-new-milford-open/
LOCATION:Candlewood Valley Country Club\, 401 Danbury Rd\, New Milford\, CT\, 06776
CATEGORIES:Special Event
ATTACH;FMTTYPE=image/jpeg:https://newmilford-chamber.com/wp-content/uploads/2025/10/Save-The-Dated-GNMO.jpg
END:VEVENT
BEGIN:VEVENT
DTSTART;VALUE=DATE:20260809
DTEND;VALUE=DATE:20260810
DTSTAMP:20260423T182519
CREATED:20251114T012920Z
LAST-MODIFIED:20251114T012920Z
UID:31256-1786233600-1786319999@newmilford-chamber.com
SUMMARY:The Greater New Milford Open
DESCRIPTION:New Milford’s Premier Golf Event Returns to Candlewood Valley Country Club Saturday and Sunday\, August 8 and 9\, 2026. \nRegistration opens spring of 2026.  Sponsorship opportunities available.
URL:https://newmilford-chamber.com/events/the-greater-new-milford-open-2/
LOCATION:Candlewood Valley Country Club\, 401 Danbury Rd\, New Milford\, CT\, 06776
CATEGORIES:Special Event
ATTACH;FMTTYPE=image/jpeg:https://newmilford-chamber.com/wp-content/uploads/2025/11/Save-The-Dated-GNMO.jpg
END:VEVENT
BEGIN:VEVENT
DTSTART;TZID=America/New_York:20260820T173000
DTEND;TZID=America/New_York:20260820T190000
DTSTAMP:20260423T182519
CREATED:20260123T221234Z
LAST-MODIFIED:20260123T221234Z
UID:32668-1787247000-1787252400@newmilford-chamber.com
SUMMARY:Chamber Business Scene
DESCRIPTION:Join us and other business professionals to connect and network at this informal networking opportunity.\n* Free and open to the public* Bring your business cards* Bring a friend/colleague* Food and beverages* Door prizes welcome to help promote your business\n\nSponsored this month by:\n\nAll American Waste\n&\nRich’s Wings & Things
URL:https://newmilford-chamber.com/events/chamber-business-scene-3/
LOCATION:CT
CATEGORIES:Chamber Events,chamber/Community Event
END:VEVENT
BEGIN:VEVENT
DTSTART;TZID=America/New_York:20261128T173000
DTEND;TZID=America/New_York:20261128T193000
DTSTAMP:20260423T182519
CREATED:20251228T223619Z
LAST-MODIFIED:20251228T224021Z
UID:32229-1795887000-1795894200@newmilford-chamber.com
SUMMARY:Annual Tree Lighting on Green
DESCRIPTION:Join us for a festive event where the lights on the trees on the Green – put up by the United Methodist Church’s Men’s Group – are lighted and Santa visits with children.
URL:https://newmilford-chamber.com/events/annual-tree-lighting-on-green/
LOCATION:New Milford Green\, Main Street\, New Milford\, CT
CATEGORIES:Chamber Events,Community Events
ORGANIZER;CN="The Greater New Milford Chamber of Commerce":MAILTO:nmcc@newmilford-chamber.com
END:VEVENT
END:VCALENDAR