BEGIN:VCALENDAR
VERSION:2.0
PRODID:-//New Milford Chamber of Commerce - ECPv6.15.20//NONSGML v1.0//EN
CALSCALE:GREGORIAN
METHOD:PUBLISH
X-WR-CALNAME:New Milford Chamber of Commerce
X-ORIGINAL-URL:https://newmilford-chamber.com
X-WR-CALDESC:Events for New Milford Chamber of Commerce
REFRESH-INTERVAL;VALUE=DURATION:PT1H
X-Robots-Tag:noindex
X-PUBLISHED-TTL:PT1H
BEGIN:VTIMEZONE
TZID:America/New_York
BEGIN:DAYLIGHT
TZOFFSETFROM:-0500
TZOFFSETTO:-0400
TZNAME:EDT
DTSTART:20240310T070000
END:DAYLIGHT
BEGIN:STANDARD
TZOFFSETFROM:-0400
TZOFFSETTO:-0500
TZNAME:EST
DTSTART:20241103T060000
END:STANDARD
BEGIN:DAYLIGHT
TZOFFSETFROM:-0500
TZOFFSETTO:-0400
TZNAME:EDT
DTSTART:20250309T070000
END:DAYLIGHT
BEGIN:STANDARD
TZOFFSETFROM:-0400
TZOFFSETTO:-0500
TZNAME:EST
DTSTART:20251102T060000
END:STANDARD
BEGIN:DAYLIGHT
TZOFFSETFROM:-0500
TZOFFSETTO:-0400
TZNAME:EDT
DTSTART:20260308T070000
END:DAYLIGHT
BEGIN:STANDARD
TZOFFSETFROM:-0400
TZOFFSETTO:-0500
TZNAME:EST
DTSTART:20261101T060000
END:STANDARD
END:VTIMEZONE
BEGIN:VEVENT
DTSTART;TZID=America/New_York:20250412T060000
DTEND;TZID=America/New_York:20250412T070000
DTSTAMP:20260424T181548
CREATED:20250326T221429Z
LAST-MODIFIED:20250326T221430Z
UID:26263-1744437600-1744441200@newmilford-chamber.com
SUMMARY:Dragonfly Pour Painting @G25
DESCRIPTION:✨ Whether you’re a free-spirited Lorelai or an artsy Rory\, step into the colorful world of pour painting and create a mesmerizing abstract dragonfly—a symbol of transformation and creativity\, just like our beloved Stars Hollow! All dragonflies are unique–just like you! Perfect for all ages (5+)! 💫 \nUsing fluid acrylic paints\, you’ll experiment with swirling colors and dreamy designs\, letting the paint flow freely to craft a one-of-a-kind masterpiece. No brushes\, no rules—just pure\, artistic magic! \n💜 Make it a weekend experience! Participants can leave their paintings to dry and pick them up on Sunday while enjoying our A Weekend in the Life festivities! \nSpots are limited—grab yours now at Gallery25CT.com and let’s get pouring! 🎨 \nGallery 25 in the Historic Train Station (Pop up location)\n11 Railroad Street\nNew Milford\, CT\nGallery25CT.com \nWHERE ART MEETS HISTORY!
URL:https://newmilford-chamber.com/events/dragonfly-pour-painting-g25/
LOCATION:Gallery 25 in the Historic Train Station\, 11 Railroad Street\, New Milford\, 06776
CATEGORIES:Community Events,Special Event,Workshops/Seminars
ATTACH;FMTTYPE=image/jpeg:https://newmilford-chamber.com/wp-content/uploads/2025/03/Dragonfly-Pour-Class.jpg
ORGANIZER;CN="Gallery 25 in the Historic Train Station":MAILTO:Gallery25newmilfordct@gmail.com
END:VEVENT
BEGIN:VEVENT
DTSTART;TZID=America/New_York:20250412T063000
DTEND;TZID=America/New_York:20250412T071500
DTSTAMP:20260424T181548
CREATED:20250326T222056Z
LAST-MODIFIED:20250326T222056Z
UID:26210-1744439400-1744442100@newmilford-chamber.com
SUMMARY:Pint Size Picasso - Art classes for children ages 4-6
DESCRIPTION:Start the weekend in a creative way at our Pint-Sized Picasso Art classes for children ages 4-6. \nThis shorter class time held earlier in the day is perfect for little ones who may have shorter attention spans\, or busy social calendars for the afternoons.\nProjects will vary at each session. \n$36 per child\nPlease have children dress to get messy!
URL:https://newmilford-chamber.com/events/pint-size-picasso-art-classes-for-children-ages-4-6/
LOCATION:Create Escape Studio\, 143 West Street - Unit U\, New Milford\, CT\, 06776\, United States
CATEGORIES:Workshops/Seminars
ATTACH;FMTTYPE=image/jpeg:https://newmilford-chamber.com/wp-content/uploads/2025/03/pint-size-picasso.jpg
ORGANIZER;CN="Create Escape Studio":MAILTO:createescapestudio@gmail.com
END:VEVENT
END:VCALENDAR