BEGIN:VCALENDAR
VERSION:2.0
PRODID:-//New Milford Chamber of Commerce - ECPv6.15.20//NONSGML v1.0//EN
CALSCALE:GREGORIAN
METHOD:PUBLISH
X-WR-CALNAME:New Milford Chamber of Commerce
X-ORIGINAL-URL:https://newmilford-chamber.com
X-WR-CALDESC:Events for New Milford Chamber of Commerce
REFRESH-INTERVAL;VALUE=DURATION:PT1H
X-Robots-Tag:noindex
X-PUBLISHED-TTL:PT1H
BEGIN:VTIMEZONE
TZID:America/New_York
BEGIN:DAYLIGHT
TZOFFSETFROM:-0500
TZOFFSETTO:-0400
TZNAME:EDT
DTSTART:20240310T070000
END:DAYLIGHT
BEGIN:STANDARD
TZOFFSETFROM:-0400
TZOFFSETTO:-0500
TZNAME:EST
DTSTART:20241103T060000
END:STANDARD
BEGIN:DAYLIGHT
TZOFFSETFROM:-0500
TZOFFSETTO:-0400
TZNAME:EDT
DTSTART:20250309T070000
END:DAYLIGHT
BEGIN:STANDARD
TZOFFSETFROM:-0400
TZOFFSETTO:-0500
TZNAME:EST
DTSTART:20251102T060000
END:STANDARD
BEGIN:DAYLIGHT
TZOFFSETFROM:-0500
TZOFFSETTO:-0400
TZNAME:EDT
DTSTART:20260308T070000
END:DAYLIGHT
BEGIN:STANDARD
TZOFFSETFROM:-0400
TZOFFSETTO:-0500
TZNAME:EST
DTSTART:20261101T060000
END:STANDARD
END:VTIMEZONE
BEGIN:VEVENT
DTSTART;TZID=America/New_York:20250213T200000
DTEND;TZID=America/New_York:20250214T100000
DTSTAMP:20260424T225655
CREATED:20250131T024734Z
LAST-MODIFIED:20250131T024734Z
UID:25290-1739476800-1739527200@newmilford-chamber.com
SUMMARY:Valentine's Day Canvas Painting
DESCRIPTION:Have the Day off from Work or school?\nSpend the afternoon painting canvases with us on Valentine’s Day! \nChoose one of 3 designs.\nPerfect for decorating your home for Valentine’s Day or any Day.\nLove is Love all year long! \nOptional Glitter spray topping is available to add a little shimmer to your creation. \n12 x 12 canvas\nInstruction provided \n$36 per participant\nOpen to ages 8 and above
URL:https://newmilford-chamber.com/events/valentines-day-canvas-painting/
LOCATION:Create Escape Studio\, 143 West Street - Unit U\, New Milford\, CT\, 06776\, United States
CATEGORIES:Special Event,Workshops/Seminars
ATTACH;FMTTYPE=image/jpeg:https://newmilford-chamber.com/wp-content/uploads/2025/01/Valentine-Day-canvas-painting.jpg
ORGANIZER;CN="Create Escape Studio":MAILTO:createescapestudio@gmail.com
END:VEVENT
END:VCALENDAR