BEGIN:VCALENDAR
VERSION:2.0
PRODID:-//New Milford Chamber of Commerce - ECPv6.15.20//NONSGML v1.0//EN
CALSCALE:GREGORIAN
METHOD:PUBLISH
X-ORIGINAL-URL:https://newmilford-chamber.com
X-WR-CALDESC:Events for New Milford Chamber of Commerce
REFRESH-INTERVAL;VALUE=DURATION:PT1H
X-Robots-Tag:noindex
X-PUBLISHED-TTL:PT1H
BEGIN:VTIMEZONE
TZID:America/New_York
BEGIN:DAYLIGHT
TZOFFSETFROM:-0500
TZOFFSETTO:-0400
TZNAME:EDT
DTSTART:20240310T070000
END:DAYLIGHT
BEGIN:STANDARD
TZOFFSETFROM:-0400
TZOFFSETTO:-0500
TZNAME:EST
DTSTART:20241103T060000
END:STANDARD
BEGIN:DAYLIGHT
TZOFFSETFROM:-0500
TZOFFSETTO:-0400
TZNAME:EDT
DTSTART:20250309T070000
END:DAYLIGHT
BEGIN:STANDARD
TZOFFSETFROM:-0400
TZOFFSETTO:-0500
TZNAME:EST
DTSTART:20251102T060000
END:STANDARD
BEGIN:DAYLIGHT
TZOFFSETFROM:-0500
TZOFFSETTO:-0400
TZNAME:EDT
DTSTART:20260308T070000
END:DAYLIGHT
BEGIN:STANDARD
TZOFFSETFROM:-0400
TZOFFSETTO:-0500
TZNAME:EST
DTSTART:20261101T060000
END:STANDARD
END:VTIMEZONE
BEGIN:VEVENT
DTSTART;TZID=America/New_York:20250601T090000
DTEND;TZID=America/New_York:20250601T110000
DTSTAMP:20260424T103324
CREATED:20250528T191257Z
LAST-MODIFIED:20250528T191257Z
UID:27539-1748768400-1748775600@newmilford-chamber.com
SUMMARY:Fused Glass For Lanterns
DESCRIPTION:Create a beautiful decorative panel or panels for this lovely lantern. \nStart with a clear glass shape that will fit perfectly into the lantern.The instructor will demonstrate how to cut and arrange various types of glass pieces into a desired design. \nDesigns are then fired in our kiln to fuse and shape.  This workshop is incredibly fun\, and the pieces are truly lovely. You’ll want a panel for every season and holiday! \nThe course includes safety instructions as well as an overview of how to use the tools required to complete your project. We will show you several example projects and then you’ll have the rest of the class to experiment and complete your design. \nGlass Fusing projects are typically ready for pick-up after 2 weeks. (You will be contacted when they are done.) 
URL:https://newmilford-chamber.com/events/fused-glass-for-lanterns/
LOCATION:Create Escape Studio\, 143 West Street - Unit U\, New Milford\, CT\, 06776\, United States
CATEGORIES:Workshops/Seminars
ATTACH;FMTTYPE=image/jpeg:https://newmilford-chamber.com/wp-content/uploads/2025/05/IMG_7240.jpg
ORGANIZER;CN="Create Escape Studio":MAILTO:createescapestudio@gmail.com
END:VEVENT
BEGIN:VEVENT
DTSTART;TZID=America/New_York:20250606T143000
DTEND;TZID=America/New_York:20250606T163000
DTSTAMP:20260424T103324
CREATED:20250528T191350Z
LAST-MODIFIED:20250528T191350Z
UID:27546-1749220200-1749227400@newmilford-chamber.com
SUMMARY:Stoneware Flower Workshop
DESCRIPTION:Create Beautiful ceramic flowers to decorate your home or garden. \nOur instructor shows you the basics of hand-building and guides you step-by-step through the featured project. *Each participant will receive 1.5 pounds of clay\, which is enough for one 10″ flower or two 3″ – 4″ flowers.  \n$50 per participant includes your project materials*\, instruction\,  2 kiln firings\, and a return visit to glaze. \n *Additional Clay is available for purchase.
URL:https://newmilford-chamber.com/events/stoneware-flower-workshop/
LOCATION:Create Escape Studio\, 143 West Street - Unit U\, New Milford\, CT\, 06776\, United States
CATEGORIES:Workshops/Seminars
ATTACH;FMTTYPE=image/jpeg:https://newmilford-chamber.com/wp-content/uploads/2025/05/352546792_10229247487393500_4596059571080350656_n.jpg
ORGANIZER;CN="Create Escape Studio":MAILTO:createescapestudio@gmail.com
END:VEVENT
BEGIN:VEVENT
DTSTART;TZID=America/New_York:20250608T070000
DTEND;TZID=America/New_York:20250608T083000
DTSTAMP:20260424T103324
CREATED:20250514T230150Z
LAST-MODIFIED:20250514T230150Z
UID:27250-1749366000-1749371400@newmilford-chamber.com
SUMMARY:Resin Art Class
DESCRIPTION:RESIN ART WORKSHOP June 811am-12:30pm$45Create. Learn. Sparkle.\nDive into the Dazzling World of Resin Art!\nReady to get creative? Join us for a hands-on resin workshop where you’ll explore the magic of this glossy\, glass-like medium. Whether you’re a curious beginner or looking to level up your skills\, this class is packed with insider tips\, clever tricks\, and everything you need to know to craft your very own stunning resin masterpieces—without the beginner pitfalls!\n\n What’s Included:All supplies provided—just bring your imagination!\nKeep your unique resin pieces (pieces need to cure and will need to be picked up the following week)Ongoing support to keep you inspired even after the class ends\nYou’ll walk away with: One-of-a-kind resin pieces (3-6 pieces) Confidence and creativity to keep going!\n All materials included We use high-quality\, VOC-free resin — masks recommended for those sensitive to smells Please note: Resin pieces need to cure. Pickup the following week.\n Dress for a mess! Limited spots — sign up today @ https://square.link/u/FYyrKawC!
URL:https://newmilford-chamber.com/events/resin-art-class/
LOCATION:Gallery 25 in the Historic Train Station\, 11 Railroad Street\, New Milford\, 06776
CATEGORIES:Special Event,Workshops/Seminars
ATTACH;FMTTYPE=image/jpeg:https://newmilford-chamber.com/wp-content/uploads/2025/05/Resin-Class-June.jpg
ORGANIZER;CN="Gallery 25 in the Historic Train Station":MAILTO:Gallery25newmilfordct@gmail.com
END:VEVENT
BEGIN:VEVENT
DTSTART;TZID=America/New_York:20250614T140000
DTEND;TZID=America/New_York:20250614T170000
DTSTAMP:20260424T103324
CREATED:20250528T191435Z
LAST-MODIFIED:20250528T191435Z
UID:27552-1749909600-1749920400@newmilford-chamber.com
SUMMARY:Seaside Paint & Sip
DESCRIPTION:Paint\, sip\, and chill with us! Create your own coastal charcuterie board + stemless wine glass in this fun\, BYOB evening workshop.  \nNo experience needed—just good vibes\, ocean-inspired creativity\, and your favorite drink. 🍷🎨  \n🗓️ $50 per person | BYOB | Adult workshop📍 Create Escape Studio 🎟️ Spots are limited—grab yours now!
URL:https://newmilford-chamber.com/events/seaside-paint-sip/
LOCATION:Create Escape Studio\, 143 West Street - Unit U\, New Milford\, CT\, 06776\, United States
CATEGORIES:Workshops/Seminars
ATTACH;FMTTYPE=image/jpeg:https://newmilford-chamber.com/wp-content/uploads/2025/05/5.jpg
ORGANIZER;CN="Create Escape Studio":MAILTO:createescapestudio@gmail.com
END:VEVENT
BEGIN:VEVENT
DTSTART;TZID=America/New_York:20250619T140000
DTEND;TZID=America/New_York:20250626T160000
DTSTAMP:20260424T103324
CREATED:20250514T230055Z
LAST-MODIFIED:20250514T230055Z
UID:27283-1750341600-1750953600@newmilford-chamber.com
SUMMARY:Summer ART Club with Liz Rosiello
DESCRIPTION:🎨☀️ Summer ART Club with Liz RosielloThursday Evenings • 6–8 PM • $65 per session (There is a June\, July & August Session) Sign up for the sessions that fit your summer schedule!For Adults & Young Adults (ages 14+)All skill levels welcome! \nJoin artist and instructor Liz Rosiello for a summer of creativity\, skill-building\, and artistic exploration! Each session of this laid-back\, small-group Summer Art Club focuses on a different essential art skills—from drawing fundamentals to watercolor journaling to mastering color and value. Classes take place at Gallery 25 and we will draw inspiration from around downtown New Milford\, making the town itself part of your inspiration! \n🗓️ June Session: Drawing FundamentalsThursdays\, 6/19 & 6/26 | 6–8 PMSharpen your drawing skills as we explore composition\, perspective\, and technique. We’ll be sketching the charming architecture of downtown New Milford as we learn!
URL:https://newmilford-chamber.com/events/summer-art-club-with-liz-rosiello/
LOCATION:Gallery 25 in the Historic Train Station\, 11 Railroad Street\, New Milford\, 06776
CATEGORIES:Community Events,Special Event,Workshops/Seminars
ATTACH;FMTTYPE=image/jpeg:https://newmilford-chamber.com/wp-content/uploads/2025/05/Summer-Art-Club-with-Liz.jpg
ORGANIZER;CN="Gallery 25 in the Historic Train Station":MAILTO:Gallery25newmilfordct@gmail.com
END:VEVENT
BEGIN:VEVENT
DTSTART;VALUE=DATE:20250620
DTEND;VALUE=DATE:20250623
DTSTAMP:20260424T103324
CREATED:20250428T174033Z
LAST-MODIFIED:20250428T174033Z
UID:27053-1750449600-1750622399@newmilford-chamber.com
SUMMARY:Storytelling Workshop with Neil Intraub
DESCRIPTION:Neil Intraub will help participants conjure\, craft & perform a 5-minute personal narrative.  Over the weekend\, storytellers will work through several drafts\, create a story arc\, focus on cogent details & learn the importance of editing. All will practice what it means to ‘live in the story’. A work-in-progress ‘share’ with invited friends & family will follow. \nPLEASE NOTE – THIS IS A TWO-DAY EVENT \n\nJune 21-22\nSat\, June 21: 9:30 am – 12 & 1 – 3\nSun 10 – 12. Performance Share at 1pm
URL:https://newmilford-chamber.com/events/storytelling-workshop-with-neil-intraub/
LOCATION:Merryall Center\, 8 Chapel Hill Road\, New Milford\, CT\, 06776
CATEGORIES:Workshops/Seminars
ATTACH;FMTTYPE=image/jpeg:https://newmilford-chamber.com/wp-content/uploads/2025/04/6.21-22workshop.jpg
END:VEVENT
BEGIN:VEVENT
DTSTART;TZID=America/New_York:20250621T143000
DTEND;TZID=America/New_York:20250621T180000
DTSTAMP:20260424T103324
CREATED:20250528T000225Z
LAST-MODIFIED:20250528T000226Z
UID:27485-1750516200-1750528800@newmilford-chamber.com
SUMMARY:a Studio Affair
DESCRIPTION:Join us for a Studio Affair\nSaturday\, June 21st\n21+ 6:30 – 10:00PM – Free \nUnleash Your Inner Artist\nExpress your Creativity\nBring your Passion\nDo you have a craving to unleash your creativity but aren’t sure where to start? Well\, look no further! We aim to create a vibrant space for our community to gather\, socialize with friends\, and even make new ones. Our focus is on inclusivity and fostering creativity. \nIf you’re already working on a masterpiece\, feel free to bring it along and showcase your skills. You don’t have to be a professional artist to join in; all you need is the passion to create. Just bring your enthusiasm\, and we’ll supply a variety of materials for you to play around with. \nSpread the word\, invite your friends\, and get ready for an unforgettable experience! Plus\, if you’re feeling thirsty\, don’t forget to bring your own beverages.\nLocated at 12 Main Street\, New Milford\, CT\n(860) 354-4318
URL:https://newmilford-chamber.com/events/a-studio-affair-4/
LOCATION:Village Center for the Arts\, 12 Main Street\, New Milford\, CT\, 06776
CATEGORIES:Community Events,Open House,Special Event,Workshops/Seminars
ATTACH;FMTTYPE=image/png:https://newmilford-chamber.com/wp-content/uploads/2025/05/Studio-Affair-JUNE25-IG.png
END:VEVENT
BEGIN:VEVENT
DTSTART;TZID=America/New_York:20250624T150000
DTEND;TZID=America/New_York:20250624T160000
DTSTAMP:20260424T103324
CREATED:20250515T225732Z
LAST-MODIFIED:20250515T225732Z
UID:27353-1750777200-1750780800@newmilford-chamber.com
SUMMARY:Forestry & Silviculture Webinar
DESCRIPTION:Sanctuary Manager/Naturalist Lori Lichtenauer (CT Licensed Forester) will present on the practices of silviculture. Learn about managing woodlands for diverse needs of people and wildlife. She will explain a brief history of forestry in New England and share details of how foresters create land management plans for wildlife\, biodiversity and recreation.\nRegister at https://www.ctaudubon.org/2025/05/register-deer-pond-farm-forestry-silviculture-webinar/ for the Zoom link to the June 24 Forestry/Silviculture webinar.\nFree to attend.  Suggested Donation $10. Registration required.
URL:https://newmilford-chamber.com/events/forestry-silviculture-webinar/
LOCATION:Deer Pond Nature Preserve\, 57 Wakeman Hill Rd.\, Sherman\, CT\, 06784\, United States
CATEGORIES:Community Events,Non Profit,Special Event,Workshops/Seminars
ATTACH;FMTTYPE=image/jpeg:https://newmilford-chamber.com/wp-content/uploads/2025/05/DPF-Big-Ash-Tree-1.jpg
ORGANIZER;CN="Connecticut Audubon Society at Deer Pond Farm":MAILTO:chagadorn@ctaudubon.org
END:VEVENT
BEGIN:VEVENT
DTSTART;TZID=America/New_York:20250628T130000
DTEND;TZID=America/New_York:20250628T143000
DTSTAMP:20260424T103324
CREATED:20250514T215305Z
LAST-MODIFIED:20250514T215305Z
UID:27255-1751115600-1751121000@newmilford-chamber.com
SUMMARY:Alcohol Ink Workshop
DESCRIPTION:🎨✨ Alcohol Ink Workshop with Adele Moros\nSaturday\, June 28 • 5:00–6:30 PM\n$45 – All Materials Included \nLet your creativity flow in this vibrant and expressive workshop with local artist Adele Moros! Discover the magic of alcohol inks\, a wildly fun and fluid medium known for its bold colors\, unexpected movement\, and stunning results. \nIn this 90-minute guided class\, Adele will walk you through techniques for working with alcohol ink on Yupo paper—blending\, layering\, and creating dreamy abstract designs that are impossible to replicate (in the best way!). No experience necessary—just bring your curiosity and love for color! \n🌈 What’s Included:\n✔ All materials and tools provided\n✔ Step-by-step guidance from Adele\n✔ Take-home artworks\n✔ A relaxed\, inspiring atmosphere \nThis workshop is perfect for beginners and seasoned creatives alike. Whether you’re looking to try something new or just unwind in a swirl of color\, you’ll leave with vibrant pieces and a whole new artistic obsession. \n🎟️ Spots are limited—sign up early to secure your seat! https://square.link/u/NB6f0zxQ
URL:https://newmilford-chamber.com/events/alcohol-ink-workshop/
LOCATION:Gallery 25 in the Historic Train Station\, 11 Railroad Street\, New Milford\, 06776
CATEGORIES:Special Event,Workshops/Seminars
ATTACH;FMTTYPE=image/jpeg:https://newmilford-chamber.com/wp-content/uploads/2025/05/Alcohol-Workshop-with-Adele.jpg
ORGANIZER;CN="Gallery 25 in the Historic Train Station":MAILTO:Gallery25newmilfordct@gmail.com
END:VEVENT
END:VCALENDAR