BEGIN:VCALENDAR
VERSION:2.0
PRODID:-//New Milford Chamber of Commerce - ECPv6.15.20//NONSGML v1.0//EN
CALSCALE:GREGORIAN
METHOD:PUBLISH
X-ORIGINAL-URL:https://newmilford-chamber.com
X-WR-CALDESC:Events for New Milford Chamber of Commerce
REFRESH-INTERVAL;VALUE=DURATION:PT1H
X-Robots-Tag:noindex
X-PUBLISHED-TTL:PT1H
BEGIN:VTIMEZONE
TZID:America/New_York
BEGIN:DAYLIGHT
TZOFFSETFROM:-0500
TZOFFSETTO:-0400
TZNAME:EDT
DTSTART:20240310T070000
END:DAYLIGHT
BEGIN:STANDARD
TZOFFSETFROM:-0400
TZOFFSETTO:-0500
TZNAME:EST
DTSTART:20241103T060000
END:STANDARD
BEGIN:DAYLIGHT
TZOFFSETFROM:-0500
TZOFFSETTO:-0400
TZNAME:EDT
DTSTART:20250309T070000
END:DAYLIGHT
BEGIN:STANDARD
TZOFFSETFROM:-0400
TZOFFSETTO:-0500
TZNAME:EST
DTSTART:20251102T060000
END:STANDARD
BEGIN:DAYLIGHT
TZOFFSETFROM:-0500
TZOFFSETTO:-0400
TZNAME:EDT
DTSTART:20260308T070000
END:DAYLIGHT
BEGIN:STANDARD
TZOFFSETFROM:-0400
TZOFFSETTO:-0500
TZNAME:EST
DTSTART:20261101T060000
END:STANDARD
END:VTIMEZONE
BEGIN:VEVENT
DTSTART;TZID=America/New_York:20250507T133000
DTEND;TZID=America/New_York:20250507T150000
DTSTAMP:20260424T133737
CREATED:20250430T232901Z
LAST-MODIFIED:20250430T234050Z
UID:27090-1746624600-1746630000@newmilford-chamber.com
SUMMARY:Dr. Jonathan Lis- Modern Longevity and Healthspan Discussion
DESCRIPTION:Have you considered what it means to live a long life versus living a long healthy life? We are passionate about exploring practical strategies and research to increase longevity and health span- to keep you living healthy for longer. Active Health proudly presents an evening of education with Dr. Jonathan Lis. \nDr. Lis\, the newest Active Health physician\, will share his insights into how modern science is revolutionizing our understanding of ageing and longevity. His presentation will cover: \n\nDefining a framework for understanding longevity and health span\nDiscussing proven strategies to monitor and improve longevity\nIdentifying the limits—and the hype—in modern longevity science
URL:https://newmilford-chamber.com/events/dr-jonathan-lis-modern-longevity-and-healthspan-discussion/
LOCATION:Active Health\, 39 Park Lane road\, New Milford\, CT\, 06776
CATEGORIES:Community Events,Special Event,Workshops/Seminars
ATTACH;FMTTYPE=image/png:https://newmilford-chamber.com/wp-content/uploads/2025/04/Long-Talk-NMNP.png
END:VEVENT
BEGIN:VEVENT
DTSTART;TZID=America/New_York:20250508T060000
DTEND;TZID=America/New_York:20250508T080000
DTSTAMP:20260424T133737
CREATED:20250506T210211Z
LAST-MODIFIED:20250506T210211Z
UID:27150-1746684000-1746691200@newmilford-chamber.com
SUMMARY:Beginner Birding Class & Walk @ Deer Pond Farm in Sherman
DESCRIPTION:Join us at Deer Pond Farm with Lori Lichtenauer\, Sanctuary Manager/Naturalist\, who will teach you recreational birding basics. Learn about apps such as Merlin & eBird to advance your skills\, and how to bird on your “best” behavior. We’ll start in the classroom\, and end outside. \nVisit https://www.ctaudubon.org/deer-pond-farm-programs-classes/ for the May 8 Beginner Birding class.\nThis program meets at Deer Pond Farm\, 57 Wakeman Hill Road\, Sherman\, CT 06784\n$5 Members\, $10 Non-Members
URL:https://newmilford-chamber.com/events/beginner-birding-class-walk-deer-pond-farm-in-sherman/
LOCATION:Deer Pond Nature Preserve\, 57 Wakeman Hill Rd.\, Sherman\, CT\, 06784\, United States
CATEGORIES:Community Events,Non Profit,Special Event,Workshops/Seminars
ATTACH;FMTTYPE=image/jpeg:https://newmilford-chamber.com/wp-content/uploads/2025/05/Birding.jpg
ORGANIZER;CN="Connecticut Audubon Society at Deer Pond Farm":MAILTO:chagadorn@ctaudubon.org
END:VEVENT
BEGIN:VEVENT
DTSTART;TZID=America/New_York:20250510T040000
DTEND;TZID=America/New_York:20250510T060000
DTSTAMP:20260424T133737
CREATED:20250506T210055Z
LAST-MODIFIED:20250506T210055Z
UID:27157-1746849600-1746856800@newmilford-chamber.com
SUMMARY:Migration Bird Walk @ Deer Pond Farm in Sherman
DESCRIPTION:Warblers\, tanagers\, and vireos\, oh my! Enjoy peak avian migration season on Deer Pond Farm’s spacious trails. Lori Lichtenauer\, Naturalist\, will lead this bird walk focused on neotropical migrants. We’ll explore wetland\, meadow\, and forest habitat to seek out the biggest diversity of birds. Add to your life list on our walk!\nClick link to register: https://www.ctaudubon.org/2025/03/register-deer-pond-farm-migration-bird-walk/ \nThis program meets at Deer Pond Farm\, 57 Wakeman Hill Road\, Sherman\, CT 06784.
URL:https://newmilford-chamber.com/events/migration-bird-walk-deer-pond-farm-in-sherman/
LOCATION:Deer Pond Nature Preserve\, 57 Wakeman Hill Rd.\, Sherman\, CT\, 06784\, United States
CATEGORIES:Community Events,Non Profit,Workshops/Seminars
ATTACH;FMTTYPE=image/jpeg:https://newmilford-chamber.com/wp-content/uploads/2025/05/Bird.jpg
ORGANIZER;CN="Connecticut Audubon Society at Deer Pond Farm":MAILTO:chagadorn@ctaudubon.org
END:VEVENT
BEGIN:VEVENT
DTSTART;TZID=America/New_York:20250510T063000
DTEND;TZID=America/New_York:20250510T071500
DTSTAMP:20260424T133737
CREATED:20250326T221915Z
LAST-MODIFIED:20250326T221916Z
UID:26225-1746858600-1746861300@newmilford-chamber.com
SUMMARY:Pint-Sized Picasso - May
DESCRIPTION:Art class for children ages 4-6\nCreatively start the weekend at our Pint-Sized Picasso Art classes for children ages 4-6. \nThis shorter class time held earlier in the day is perfect for little ones who may have shorter attention spans\, or busy social calendars for the afternoons.\nProjects will vary at each session. \n$36 per child\nPlease have children dress to get messy!
URL:https://newmilford-chamber.com/events/pint-sized-picasso-may/
LOCATION:Create Escape Studio\, 143 West Street - Unit U\, New Milford\, CT\, 06776\, United States
CATEGORIES:Workshops/Seminars
ATTACH;FMTTYPE=image/jpeg:https://newmilford-chamber.com/wp-content/uploads/2025/03/pint-size-picasso-1.jpg
ORGANIZER;CN="Create Escape Studio":MAILTO:createescapestudio@gmail.com
END:VEVENT
BEGIN:VEVENT
DTSTART;TZID=America/New_York:20250513T150000
DTEND;TZID=America/New_York:20250513T160000
DTSTAMP:20260424T133737
CREATED:20250506T205917Z
LAST-MODIFIED:20250506T205917Z
UID:27170-1747148400-1747152000@newmilford-chamber.com
SUMMARY:Birdsong Webinar with Lori Lichtenauer from Deer Pond Farm
DESCRIPTION:Springtime and birdsong go hand in hand. Lori Lichtenauer\, Deer Pond Farm’s Sanctuary Manager/Naturalist will blend science and music in her Birdsong Webinar. She will explain how and why birdsong has evolved\, who is singing\, and will share tips and tools for identifying birdsong.\nRegister here https://www.ctaudubon.org/2025/03/register-deer-pond-farm-birdsong-webinar/ for Zoom link.\nFree to attend. Suggested donation $10. Registration required.
URL:https://newmilford-chamber.com/events/birdsong-webinar-with-lori-lichtenauer-from-deer-pond-farm/
LOCATION:Deer Pond Nature Preserve\, 57 Wakeman Hill Rd.\, Sherman\, CT\, 06784\, United States
CATEGORIES:Community Events,Non Profit,Special Event,Workshops/Seminars
ATTACH;FMTTYPE=image/jpeg:https://newmilford-chamber.com/wp-content/uploads/2025/05/indigo-bunting.jpg
ORGANIZER;CN="Connecticut Audubon Society at Deer Pond Farm":MAILTO:chagadorn@ctaudubon.org
END:VEVENT
BEGIN:VEVENT
DTSTART;TZID=America/New_York:20250531T090000
DTEND;TZID=America/New_York:20250531T110000
DTSTAMP:20260424T133737
CREATED:20250528T191558Z
LAST-MODIFIED:20250528T191558Z
UID:27531-1748682000-1748689200@newmilford-chamber.com
SUMMARY:Paint your own Tote Bag or Apron
DESCRIPTION:Join us for a fun and relaxed painting session where you’ll get to customize your very own canvas tote bag — perfect for the farmers market\, library runs\, or sunny beach days — or a canvas apron\, ideal for all your cooking\, crafting\, or gardening adventures. \n \nWhether you’re a seasoned artist or just want to try something new\, this is a great opportunity to express your style and take home something both beautiful and practical. All materials are provided — just bring your imagination and a smile! \n \n🖍️ No experience necessary \n🌿 Family-friendly and beginner-welcoming \n🎁 Leave with a one-of-a-kind creation you’ll use \n \nAges 8- Adult Cost:  \nTote bag $37  \nApron $42
URL:https://newmilford-chamber.com/events/paint-your-own-tote-bag-or-apron/
LOCATION:Create Escape Studio\, 143 West Street - Unit U\, New Milford\, CT\, 06776\, United States
CATEGORIES:Workshops/Seminars
ATTACH;FMTTYPE=image/jpeg:https://newmilford-chamber.com/wp-content/uploads/2025/05/2.jpg
ORGANIZER;CN="Create Escape Studio":MAILTO:createescapestudio@gmail.com
END:VEVENT
END:VCALENDAR