BEGIN:VCALENDAR
VERSION:2.0
PRODID:-//New Milford Chamber of Commerce - ECPv6.15.20//NONSGML v1.0//EN
CALSCALE:GREGORIAN
METHOD:PUBLISH
X-ORIGINAL-URL:https://newmilford-chamber.com
X-WR-CALDESC:Events for New Milford Chamber of Commerce
REFRESH-INTERVAL;VALUE=DURATION:PT1H
X-Robots-Tag:noindex
X-PUBLISHED-TTL:PT1H
BEGIN:VTIMEZONE
TZID:America/New_York
BEGIN:DAYLIGHT
TZOFFSETFROM:-0500
TZOFFSETTO:-0400
TZNAME:EDT
DTSTART:20240310T070000
END:DAYLIGHT
BEGIN:STANDARD
TZOFFSETFROM:-0400
TZOFFSETTO:-0500
TZNAME:EST
DTSTART:20241103T060000
END:STANDARD
BEGIN:DAYLIGHT
TZOFFSETFROM:-0500
TZOFFSETTO:-0400
TZNAME:EDT
DTSTART:20250309T070000
END:DAYLIGHT
BEGIN:STANDARD
TZOFFSETFROM:-0400
TZOFFSETTO:-0500
TZNAME:EST
DTSTART:20251102T060000
END:STANDARD
BEGIN:DAYLIGHT
TZOFFSETFROM:-0500
TZOFFSETTO:-0400
TZNAME:EDT
DTSTART:20260308T070000
END:DAYLIGHT
BEGIN:STANDARD
TZOFFSETFROM:-0400
TZOFFSETTO:-0500
TZNAME:EST
DTSTART:20261101T060000
END:STANDARD
END:VTIMEZONE
BEGIN:VEVENT
DTSTART;TZID=America/New_York:20250703T050000
DTEND;TZID=America/New_York:20250731T100000
DTSTAMP:20260421T071959
CREATED:20250507T225705Z
LAST-MODIFIED:20250507T225705Z
UID:27193-1751518800-1753956000@newmilford-chamber.com
SUMMARY:Summer Thursdays
DESCRIPTION:New Milford Youth Agency’s “Summer” Thursdays!   Games\, activities\, Arts and Crafts and much more!  Grades 4 – 8 \n9-2pm at New Milford Youth Agency / JPCC \n$25 for 5 Thursdays \nRgistration required – myyouthagency.com \nContact Maria Leo for more information – mleo@newmilfordct.gov \n  \n 
URL:https://newmilford-chamber.com/events/summer-thursdays/
LOCATION:John Pettibone Community Center\, 2 Pickett District Road\, New Milford\, CT\, 06776
CATEGORIES:Special Event
ATTACH;FMTTYPE=image/jpeg:https://newmilford-chamber.com/wp-content/uploads/2025/05/Summer-Thursdays-2025.jpg
END:VEVENT
BEGIN:VEVENT
DTSTART;TZID=America/New_York:20250708T060000
DTEND;TZID=America/New_York:20250708T080000
DTSTAMP:20260421T071959
CREATED:20250604T213144Z
LAST-MODIFIED:20250604T213144Z
UID:27591-1751954400-1751961600@newmilford-chamber.com
SUMMARY:FORESTRY HIKE
DESCRIPTION:Learn about and see forest management practices with Sanctuary Manager/Naturalist and CT certified forester Lori Lichtenauer. The history of CT’s forests will be discussed and how past land management has impacted the forests of today. We will hike about 4 miles to some of our management areas where we will discuss how sustainable forestry practices can increase wildlife biodiversity and overall health of forested landscapes.
URL:https://newmilford-chamber.com/events/forestry-hike/
LOCATION:Deer Pond Nature Preserve\, 57 Wakeman Hill Rd.\, Sherman\, CT\, 06784\, United States
CATEGORIES:Community Events,Non Profit,Special Event
ATTACH;FMTTYPE=image/jpeg:https://newmilford-chamber.com/wp-content/uploads/2025/06/Forestry-Hike.jpg
ORGANIZER;CN="Connecticut Audubon Society at Deer Pond Farm":MAILTO:chagadorn@ctaudubon.org
END:VEVENT
END:VCALENDAR