BEGIN:VCALENDAR
VERSION:2.0
PRODID:-//New Milford Chamber of Commerce - ECPv6.15.20//NONSGML v1.0//EN
CALSCALE:GREGORIAN
METHOD:PUBLISH
X-ORIGINAL-URL:https://newmilford-chamber.com
X-WR-CALDESC:Events for New Milford Chamber of Commerce
REFRESH-INTERVAL;VALUE=DURATION:PT1H
X-Robots-Tag:noindex
X-PUBLISHED-TTL:PT1H
BEGIN:VTIMEZONE
TZID:America/New_York
BEGIN:DAYLIGHT
TZOFFSETFROM:-0500
TZOFFSETTO:-0400
TZNAME:EDT
DTSTART:20230312T070000
END:DAYLIGHT
BEGIN:STANDARD
TZOFFSETFROM:-0400
TZOFFSETTO:-0500
TZNAME:EST
DTSTART:20231105T060000
END:STANDARD
BEGIN:DAYLIGHT
TZOFFSETFROM:-0500
TZOFFSETTO:-0400
TZNAME:EDT
DTSTART:20240310T070000
END:DAYLIGHT
BEGIN:STANDARD
TZOFFSETFROM:-0400
TZOFFSETTO:-0500
TZNAME:EST
DTSTART:20241103T060000
END:STANDARD
BEGIN:DAYLIGHT
TZOFFSETFROM:-0500
TZOFFSETTO:-0400
TZNAME:EDT
DTSTART:20250309T070000
END:DAYLIGHT
BEGIN:STANDARD
TZOFFSETFROM:-0400
TZOFFSETTO:-0500
TZNAME:EST
DTSTART:20251102T060000
END:STANDARD
END:VTIMEZONE
BEGIN:VEVENT
DTSTART;TZID=America/New_York:20241213T130000
DTEND;TZID=America/New_York:20241213T140000
DTSTAMP:20260421T054953
CREATED:20241024T000202Z
LAST-MODIFIED:20241024T000202Z
UID:23814-1734094800-1734098400@newmilford-chamber.com
SUMMARY:"A Christmas Carol" Reading by Bill Hughes
DESCRIPTION:A Christmas Carol published in 1843\, was the sixth of Charles Dicken’s twenty major works. His final work Edwin Drood was left half finished when Dickens died in 1870. \nCharles Dickens gave his first public reading of A Christmas Carol on Dec. 3\, 1867 at the Tremont Temple in Boston. On Christmas Eve\, 1867 in Boston\, a businessman named Fairbanks watched Charles Dickens read A Christmas Carol. The reading moved him so much he closed his factory on Christmas Day and sent every worker a turkey thereafter. \nBill Hughes’s reading is gently abridged for dramatic purpose from the restructured version Dickens created for his own United States reading tour of 1867/1868\, which included stops in New Haven and Hartford in 1868 with readings of A Christmas Carol.
URL:https://newmilford-chamber.com/events/a-christmas-carol-reading-by-bill-hughes/
LOCATION:New Milford Public Library\, 24 Main Street\, New Milford\, CT\, 06776
CATEGORIES:Special Event
ATTACH;FMTTYPE=image/jpeg:https://newmilford-chamber.com/wp-content/uploads/2024/10/A-Christmas-Carol-DEC-2024.jpg
ORGANIZER;CN="New Milford Public Library":MAILTO:aberkun@biblio.org
END:VEVENT
END:VCALENDAR