BEGIN:VCALENDAR
VERSION:2.0
PRODID:-//New Milford Chamber of Commerce - ECPv6.15.20//NONSGML v1.0//EN
CALSCALE:GREGORIAN
METHOD:PUBLISH
X-WR-CALNAME:New Milford Chamber of Commerce
X-ORIGINAL-URL:https://newmilford-chamber.com
X-WR-CALDESC:Events for New Milford Chamber of Commerce
REFRESH-INTERVAL;VALUE=DURATION:PT1H
X-Robots-Tag:noindex
X-PUBLISHED-TTL:PT1H
BEGIN:VTIMEZONE
TZID:America/New_York
BEGIN:DAYLIGHT
TZOFFSETFROM:-0500
TZOFFSETTO:-0400
TZNAME:EDT
DTSTART:20250309T070000
END:DAYLIGHT
BEGIN:STANDARD
TZOFFSETFROM:-0400
TZOFFSETTO:-0500
TZNAME:EST
DTSTART:20251102T060000
END:STANDARD
BEGIN:DAYLIGHT
TZOFFSETFROM:-0500
TZOFFSETTO:-0400
TZNAME:EDT
DTSTART:20260308T070000
END:DAYLIGHT
BEGIN:STANDARD
TZOFFSETFROM:-0400
TZOFFSETTO:-0500
TZNAME:EST
DTSTART:20261101T060000
END:STANDARD
BEGIN:DAYLIGHT
TZOFFSETFROM:-0500
TZOFFSETTO:-0400
TZNAME:EDT
DTSTART:20270314T070000
END:DAYLIGHT
BEGIN:STANDARD
TZOFFSETFROM:-0400
TZOFFSETTO:-0500
TZNAME:EST
DTSTART:20271107T060000
END:STANDARD
END:VTIMEZONE
BEGIN:VEVENT
DTSTART;TZID=America/New_York:20260321T183000
DTEND;TZID=America/New_York:20260321T220000
DTSTAMP:20260423T171758
CREATED:20260228T214855Z
LAST-MODIFIED:20260228T214855Z
UID:32973-1774117800-1774130400@newmilford-chamber.com
SUMMARY:A Studio Affair
DESCRIPTION:A Studio Affair \nSaturday\, March 21\n6:30–10:00 PM\nAges 21+ \nStep away from your screen and into the studio. A Studio Affair is a chance to unplug\, slow down\, and reconnect with yourself\, with others\, and with the simple joy of creating. \nAs a nonprofit\, we’re dedicated to offering adults a relaxed\, welcoming space to unwind and explore the arts with no pressure\, no expectations\, and no experience required. \nWhether you’re meeting new people\, taking time to creative \, or just craving a phone-free evening\, this is time well spent. Creating art has a powerful way of calming the mind\, boosting well-being\, and helping you feel present and this night is all about that. \nThis is a great time to work on your junk journal – or that craft you haven’t\nhad time to finish. Bring a project you’re already working on! \nWe’ll be spinning vinyl to set the vibe\, and it’s BYOB if you’d like to sip while you create.\na Studio Affair is a free community event\nHeld every 3rd Saturday of the month. \nVillage Center for the Arts is located at 12 Main Street\, New Milford\, CT \n(860) 354-4318. Visit our calendar page villagecenterarts.org \nInvite a friend\, spread the word\, and give yourself a night to unplug and create.
URL:https://newmilford-chamber.com/events/a-studio-affair-8/
LOCATION:Village Center for the Arts\, 12 Main Street\, New Milford\, CT\, 06776
CATEGORIES:Community Events,Non Profit,Open House,Special Event,Workshops/Seminars
ATTACH;FMTTYPE=image/jpeg:https://newmilford-chamber.com/wp-content/uploads/2026/02/a-StudioAffairMarch26FB.jpg
END:VEVENT
BEGIN:VEVENT
DTSTART;TZID=America/New_York:20260516T100000
DTEND;TZID=America/New_York:20260516T180000
DTSTAMP:20260423T171758
CREATED:20260423T125400Z
LAST-MODIFIED:20260423T125400Z
UID:34255-1778925600-1778954400@newmilford-chamber.com
SUMMARY:Art Fair & Tag Sale
DESCRIPTION:Art Fair & Tag Sale\nSaturday\, May 16\, from 10 AM to 6 PM\nVillage Center for the Arts\n12 Main Street\, New Milford\, CT\n(860) 354-4318 \nJoin Us for an Exciting Art Fair and Tag Sale at Village Center for the Arts!\nGet ready for a vibrant celebration of creativity! \nWe are thrilled to announce our upcoming Art Fair and Tag Sale\, taking place on Saturday\, May 16\, from 10 AM to 6 PM. \nThis is a fantastic opportunity for art lovers\, families\, and community members to come together for a day filled with inspiration and fun! Our Tag Sale will have\nArt Supplies Galore: Discover an array of supplies including brushes\, paints\, canvases\, frames\, easels\, and much more at unbeatable prices! \nArtist Village: Meet talented local artists and explore their works. Art Demos & Experiences: Engage in hands-on art demonstrations and interactive experiences suitable for all ages. \nLive Music: Enjoy the sounds of local musicians while you shop and explore.\nWe will have face painting so bring the kids for some colorful fun! \nDelicious Food Trucks: Savor a variety of tasty treats from our selection of food trucks. \nDon’t miss out on this exciting event that celebrates art and community! Mark your calendars and bring your friends and family for a day of creativity and joy. For more information\, please contact Village Center for the Arts at (860) 354-4318 or email us vca@villagecenterarts.com\nWe can’t wait to see you there! \n 
URL:https://newmilford-chamber.com/events/art-fair-tag-sale/
LOCATION:VCA – Village Center for the Arts\, 12 Main Street\, New Milford\, CT\, 06776
CATEGORIES:Community Events,Non Profit,Open House,Sale,Special Event
ATTACH;FMTTYPE=image/jpeg:https://newmilford-chamber.com/wp-content/uploads/2026/04/VCA-Tag-Sale-flyer-V1-2026.jpg
END:VEVENT
END:VCALENDAR