BEGIN:VCALENDAR
VERSION:2.0
PRODID:-//New Milford Chamber of Commerce - ECPv6.15.20//NONSGML v1.0//EN
CALSCALE:GREGORIAN
METHOD:PUBLISH
X-ORIGINAL-URL:https://newmilford-chamber.com
X-WR-CALDESC:Events for New Milford Chamber of Commerce
REFRESH-INTERVAL;VALUE=DURATION:PT1H
X-Robots-Tag:noindex
X-PUBLISHED-TTL:PT1H
BEGIN:VTIMEZONE
TZID:America/New_York
BEGIN:DAYLIGHT
TZOFFSETFROM:-0500
TZOFFSETTO:-0400
TZNAME:EDT
DTSTART:20200308T070000
END:DAYLIGHT
BEGIN:STANDARD
TZOFFSETFROM:-0400
TZOFFSETTO:-0500
TZNAME:EST
DTSTART:20201101T060000
END:STANDARD
BEGIN:DAYLIGHT
TZOFFSETFROM:-0500
TZOFFSETTO:-0400
TZNAME:EDT
DTSTART:20210314T070000
END:DAYLIGHT
BEGIN:STANDARD
TZOFFSETFROM:-0400
TZOFFSETTO:-0500
TZNAME:EST
DTSTART:20211107T060000
END:STANDARD
BEGIN:DAYLIGHT
TZOFFSETFROM:-0500
TZOFFSETTO:-0400
TZNAME:EDT
DTSTART:20220313T070000
END:DAYLIGHT
BEGIN:STANDARD
TZOFFSETFROM:-0400
TZOFFSETTO:-0500
TZNAME:EST
DTSTART:20221106T060000
END:STANDARD
END:VTIMEZONE
BEGIN:VEVENT
DTSTART;TZID=America/New_York:20210716T120000
DTEND;TZID=America/New_York:20210718T100000
DTSTAMP:20260420T130118
CREATED:20210527T130632Z
LAST-MODIFIED:20210527T130705Z
UID:14981-1626436800-1626602400@newmilford-chamber.com
SUMMARY:Campout in Harrybrooke
DESCRIPTION:We tried it last year\, and it was a true success! So the test being done\, we are extending the event to two nights. There will be a family and an adult area. We will be a bit more compact this year and arrival will be on Friday afternoon with departure on Sunday morning. The park will remain open\, but your camping areas blocked off a bit. Come join the fun!
URL:https://newmilford-chamber.com/events/campout-in-harrybrooke/
LOCATION:CT
CATEGORIES:Non Profit
END:VEVENT
BEGIN:VEVENT
DTSTART;TZID=America/New_York:20210626T150000
DTEND;TZID=America/New_York:20210626T170000
DTSTAMP:20260420T130118
CREATED:20210527T174904Z
LAST-MODIFIED:20210527T174904Z
UID:14987-1624719600-1624726800@newmilford-chamber.com
SUMMARY:Benny Carter Tribute Jazz Concert Feat. TJ Thompson Trip
DESCRIPTION:The Benny Carter Tribute Jazz concert returns this summer on Saturday\, June 26th at 7PM with Connecticut’s jazz band TJ Thompson Trio . The band has been active since 2014 performing in various clubs and pits in musical theaters throughout Connecticut. Winner of the IMEA Jazz Artist of the Year for their recent album Take Two: The Sound of Playing\, this group plays a combination of originals along with the Soul\, Blues\, and Jazz of New Orleans\, Memphis\, and beyond. We cover everything from Jelly Roll Morton\, Professor Longhair\, Thelonious Monk\, Booker T and the MG’s\, Jimi Hendrix\, The Dead\, and more. Leader T.J. Thompson performed with Betty Carter’s Jazz Ahead at the Kennedy Center for the Performing Arts in Washington\, DC\, and as a result was a featured artist on Branford Marsalis’ Jazz Set show on NPR. In 1998 he recorded and produced Thompson Trio Take One\, an album consisting mostly of original works\, which received good reviews from Goldmine and Cadence magazines. A student of both Henry Butler and George Cables\, he has opened for and worked with such artists as Henry Butler\, Mel Torme\, Ed Thigpen\, Dave Liebman\, and Koko Taylor as well as being a featured soloist on the Morgan Powell Jazz Album. He taught at St. Johnsbury Academy and Johnson State College in Vermont from 1997-2000 and since has been the Director of Instrumental Music at the Taft School\, in Watertown\, Connecticut. \nTickets are $20 Member and $25 Non-Members and must be purchased online prior to the event. The JCCS will not be selling tickets at the door to allow minimal contact and for safety of our staff and volunteers\, so tickets must be purchased in advance online . There will be a limited number of tickets available to allow for safe social distancing\, so we highly recommend you getting your tickets early as we anticipate this concert to sell out fast! For health and safety purposes there is a list of new reopening rules for outdoor events which is posted on our website. Don’t forget to bring your mask and a chair! This concert will be held outdoors. The rain date will be held on Sunday\, June 27th at 7PM! \nTickets can be purchased here: https://jcc-in-sherman.square.site/product/benny-carter-tribute-jazz-concert-feat-tj-thompson-trio-41001-ticket-sales/80?cs=true&cst=custom
URL:https://newmilford-chamber.com/events/benny-carter-tribute-jazz-concert-feat-tj-thompson-trip/
LOCATION:CT
CATEGORIES:Non Profit
END:VEVENT
END:VCALENDAR