BEGIN:VCALENDAR
VERSION:2.0
PRODID:-//New Milford Chamber of Commerce - ECPv6.15.20//NONSGML v1.0//EN
CALSCALE:GREGORIAN
METHOD:PUBLISH
X-ORIGINAL-URL:https://newmilford-chamber.com
X-WR-CALDESC:Events for New Milford Chamber of Commerce
REFRESH-INTERVAL;VALUE=DURATION:PT1H
X-Robots-Tag:noindex
X-PUBLISHED-TTL:PT1H
BEGIN:VTIMEZONE
TZID:America/New_York
BEGIN:DAYLIGHT
TZOFFSETFROM:-0500
TZOFFSETTO:-0400
TZNAME:EDT
DTSTART:20240310T070000
END:DAYLIGHT
BEGIN:STANDARD
TZOFFSETFROM:-0400
TZOFFSETTO:-0500
TZNAME:EST
DTSTART:20241103T060000
END:STANDARD
BEGIN:DAYLIGHT
TZOFFSETFROM:-0500
TZOFFSETTO:-0400
TZNAME:EDT
DTSTART:20250309T070000
END:DAYLIGHT
BEGIN:STANDARD
TZOFFSETFROM:-0400
TZOFFSETTO:-0500
TZNAME:EST
DTSTART:20251102T060000
END:STANDARD
BEGIN:DAYLIGHT
TZOFFSETFROM:-0500
TZOFFSETTO:-0400
TZNAME:EDT
DTSTART:20260308T070000
END:DAYLIGHT
BEGIN:STANDARD
TZOFFSETFROM:-0400
TZOFFSETTO:-0500
TZNAME:EST
DTSTART:20261101T060000
END:STANDARD
END:VTIMEZONE
BEGIN:VEVENT
DTSTART;TZID=America/New_York:20251101T123000
DTEND;TZID=America/New_York:20251101T153000
DTSTAMP:20260420T100554
CREATED:20251104T200643Z
LAST-MODIFIED:20251104T200644Z
UID:31039-1762000200-1762011000@newmilford-chamber.com
SUMMARY:AWS 60th Anniversary Celebration
DESCRIPTION:Join us as we celebrate 60 years of serving the community and rescuing and caring for approximately 12\,000 pets!\nThis groovy celebration will include a fab grazing table\, refreshments\, far out raffle baskets\, door prizes\, a 50/50 raffle\, and more! Wear your hippest outfit from the 60’s era (encouraged but not required) and receive an additional door prize ticket. It will be outta sight! \nFor more information\, visit www.aws-shelter.org
URL:https://newmilford-chamber.com/events/aws-60th-anniversary-celebration/
LOCATION:The Silo\, 44 Upland Road\, New Milford\, CT\, 06776
CATEGORIES:Non Profit
ATTACH;FMTTYPE=image/jpeg:https://newmilford-chamber.com/wp-content/uploads/2025/10/IMG_1426.jpeg
ORGANIZER;CN="Animal Welfare Society":MAILTO:awanm.president@gmail.com
END:VEVENT
END:VCALENDAR