BEGIN:VCALENDAR
VERSION:2.0
PRODID:-//New Milford Chamber of Commerce - ECPv6.15.20//NONSGML v1.0//EN
CALSCALE:GREGORIAN
METHOD:PUBLISH
X-ORIGINAL-URL:https://newmilford-chamber.com
X-WR-CALDESC:Events for New Milford Chamber of Commerce
REFRESH-INTERVAL;VALUE=DURATION:PT1H
X-Robots-Tag:noindex
X-PUBLISHED-TTL:PT1H
BEGIN:VTIMEZONE
TZID:America/New_York
BEGIN:DAYLIGHT
TZOFFSETFROM:-0500
TZOFFSETTO:-0400
TZNAME:EDT
DTSTART:20240310T070000
END:DAYLIGHT
BEGIN:STANDARD
TZOFFSETFROM:-0400
TZOFFSETTO:-0500
TZNAME:EST
DTSTART:20241103T060000
END:STANDARD
BEGIN:DAYLIGHT
TZOFFSETFROM:-0500
TZOFFSETTO:-0400
TZNAME:EDT
DTSTART:20250309T070000
END:DAYLIGHT
BEGIN:STANDARD
TZOFFSETFROM:-0400
TZOFFSETTO:-0500
TZNAME:EST
DTSTART:20251102T060000
END:STANDARD
BEGIN:DAYLIGHT
TZOFFSETFROM:-0500
TZOFFSETTO:-0400
TZNAME:EDT
DTSTART:20260308T070000
END:DAYLIGHT
BEGIN:STANDARD
TZOFFSETFROM:-0400
TZOFFSETTO:-0500
TZNAME:EST
DTSTART:20261101T060000
END:STANDARD
END:VTIMEZONE
BEGIN:VEVENT
DTSTART;TZID=America/New_York:20250801T050000
DTEND;TZID=America/New_York:20250801T070000
DTSTAMP:20260420T190405
CREATED:20250617T202625Z
LAST-MODIFIED:20250617T202627Z
UID:27881-1754024400-1754031600@newmilford-chamber.com
SUMMARY:1ST FRIDAY HIKE @ Deer Pond Farm
DESCRIPTION:Ready for a mini adventure? Hit the trails with our awesome Volunteer Guides on a 2–3-mile hike at Deer Pond Farm! We’ll wander through meadows\, listen to birds in the forest\, and maybe even spot a few surprises along the way. It’s an easy-to-moderate hike with maximum good vibes—perfect for nature lovers! Register here.\nThis program meets at Deer Pond Farm\, 57 Wakeman Hill Road\, Sherman\, CT 06784.
URL:https://newmilford-chamber.com/events/1st-friday-hike-deer-pond-farm/
LOCATION:Deer Pond Nature Preserve\, 57 Wakeman Hill Rd.\, Sherman\, CT\, 06784\, United States
CATEGORIES:Community Events,Non Profit,Special Event
ATTACH;FMTTYPE=image/jpeg:https://newmilford-chamber.com/wp-content/uploads/2025/06/Hiking-1.jpg
ORGANIZER;CN="Connecticut Audubon Society at Deer Pond Farm":MAILTO:chagadorn@ctaudubon.org
END:VEVENT
END:VCALENDAR