BEGIN:VCALENDAR
VERSION:2.0
PRODID:-//New Milford Chamber of Commerce - ECPv6.15.20//NONSGML v1.0//EN
CALSCALE:GREGORIAN
METHOD:PUBLISH
X-ORIGINAL-URL:https://newmilford-chamber.com
X-WR-CALDESC:Events for New Milford Chamber of Commerce
REFRESH-INTERVAL;VALUE=DURATION:PT1H
X-Robots-Tag:noindex
X-PUBLISHED-TTL:PT1H
BEGIN:VTIMEZONE
TZID:America/New_York
BEGIN:DAYLIGHT
TZOFFSETFROM:-0500
TZOFFSETTO:-0400
TZNAME:EDT
DTSTART:20240310T070000
END:DAYLIGHT
BEGIN:STANDARD
TZOFFSETFROM:-0400
TZOFFSETTO:-0500
TZNAME:EST
DTSTART:20241103T060000
END:STANDARD
BEGIN:DAYLIGHT
TZOFFSETFROM:-0500
TZOFFSETTO:-0400
TZNAME:EDT
DTSTART:20250309T070000
END:DAYLIGHT
BEGIN:STANDARD
TZOFFSETFROM:-0400
TZOFFSETTO:-0500
TZNAME:EST
DTSTART:20251102T060000
END:STANDARD
BEGIN:DAYLIGHT
TZOFFSETFROM:-0500
TZOFFSETTO:-0400
TZNAME:EDT
DTSTART:20260308T070000
END:DAYLIGHT
BEGIN:STANDARD
TZOFFSETFROM:-0400
TZOFFSETTO:-0500
TZNAME:EST
DTSTART:20261101T060000
END:STANDARD
END:VTIMEZONE
BEGIN:VEVENT
DTSTART;TZID=America/New_York:20250629T090000
DTEND;TZID=America/New_York:20250629T170000
DTSTAMP:20260420T204941
CREATED:20250623T220759Z
LAST-MODIFIED:20250623T221133Z
UID:28019-1751187600-1751216400@newmilford-chamber.com
SUMMARY:Dining for a Cause Fundraiser for The Scotty Fund
DESCRIPTION:📣 This Sunday! Join us at Portofino Restaurant & Wine Bar in Bethel\, CT for a special Fundraiser benefiting The Scotty Fund 💚 \nCome for the food & wine 🍷 — stay for the impact 🙌Every dollar helps support local families in need. Let’s make a difference together! \n🗓️ Date: This Sunday📍 Location: Portofino Restaurant & Wine Bar\, Bethel\, CT🎯 Cause: The Scotty Fund \nThe SCOTTY Fund Provides financial and family services to ill children in Bethel and the greater Danbury area of CT. \n(Bethel\, Danbury\, Brookfield\, Easton\, Newtown\, New Milford\, New Faifield\, Redding\, Ridgefield)
URL:https://newmilford-chamber.com/events/dining-for-a-cause-fundraiser-for-the-scotty-fund/
LOCATION:Portofino Restaurant & Wine Bar Bethel CT\, 213 Greenwood Ave. (Dolan Plaza)\, Bethel\, CT\, 06801\, United States
CATEGORIES:Non Profit,Special Event
ATTACH;FMTTYPE=image/png:https://newmilford-chamber.com/wp-content/uploads/2025/06/Portofino-Scotty-Fundraiser-Social-Media-Size-LCyr-060625-1.png
ORGANIZER;CN="Scotty Fund":MAILTO:scottyfund@gmail.com
END:VEVENT
END:VCALENDAR