BEGIN:VCALENDAR
VERSION:2.0
PRODID:-//New Milford Chamber of Commerce - ECPv6.15.20//NONSGML v1.0//EN
CALSCALE:GREGORIAN
METHOD:PUBLISH
X-WR-CALNAME:New Milford Chamber of Commerce
X-ORIGINAL-URL:https://newmilford-chamber.com
X-WR-CALDESC:Events for New Milford Chamber of Commerce
REFRESH-INTERVAL;VALUE=DURATION:PT1H
X-Robots-Tag:noindex
X-PUBLISHED-TTL:PT1H
BEGIN:VTIMEZONE
TZID:America/New_York
BEGIN:DAYLIGHT
TZOFFSETFROM:-0500
TZOFFSETTO:-0400
TZNAME:EDT
DTSTART:20240310T070000
END:DAYLIGHT
BEGIN:STANDARD
TZOFFSETFROM:-0400
TZOFFSETTO:-0500
TZNAME:EST
DTSTART:20241103T060000
END:STANDARD
BEGIN:DAYLIGHT
TZOFFSETFROM:-0500
TZOFFSETTO:-0400
TZNAME:EDT
DTSTART:20250309T070000
END:DAYLIGHT
BEGIN:STANDARD
TZOFFSETFROM:-0400
TZOFFSETTO:-0500
TZNAME:EST
DTSTART:20251102T060000
END:STANDARD
BEGIN:DAYLIGHT
TZOFFSETFROM:-0500
TZOFFSETTO:-0400
TZNAME:EDT
DTSTART:20260308T070000
END:DAYLIGHT
BEGIN:STANDARD
TZOFFSETFROM:-0400
TZOFFSETTO:-0500
TZNAME:EST
DTSTART:20261101T060000
END:STANDARD
END:VTIMEZONE
BEGIN:VEVENT
DTSTART;TZID=America/New_York:20250531T050000
DTEND;TZID=America/New_York:20250531T090000
DTSTAMP:20260420T233056
CREATED:20250514T230436Z
LAST-MODIFIED:20250514T230436Z
UID:26369-1748667600-1748682000@newmilford-chamber.com
SUMMARY:Annual Garden Club Plant Sale Extravanganza
DESCRIPTION:Welcome to our much-anticipated Annual Plant Sale! This event is the perfect opportunity for all plant enthusiasts\, from beginners to seasoned gardeners\, to explore an incredible selection of greenery at unbeatable prices. Here’s what you can expect: \nBargain Prices\nDon’t miss out on our exclusive deals! Our plant sale offers bargain prices that make it easy and affordable to spruce up your garden or home. Whether you’re looking to add a splash of color with annuals or invest in long-term beauty with perennials\, you’ll find fantastic savings here. \nExpert Advice\nNeed help choosing the right plants or understanding how to care for them? Our team of gardening experts will be on hand to provide insightful advice and tips. Whether you’re curious about soil types\, sunlight needs\, or watering schedules\, our knowledgeable staff is ready to assist you. \nVariety of Plants\nExplore a diverse selection of plants tailored to meet all your gardening needs: \nAnnuals: Perfect for adding vibrant color and variety to your garden each year. \nPerennials: Ideal for those seeking plants that come back stronger year after year. \nVegetables: Start your own homegrown vegetable garden with our selection of healthy seedlings. \nHouseplants: Bring the outdoors in with a wide range of houseplants that will enhance your indoor spaces. \nOur Annual Plant Sale is more than just a shopping trip; it’s an experience that offers inspiration and education for all plant lovers. We look forward to seeing you there and helping you grow your green thumb!
URL:https://newmilford-chamber.com/events/annual-garden-club-plant-sale-extravanganza/
LOCATION:New Milford Green\, Main Street\, New Milford\, CT
CATEGORIES:Non Profit
ATTACH;FMTTYPE=image/jpeg:https://newmilford-chamber.com/wp-content/uploads/2025/03/Peonies-1.jpg
ORGANIZER;CN="The Garden Club of New Milford":MAILTO:nmgardenclub@gmail.com
END:VEVENT
END:VCALENDAR