BEGIN:VCALENDAR
VERSION:2.0
PRODID:-//New Milford Chamber of Commerce - ECPv6.15.20//NONSGML v1.0//EN
CALSCALE:GREGORIAN
METHOD:PUBLISH
X-ORIGINAL-URL:https://newmilford-chamber.com
X-WR-CALDESC:Events for New Milford Chamber of Commerce
REFRESH-INTERVAL;VALUE=DURATION:PT1H
X-Robots-Tag:noindex
X-PUBLISHED-TTL:PT1H
BEGIN:VTIMEZONE
TZID:America/New_York
BEGIN:DAYLIGHT
TZOFFSETFROM:-0500
TZOFFSETTO:-0400
TZNAME:EDT
DTSTART:20240310T070000
END:DAYLIGHT
BEGIN:STANDARD
TZOFFSETFROM:-0400
TZOFFSETTO:-0500
TZNAME:EST
DTSTART:20241103T060000
END:STANDARD
BEGIN:DAYLIGHT
TZOFFSETFROM:-0500
TZOFFSETTO:-0400
TZNAME:EDT
DTSTART:20250309T070000
END:DAYLIGHT
BEGIN:STANDARD
TZOFFSETFROM:-0400
TZOFFSETTO:-0500
TZNAME:EST
DTSTART:20251102T060000
END:STANDARD
BEGIN:DAYLIGHT
TZOFFSETFROM:-0500
TZOFFSETTO:-0400
TZNAME:EDT
DTSTART:20260308T070000
END:DAYLIGHT
BEGIN:STANDARD
TZOFFSETFROM:-0400
TZOFFSETTO:-0500
TZNAME:EST
DTSTART:20261101T060000
END:STANDARD
END:VTIMEZONE
BEGIN:VEVENT
DTSTART;TZID=America/New_York:20250416T070000
DTEND;TZID=America/New_York:20250430T140000
DTSTAMP:20260421T005332
CREATED:20250424T213130Z
LAST-MODIFIED:20250424T213130Z
UID:26901-1744786800-1746021600@newmilford-chamber.com
SUMMARY:Gallery Show
DESCRIPTION:Join us in welcoming Christina Maschke to our gallery for the month of April.\nHer Stunning Artwork to Be Displayed at Village Center for the Arts. \nVillage Center for the Arts\, located at 12 Main Street\, New Milford\, CT is proud to announce the upcoming exhibition of local artist Christina Maschke’s captivating works\, set to be on display throughout the month of April. Christina’s unique and thought-provoking pieces\, in colored pencil\, will be showcased in a solo exhibit that invites viewers to explore the powerful intersections of emotion\, nature\, and animal portraits.Christina Maschke’s work has long been celebrated for its vibrant color palettes\, highly detailed drawings\, and evocative storytelling. She captures animals with emotion and soul. Christina’s art resonates with audiences on both an emotional and intellectual level with her realistic pet portraits\, still life\, and landscapes. This exhibition marks an exciting opportunity to experience her latest pieces in person and engage with the artist herself during the opening. Christina Maschke is an active member of the Sherman Artists Association. Exhibition Dates: April 5th – April 30th\nTuesday to Saturday: 11:00AM-6:00PM\nSunday: 12:00-5:00PM\nClosed Mondays\nAdmission is free and all are welcome. \n(860) 354-4318
URL:https://newmilford-chamber.com/events/gallery-show-2/
LOCATION:Village Center for the Arts\, 12 Main Street\, New Milford\, CT\, 06776
CATEGORIES:Community Events,Non Profit
ATTACH;FMTTYPE=image/png:https://newmilford-chamber.com/wp-content/uploads/2025/04/ChristinamaschkeAPRIL-3-x-4-in-1.png
END:VEVENT
BEGIN:VEVENT
DTSTART;TZID=America/New_York:20250425T033000
DTEND;TZID=America/New_York:20250425T050000
DTSTAMP:20260421T005332
CREATED:20250318T200433Z
LAST-MODIFIED:20250318T200433Z
UID:26050-1745551800-1745557200@newmilford-chamber.com
SUMMARY:Please Join Us at RVNAhealth’s 24th Annual Spring Breakfast!
DESCRIPTION:Please Join Us at RVNAhealth’s 24th Annual Spring Breakfast! \nWe hope to see you at our Annual Spring Breakfast on Friday\, April 25th\, 7:30am at The Amber Room Colonnade in Danbury\, CT. The morning will include not only a delicious breakfast but also exciting auction items\, great raffle prizes\, and an inspiring impact speaker. \nEach year\, the Spring Breakfast brings together 400+ local business leaders\, medical professionals\, community groups\, and RVNAhealth supporters to welcome spring and raise funds critical to patient care and program support. Funds raised allow RVNAhealth to care for patients and clients regardless of age\, diagnosis\, or financial circumstances and have a lasting impact on the lives of those served as well as their families. It is an inspiring morning and a great way to start the day! \nThe Board of Directors\, Spring Breakfast Committee\, and friends of the organization look forward to celebrating the meaningful work of RVNAhealth and the continuum of care the agency provides throughout 35+ Connecticut communities. \nWe warmly welcome you to become a sponsor or host a table at this year’s event\, and we extend our heartfelt thank you to those who are already generously sponsoring the RVNAhealth Spring Breakfast 2025. \nYou may purchase sponsorships or tables online at RVNAhealth.org or contact Taylor Price at 203.438.5555\, x1018 or tprice@rvnahealth.org.
URL:https://newmilford-chamber.com/events/please-join-us-at-rvnahealths-24th-annual-spring-breakfast/
LOCATION:The Amber Room Colonnade\, 1 Stacey Road\, Danbury\, CT
CATEGORIES:Community Events,Non Profit,Special Event
ATTACH;FMTTYPE=image/png:https://newmilford-chamber.com/wp-content/uploads/2025/03/Spring-Breakfast-2025-website-banner-1.png
ORGANIZER;CN="RVNAhealth":MAILTO:tprice@rvnahealth.org.
END:VEVENT
END:VCALENDAR