BEGIN:VCALENDAR
VERSION:2.0
PRODID:-//New Milford Chamber of Commerce - ECPv6.15.20//NONSGML v1.0//EN
CALSCALE:GREGORIAN
METHOD:PUBLISH
X-WR-CALNAME:New Milford Chamber of Commerce
X-ORIGINAL-URL:https://newmilford-chamber.com
X-WR-CALDESC:Events for New Milford Chamber of Commerce
REFRESH-INTERVAL;VALUE=DURATION:PT1H
X-Robots-Tag:noindex
X-PUBLISHED-TTL:PT1H
BEGIN:VTIMEZONE
TZID:America/New_York
BEGIN:DAYLIGHT
TZOFFSETFROM:-0500
TZOFFSETTO:-0400
TZNAME:EDT
DTSTART:20240310T070000
END:DAYLIGHT
BEGIN:STANDARD
TZOFFSETFROM:-0400
TZOFFSETTO:-0500
TZNAME:EST
DTSTART:20241103T060000
END:STANDARD
BEGIN:DAYLIGHT
TZOFFSETFROM:-0500
TZOFFSETTO:-0400
TZNAME:EDT
DTSTART:20250309T070000
END:DAYLIGHT
BEGIN:STANDARD
TZOFFSETFROM:-0400
TZOFFSETTO:-0500
TZNAME:EST
DTSTART:20251102T060000
END:STANDARD
BEGIN:DAYLIGHT
TZOFFSETFROM:-0500
TZOFFSETTO:-0400
TZNAME:EDT
DTSTART:20260308T070000
END:DAYLIGHT
BEGIN:STANDARD
TZOFFSETFROM:-0400
TZOFFSETTO:-0500
TZNAME:EST
DTSTART:20261101T060000
END:STANDARD
END:VTIMEZONE
BEGIN:VEVENT
DTSTART;VALUE=DATE:20250410
DTEND;VALUE=DATE:20250414
DTSTAMP:20260421T005055
CREATED:20250404T180334Z
LAST-MODIFIED:20250404T180335Z
UID:26667-1744315200-1744574399@newmilford-chamber.com
SUMMARY:8th Annual Spring Arts and Fine Crafts Show
DESCRIPTION:The historic Merwinsville Hotel invites you to our 8th Annual SPRING ARTS & FINE CRAFTS SHOW. Join us as we celebrate spring with a spectacular variety of locally created original paintings\, photography\, jewelry\, glasswork\, pottery\, woodturning\, and more. You won’t want to miss our live artist demonstrations and locally grown delights.  \n$3 suggested donation – members & children under 10 free.  \nWe accept all major Credit Cards\, Mobile Payment and Contactless Pay.  \nLive Artist demonstrations by local artists and artisans! Head to our website (listed below) to see the demo schedule which will be available as we get closer to the spring show. A portion of all proceeds goes to the continued restoration of this historic 1843 railroad hotel. (501c(3) entity)  \nFor more information: www.Merwinsvillehotel.org. Inquiries: merwinsvilleartshows@gmail.com  \nConveniently located 15 minutes from New Milford\,  \nKent\, Sherman\, & Harlem Valley/Wingdale Railroad Station.  \n1 Browns Forge Road\, Gaylordsville\, CT 06755  \n860.350.4443
URL:https://newmilford-chamber.com/events/8th-annual-spring-arts-and-fine-crafts-show-2/
LOCATION:Merwinsville Hotel\, 1 Browns Forge Rd.\, Gaylordsville\,\, CT\, 06755
CATEGORIES:Community Events,Non Profit,Open House,Sale,Special Event
ATTACH;FMTTYPE=image/png:https://newmilford-chamber.com/wp-content/uploads/2025/04/Picture1-1.png
END:VEVENT
BEGIN:VEVENT
DTSTART;TZID=America/New_York:20250411T040000
DTEND;TZID=America/New_York:20250411T060000
DTSTAMP:20260421T005055
CREATED:20250409T192756Z
LAST-MODIFIED:20250409T192811Z
UID:26803-1744344000-1744351200@newmilford-chamber.com
SUMMARY:Community Breakfast
DESCRIPTION:Join us for a hot buffet breakfast celebrating the New Milford Community and benefitting The Wheels Program of Greater New Milford
URL:https://newmilford-chamber.com/events/community-breakfast/
LOCATION:El Rinconcito\, 43 Main Street\, New Milford\, 06776\, United States
CATEGORIES:Non Profit
ATTACH;FMTTYPE=image/jpeg:https://newmilford-chamber.com/wp-content/uploads/2025/04/wheels-breakfast-1.jpg
ORGANIZER;CN="Wheels of Greater New Milford":MAILTO:Jennifer@wheelsofnewmilford.org
END:VEVENT
BEGIN:VEVENT
DTSTART;TZID=America/New_York:20250411T060000
DTEND;TZID=America/New_York:20250411T130000
DTSTAMP:20260421T005055
CREATED:20250329T173503Z
LAST-MODIFIED:20250329T175905Z
UID:26381-1744351200-1744376400@newmilford-chamber.com
SUMMARY:A Weekend in the Life - Prints of the BandStand for Sale
DESCRIPTION:Commemorative Prints \nAdding to the weekend’s festivities\, local artist and Garden Club member Andrea Price Johnson has created beautiful commemorative prints for sale. These prints are a perfect keepsake for fans of the show and for community members who love the New Milford BandStand. \nDetails of the Commemorative Prints \nArtist: Andrea Price Johnson\nSize: 5 x 7 inches\nMat: 8 x 10 inches \nSupporting a Local nonprofit and Community Spirit \nThe Garden Club of New Milford will sell 5 X 7 matted prints of a watercolor illustration of the BandStand by Andrea Price-Johnson. \nPrints will be available for purchase on the Green the weekend of April 11-13th. \n11th- 10:00 am – 5:00 pm \n12th 8:00 am – 7:00 pm \n13th – NOON – 4:00 pm
URL:https://newmilford-chamber.com/events/a-weekend-in-the-life-prints-of-the-bandstand-for-sale/
LOCATION:New Milford Green\, Main Street\, New Milford\, CT
CATEGORIES:Non Profit
ATTACH;FMTTYPE=image/jpeg:https://newmilford-chamber.com/wp-content/uploads/2025/03/Picture1.jpg
ORGANIZER;CN="The Garden Club of New Milford":MAILTO:nmgardenclub@gmail.com
END:VEVENT
END:VCALENDAR