BEGIN:VCALENDAR
VERSION:2.0
PRODID:-//New Milford Chamber of Commerce - ECPv6.15.20//NONSGML v1.0//EN
CALSCALE:GREGORIAN
METHOD:PUBLISH
X-ORIGINAL-URL:https://newmilford-chamber.com
X-WR-CALDESC:Events for New Milford Chamber of Commerce
REFRESH-INTERVAL;VALUE=DURATION:PT1H
X-Robots-Tag:noindex
X-PUBLISHED-TTL:PT1H
BEGIN:VTIMEZONE
TZID:America/New_York
BEGIN:DAYLIGHT
TZOFFSETFROM:-0500
TZOFFSETTO:-0400
TZNAME:EDT
DTSTART:20230312T070000
END:DAYLIGHT
BEGIN:STANDARD
TZOFFSETFROM:-0400
TZOFFSETTO:-0500
TZNAME:EST
DTSTART:20231105T060000
END:STANDARD
BEGIN:DAYLIGHT
TZOFFSETFROM:-0500
TZOFFSETTO:-0400
TZNAME:EDT
DTSTART:20240310T070000
END:DAYLIGHT
BEGIN:STANDARD
TZOFFSETFROM:-0400
TZOFFSETTO:-0500
TZNAME:EST
DTSTART:20241103T060000
END:STANDARD
BEGIN:DAYLIGHT
TZOFFSETFROM:-0500
TZOFFSETTO:-0400
TZNAME:EDT
DTSTART:20250309T070000
END:DAYLIGHT
BEGIN:STANDARD
TZOFFSETFROM:-0400
TZOFFSETTO:-0500
TZNAME:EST
DTSTART:20251102T060000
END:STANDARD
END:VTIMEZONE
BEGIN:VEVENT
DTSTART;TZID=America/New_York:20241120T050000
DTEND;TZID=America/New_York:20241120T070000
DTSTAMP:20260423T074050
CREATED:20241028T181842Z
LAST-MODIFIED:20241028T181842Z
UID:23958-1732078800-1732086000@newmilford-chamber.com
SUMMARY:Evergreen Walk & Selecting Your Holiday Tree
DESCRIPTION:Deer Pond Farm has many native evergreens around our main campus. Some species you will see are white pine\, hemlock\, concolor fir\, Christmas fern\, and holly. Lori Lichtenauer\, Sanctuary Manger / Naturalist and CT state certified forester will lead this guided walk to review the importance of evergreens as shelter and food for many animals. She will also review what to look for and avoid when shopping for your holiday tree at a local farm\, nursery\, or tree stand.
URL:https://newmilford-chamber.com/events/evergreen-walk-selecting-your-holiday-tree/
LOCATION:Deer Pond Nature Preserve\, 57 Wakeman Hill Rd.\, Sherman\, CT\, 06784\, United States
CATEGORIES:chamber/Community Event,Community Events,Non Profit
ATTACH;FMTTYPE=image/jpeg:https://newmilford-chamber.com/wp-content/uploads/2024/10/IMG_2446-scaled.jpg
ORGANIZER;CN="Connecticut Audubon Society's Deer Pond Farm":MAILTO:chagadorn@ctaudubon.org
END:VEVENT
END:VCALENDAR