BEGIN:VCALENDAR
VERSION:2.0
PRODID:-//New Milford Chamber of Commerce - ECPv6.15.20//NONSGML v1.0//EN
CALSCALE:GREGORIAN
METHOD:PUBLISH
X-ORIGINAL-URL:https://newmilford-chamber.com
X-WR-CALDESC:Events for New Milford Chamber of Commerce
REFRESH-INTERVAL;VALUE=DURATION:PT1H
X-Robots-Tag:noindex
X-PUBLISHED-TTL:PT1H
BEGIN:VTIMEZONE
TZID:America/New_York
BEGIN:DAYLIGHT
TZOFFSETFROM:-0500
TZOFFSETTO:-0400
TZNAME:EDT
DTSTART:20230312T070000
END:DAYLIGHT
BEGIN:STANDARD
TZOFFSETFROM:-0400
TZOFFSETTO:-0500
TZNAME:EST
DTSTART:20231105T060000
END:STANDARD
BEGIN:DAYLIGHT
TZOFFSETFROM:-0500
TZOFFSETTO:-0400
TZNAME:EDT
DTSTART:20240310T070000
END:DAYLIGHT
BEGIN:STANDARD
TZOFFSETFROM:-0400
TZOFFSETTO:-0500
TZNAME:EST
DTSTART:20241103T060000
END:STANDARD
BEGIN:DAYLIGHT
TZOFFSETFROM:-0500
TZOFFSETTO:-0400
TZNAME:EDT
DTSTART:20250309T070000
END:DAYLIGHT
BEGIN:STANDARD
TZOFFSETFROM:-0400
TZOFFSETTO:-0500
TZNAME:EST
DTSTART:20251102T060000
END:STANDARD
END:VTIMEZONE
BEGIN:VEVENT
DTSTART;TZID=America/New_York:20241109T050000
DTEND;TZID=America/New_York:20241109T070000
DTSTAMP:20260423T092640
CREATED:20241028T182009Z
LAST-MODIFIED:20241028T182009Z
UID:23946-1731128400-1731135600@newmilford-chamber.com
SUMMARY:November Second Saturday Hike (fast pace)
DESCRIPTION:Looking for a challenge? Enjoy the thrill of a brisk hike at Deer Pond Farm in the crisp autumn air! This 4–5-mile hike (2-2.5- mile per hour pace) will be led by volunteer Peggy Stewart. This hike has some gradual climbs and we’ll be stepping it out. Come dressed for the weather.
URL:https://newmilford-chamber.com/events/november-second-saturday-hike-fast-pace/
LOCATION:Deer Pond Nature Preserve\, 57 Wakeman Hill Rd.\, Sherman\, CT\, 06784\, United States
CATEGORIES:chamber/Community Event,Community Events,Non Profit
ATTACH;FMTTYPE=image/png:https://newmilford-chamber.com/wp-content/uploads/2024/10/Nov9Hike.png
ORGANIZER;CN="Connecticut Audubon Society's Deer Pond Farm":MAILTO:chagadorn@ctaudubon.org
END:VEVENT
BEGIN:VEVENT
DTSTART;TZID=America/New_York:20241109T050000
DTEND;TZID=America/New_York:20241109T080000
DTSTAMP:20260423T092640
CREATED:20241024T195424Z
LAST-MODIFIED:20241024T195424Z
UID:23906-1731128400-1731139200@newmilford-chamber.com
SUMMARY:New Milford Rotary Shredding Event\, November 9th
DESCRIPTION:New Milford Rotary Shredding event\, Saturday\, November 9th\, 10:00 am to 1:00 pm\nHeld in the New Milford Senior Center parking lot\, 40 Main Street\, New Milford.\nDrive up & we do the rest! Safe & Secure Shredding – watch your papers go into the shredding truck!\nOpen to ALL! Businesses\, too!\n$10 per box or bag. All profit is used to support New Milford nonprofits.\nFor more info\, visit nmrotary.org or call Katy at 860-354-7137.
URL:https://newmilford-chamber.com/events/new-milford-rotary-shredding-event-november-9th/
LOCATION:New Milford Senior Center\, 40 Main Street\, New Milford\, CT\, 06776
CATEGORIES:Community Events,Non Profit
ATTACH;FMTTYPE=image/jpeg:https://newmilford-chamber.com/wp-content/uploads/2024/10/white-with-red-border-rotary-shred-day-nov-9-2024-sr-ctr.jpg
END:VEVENT
END:VCALENDAR