BEGIN:VCALENDAR
VERSION:2.0
PRODID:-//New Milford Chamber of Commerce - ECPv6.15.20//NONSGML v1.0//EN
CALSCALE:GREGORIAN
METHOD:PUBLISH
X-WR-CALNAME:New Milford Chamber of Commerce
X-ORIGINAL-URL:https://newmilford-chamber.com
X-WR-CALDESC:Events for New Milford Chamber of Commerce
REFRESH-INTERVAL;VALUE=DURATION:PT1H
X-Robots-Tag:noindex
X-PUBLISHED-TTL:PT1H
BEGIN:VTIMEZONE
TZID:America/New_York
BEGIN:DAYLIGHT
TZOFFSETFROM:-0500
TZOFFSETTO:-0400
TZNAME:EDT
DTSTART:20240310T070000
END:DAYLIGHT
BEGIN:STANDARD
TZOFFSETFROM:-0400
TZOFFSETTO:-0500
TZNAME:EST
DTSTART:20241103T060000
END:STANDARD
BEGIN:DAYLIGHT
TZOFFSETFROM:-0500
TZOFFSETTO:-0400
TZNAME:EDT
DTSTART:20250309T070000
END:DAYLIGHT
BEGIN:STANDARD
TZOFFSETFROM:-0400
TZOFFSETTO:-0500
TZNAME:EST
DTSTART:20251102T060000
END:STANDARD
BEGIN:DAYLIGHT
TZOFFSETFROM:-0500
TZOFFSETTO:-0400
TZNAME:EDT
DTSTART:20260308T070000
END:DAYLIGHT
BEGIN:STANDARD
TZOFFSETFROM:-0400
TZOFFSETTO:-0500
TZNAME:EST
DTSTART:20261101T060000
END:STANDARD
END:VTIMEZONE
BEGIN:VEVENT
DTSTART;TZID=America/New_York:20251003T060000
DTEND;TZID=America/New_York:20251003T080000
DTSTAMP:20260420T135630
CREATED:20250807T214740Z
LAST-MODIFIED:20250807T214740Z
UID:28389-1759471200-1759478400@newmilford-chamber.com
SUMMARY:First Friday Hike @ Deer Pond Farm in Sherman
DESCRIPTION:Join us for the First Friday Hike led by our dedicated volunteer guides. We’ll explore the trails together and enjoy the sights and sounds of early fall. It’s a great way to spend time outdoors and connect with nature. To register for the October First Friday Hike\, visit https://www.ctaudubon.org/2025/07/register-october-first-friday-hike/ 
URL:https://newmilford-chamber.com/events/first-friday-hike-deer-pond-farm-in-sherman-3/
LOCATION:Deer Pond Nature Preserve\, 57 Wakeman Hill Rd.\, Sherman\, CT\, 06784\, United States
CATEGORIES:Community Events,Non Profit,Special Event
ATTACH;FMTTYPE=image/jpeg:https://newmilford-chamber.com/wp-content/uploads/2025/08/Fall-Hike.jpg
ORGANIZER;CN="Connecticut Audubon Society at Deer Pond Farm":MAILTO:chagadorn@ctaudubon.org
END:VEVENT
BEGIN:VEVENT
DTSTART;TZID=America/New_York:20251004T130000
DTEND;TZID=America/New_York:20251004T150000
DTSTAMP:20260420T135630
CREATED:20250910T223153Z
LAST-MODIFIED:20250910T223153Z
UID:29565-1759582800-1759590000@newmilford-chamber.com
SUMMARY:Clay Play
DESCRIPTION:Clay Play\nSaturday: October 4th or November 8th\n1:00 – 3:00PM\nGrab your friends and have fun with clay! This class is for all ages!\n(7 and under can sit on parents lap)\nThis is your chance to try the pottery wheel and get your hands in some clay.\nWe show you how\, then you get on the wheel right away. This class is perfect for all ages—little ones are welcome to sit on their parent’s lap and join the fun.$50 ea.\nEach date is the start of a new class.\nPre-registration is required.\nNeeds a minimum of 4 people to run this class.\nVillage Center for the Arts\n12 Main Street\, New Milford\, CT\n(860) 354-4318 \nhttps://www.villagecenterarts.org/eventscalendar \n 
URL:https://newmilford-chamber.com/events/clay-play-3/
LOCATION:Village Center for the Arts\, 12 Main Street\, New Milford\, CT\, 06776
CATEGORIES:Non Profit,Special Event
ATTACH;FMTTYPE=image/png:https://newmilford-chamber.com/wp-content/uploads/2025/09/Clay-Play-OctNov25-FB.png
END:VEVENT
BEGIN:VEVENT
DTSTART;TZID=America/New_York:20251004T160000
DTEND;TZID=America/New_York:20251004T180000
DTSTAMP:20260420T135630
CREATED:20251001T160131Z
LAST-MODIFIED:20251001T160131Z
UID:30760-1759593600-1759600800@newmilford-chamber.com
SUMMARY:
DESCRIPTION: New Milford River Run 5K & Kids’ Superhero Sprint – Benefiting The Ostomy Foundation Saturday\, October 4 | 4:00 PM – 6:00 PM Young’s Field\, New Milford\, CT Held during New Milford RiverFest\n Lace up and join us for the 5th Annual New Milford River Run 5K!Support The Ostomy Foundation\, enjoy the beautiful Housatonic River views\, and challenge yourself on a fast\, flat\, USATF-certified course (CT18028JHP) — ideal for runners aiming for a PR and walkers looking to move for a cause.\n 5K starts at 4:30 PM Walkers welcome! Medals and prizes awarded on the main stage at 5:45 PM Stick around or show up early for RiverFest’s live music\, food trucks & festivities!\n Kids’ Superhero Sprint – Starts at 4:00 PMA fun and festive dash for kids 10 & under with medals\, treat bags\, and prizes for our little heroes! Just $5 per child – Costumes encouraged!\n REGISTER BELOW NOWEarly sign-up encouraged – spots fill fast!\n Professionally timed by iRunCT All proceeds benefit The Ostomy Foundation\, supporting ostomates\, educational programs and raising awareness nationwide.\n Bring your energy\, your friends\, and your capes – it’s a race for a cause and a day of celebration you don’t want to miss!
URL:https://newmilford-chamber.com/events/30760/
LOCATION:RiverFest at Young’s Field
CATEGORIES:Community Events,Non Profit,Special Event
ORGANIZER;CN="Ostomy Foundation":MAILTO:info@ostomyfoundation.org
END:VEVENT
BEGIN:VEVENT
DTSTART;TZID=America/New_York:20251010T183000
DTEND;TZID=America/New_York:20251010T203000
DTSTAMP:20260420T135630
CREATED:20250916T182128Z
LAST-MODIFIED:20250916T182128Z
UID:29722-1760121000-1760128200@newmilford-chamber.com
SUMMARY:Gala Preview Party - Autumn Arts & Fine Crafts Show
DESCRIPTION:Want to be the among the first to browse our amazing selection of artwork and fine crafts before we open to the public? Love live music and delicious food? Then you’ll want to join us for our Opening Preview Gala on Friday\, October 10th from 6:30 pm – 8:30 pm. Enjoy live music from Mama Train\, hors d’oeuvres\, desserts\, and drinks\, all for only $35 at the door or $30 prepaid (Merwinsville Hotel Members pay $20). Many artists will be available to discuss their work. It’s a night you don’t want to miss!
URL:https://newmilford-chamber.com/events/gala-preview-party-autumn-arts-fine-crafts-show/
LOCATION:Merwinsville Hotel\, 1 Browns Forge Rd.\, Gaylordsville\,\, CT\, 06755
CATEGORIES:Non Profit,Special Event
END:VEVENT
BEGIN:VEVENT
DTSTART;TZID=America/New_York:20251011T100000
DTEND;TZID=America/New_York:20251013T170000
DTSTAMP:20260420T135630
CREATED:20250916T182249Z
LAST-MODIFIED:20250916T182249Z
UID:29685-1760176800-1760374800@newmilford-chamber.com
SUMMARY:Autumn Arts & Fine Crafts Show
DESCRIPTION:38th Annual Autumn Arts & Fine Craft Show. Over 75 local artists will have their work for sale over two weekends at the historic 1842 Merwinsville Hotel. Fine art and photography\, jewelry\, fused glass\, woodworking\, fiber arts\, and other fine crafts! A portion of all sales benefits the restoration of this historic railroad hotel.
URL:https://newmilford-chamber.com/events/autumn-arts-fine-crafts-show-3/
LOCATION:Merwinsville Hotel\, 1 Browns Forge Rd.\, Gaylordsville\,\, CT\, 06755
CATEGORIES:Community Events,Non Profit,Sale
ATTACH;FMTTYPE=image/jpeg:https://newmilford-chamber.com/wp-content/uploads/2025/09/Pitcher-with-Grapes.jpg
END:VEVENT
BEGIN:VEVENT
DTSTART;TZID=America/New_York:20251011T180000
DTEND;TZID=America/New_York:20251011T220000
DTSTAMP:20260420T135630
CREATED:20250903T175834Z
LAST-MODIFIED:20250903T175835Z
UID:29051-1760205600-1760220000@newmilford-chamber.com
SUMMARY:Scarrybrooke Park CT's Haunted Trail
DESCRIPTION:Scarrybrooke Haunted Walking Trail takes place at Harrybrooke Park. \nThis event supports 7 local nonprofits in New Milford. \nThe Trail will run on: \nSaturday October 11 \nFriday October 17 \nSaturday October 18 \nFriday October 24 \nSaturday October 25. \n  \n  \n  \n 
URL:https://newmilford-chamber.com/events/scarrybrooke-park-cts-haunted-trail-5/
LOCATION:Harrybrooke Park\, 100 Still River Drive\, New Milford\, CT\, 06776
CATEGORIES:Community Events,Non Profit,Special Event
ATTACH;FMTTYPE=image/jpeg:https://newmilford-chamber.com/wp-content/uploads/2025/09/scarrybrooke-2025.jpg
END:VEVENT
BEGIN:VEVENT
DTSTART;TZID=America/New_York:20251015T100000
DTEND;TZID=America/New_York:20251015T120000
DTSTAMP:20260420T135630
CREATED:20250930T185130Z
LAST-MODIFIED:20250930T185130Z
UID:30621-1760522400-1760529600@newmilford-chamber.com
SUMMARY:*NEW Adaptive Hike @ Deer Pond Farm in Sherman (Session 1)
DESCRIPTION:October 15 (Rain Date Oct 28)\nFREE\nHike One: 10am – 12pm\nHike Two: 1:30pm – 3:30pm \nhttps://soarexperiences.org/deer-pond-farm-hikes\n*Customized trackchairs to be used \nSOAR Experiences is excited to partner with The Connecticut Audubon Society – Deer Pond Farm nature preserve in Sherman\, CT / Pawling\, NY and STARR Adventures Dealership to offer guided adaptive hiking for persons with limited mobility in Action Trackchairs. On this guided adaptive hike\, you will get to explore wide gravel trails traversing meadows and forested landscapes with diverse habitats. Naturalists from Deer Pond Farm and the SOAR team will be co-leading this hike. The track chairs move at a walking pace of 2 – 3 miles per hour\, are quiet and are customized for each guest by the SOAR Experiences team. Bring a friend or family member to enjoy the Autum air on the trails with us! \nSOAR Experiences is a not-for-profit organization offering experiences\, education and charitable opportunities promoting outdoor recreation to guests with mobility impairments. \nLimited equipment available\nSOAR Experiences will set up and customize Trackchairs for each registered user. Registration is through SOAR Experiences via the REQUEST FORM below. \nSteps for Hike Reservation: \n\n\nFill out the request form \n\n\nSOAR reviews your request & equipment needs \n\n\nSOAR confirms you as registered or waitlisted \n\n\nYou are not registered until SOAR Experiences contacts you to confirm your reservation.
URL:https://newmilford-chamber.com/events/new-adaptive-hike-deer-pond-farm-in-sherman-session-1/
LOCATION:Deer Pond Nature Preserve\, 57 Wakeman Hill Rd.\, Sherman\, CT\, 06784\, United States
CATEGORIES:Community Events,Non Profit,Special Event
ATTACH;FMTTYPE=image/jpeg:https://newmilford-chamber.com/wp-content/uploads/2025/09/Adaptive-Hike-Photo.jpg
ORGANIZER;CN="Connecticut Audubon Society at Deer Pond Farm":MAILTO:chagadorn@ctaudubon.org
END:VEVENT
BEGIN:VEVENT
DTSTART;TZID=America/New_York:20251015T133000
DTEND;TZID=America/New_York:20251015T153000
DTSTAMP:20260420T135630
CREATED:20250930T184848Z
LAST-MODIFIED:20250930T184848Z
UID:30626-1760535000-1760542200@newmilford-chamber.com
SUMMARY:*NEW Adaptive Hike (Session 2)
DESCRIPTION:October 15 (Rain Date Oct 28)\nFREE\nHike One: 10am – 12pm\nHike Two: 1:30pm – 3:30pm \nhttps://soarexperiences.org/deer-pond-farm-hikes\n*Customized trackchairs to be used \nSOAR Experiences is excited to partner with The Connecticut Audubon Society – Deer Pond Farm nature preserve in Sherman\, CT / Pawling\, NY and STARR Adventures Dealership to offer guided adaptive hiking for persons with limited mobility in Action Trackchairs. On this guided adaptive hike\, you will get to explore wide gravel trails traversing meadows and forested landscapes with diverse habitats. Naturalists from Deer Pond Farm and the SOAR team will be co-leading this hike. The track chairs move at a walking pace of 2 – 3 miles per hour\, are quiet and are customized for each guest by the SOAR Experiences team. Bring a friend or family member to enjoy the Autum air on the trails with us! \nSOAR Experiences is a not-for-profit organization offering experiences\, education and charitable opportunities promoting outdoor recreation to guests with mobility impairments. \nLimited equipment available\nSOAR Experiences will set up and customize Trackchairs for each registered user. Registration is through SOAR Experiences via the REQUEST FORM below. \nSteps for Hike Reservation: \n\n\nFill out the request form \n\n\nSOAR reviews your request & equipment needs \n\n\nSOAR confirms you as registered or waitlisted \n\n\nYou are not registered until SOAR Experiences contacts you to confirm your reservation.
URL:https://newmilford-chamber.com/events/new-adaptive-hike-session-2/
LOCATION:Deer Pond Nature Preserve\, 57 Wakeman Hill Rd.\, Sherman\, CT\, 06784\, United States
CATEGORIES:Non Profit,Special Event
ATTACH;FMTTYPE=image/jpeg:https://newmilford-chamber.com/wp-content/uploads/2025/09/Adaptive-Hike-Photo-1.jpg
ORGANIZER;CN="Connecticut Audubon Society at Deer Pond Farm":MAILTO:chagadorn@ctaudubon.org
END:VEVENT
BEGIN:VEVENT
DTSTART;TZID=America/New_York:20251017T100000
DTEND;TZID=America/New_York:20251019T170000
DTSTAMP:20260420T135630
CREATED:20250916T182232Z
LAST-MODIFIED:20250916T182232Z
UID:29696-1760695200-1760893200@newmilford-chamber.com
SUMMARY:Autumn Arts & Fine Crafts Show
DESCRIPTION:38th Annual Autumn Arts & Fine Craft Show. Over 75 local artists will have their work for sale over two weekends at the historic 1842 Merwinsville Hotel. Fine art and photography\, jewelry\, fused glass\, woodworking\, fiber arts\, and other fine crafts! A portion of all sales benefits the restoration of this historic railroad hotel.
URL:https://newmilford-chamber.com/events/autumn-arts-fine-crafts-show-2/
LOCATION:Merwinsville Hotel\, 1 Browns Forge Rd.\, Gaylordsville\,\, CT\, 06755
CATEGORIES:Community Events,Non Profit,Sale
ATTACH;FMTTYPE=image/jpeg:https://newmilford-chamber.com/wp-content/uploads/2025/09/Blueberry-Teapot-Set.jpg
END:VEVENT
BEGIN:VEVENT
DTSTART;TZID=America/New_York:20251017T180000
DTEND;TZID=America/New_York:20251017T220000
DTSTAMP:20260420T135630
CREATED:20250903T180235Z
LAST-MODIFIED:20251008T165310Z
UID:29163-1760724000-1760738400@newmilford-chamber.com
SUMMARY:Scarrybrooke Park CT's Haunted Trail
DESCRIPTION:Scarrybrooke Haunted Walking Trail takes place at Harrybrooke Park. \n\n\n\n\n\nPrepare for the scare! Returning for its 12th anniversary CT’s Haunted trail at Scarrybrooke Park returns with more fearsome delights for your walk through the park after dark! Our event is not ONLY a staple of the season for Western CT\, but THE LONGEST attraction to walk in the state! It takes hundreds of volunteers\, working for months on end to bring you your scare. The event is a collaboration of 7 local non-profits who all benefit from your admission! NO outside entity reaps the rewards aside from the non-profits themselves! You’ll be helping The United Methodist Church\, Boy Scout Troop 58\, New Milford Lions Club\, Boy Scout Troop 432\, Soccer Club of New Milford\, Knights of Columbus\, and of course\, Harrybrooke Park\, the home of the event! Scarrybrooke Haunted Trail takes place at Harrybrooke Park\, but please note parking is at Pettibone Community Center. It is critical that you read\, understand and respect our rules\, which can be found here. We will be stricter this year and police will be notified immediately if anyone causes damage to our props or is a concern of violence to our actors. Keep in mind ALL of our actors\, ticketing people\, concessions … ALL STAFF are volunteering their time for you to have fun! So please do … scare ya later! \n\n\n\n\n\n\n\n\n\nContact Form\n\nIf you have any questions about this event\, click the button below. \nQuestions? \n\n\n\n\n\nEvent Location\n\n\n\n\nThis event supports 7 local nonprofits in New Milford. \nThe Trail will run on: \nSaturday October 11 \nFriday October 17 \nSaturday October 18 \nFriday October 24 \nSaturday October 25.
URL:https://newmilford-chamber.com/events/scarrybrooke-park-cts-haunted-trail-6/
LOCATION:Harrybrooke Park\, 100 Still River Drive\, New Milford\, CT\, 06776
CATEGORIES:Community Events,Non Profit,Special Event
ATTACH;FMTTYPE=image/jpeg:https://newmilford-chamber.com/wp-content/uploads/2025/09/scarrybrooke-2025.jpg
END:VEVENT
BEGIN:VEVENT
DTSTART;TZID=America/New_York:20251018T180000
DTEND;TZID=America/New_York:20251018T220000
DTSTAMP:20260420T135630
CREATED:20251008T165431Z
LAST-MODIFIED:20251008T165704Z
UID:30905-1760810400-1760824800@newmilford-chamber.com
SUMMARY:Scarrybrooke Park CT's Haunted Trail
DESCRIPTION:Scarrybrooke Haunted Walking Trail takes place at Harrybrooke Park. \n\n\n\n\n\nPrepare for the scare! Returning for its 12th anniversary CT’s Haunted trail at Scarrybrooke Park returns with more fearsome delights for your walk through the park after dark! Our event is not ONLY a staple of the season for Western CT\, but THE LONGEST attraction to walk in the state! It takes hundreds of volunteers\, working for months on end to bring you your scare. The event is a collaboration of 7 local non-profits who all benefit from your admission! NO outside entity reaps the rewards aside from the non-profits themselves! You’ll be helping The United Methodist Church\, Boy Scout Troop 58\, New Milford Lions Club\, Boy Scout Troop 432\, Soccer Club of New Milford\, Knights of Columbus\, and of course\, Harrybrooke Park\, the home of the event! Scarrybrooke Haunted Trail takes place at Harrybrooke Park\, but please note parking is at Pettibone Community Center. It is critical that you read\, understand and respect our rules\, which can be found here. We will be stricter this year and police will be notified immediately if anyone causes damage to our props or is a concern of violence to our actors. Keep in mind ALL of our actors\, ticketing people\, concessions … ALL STAFF are volunteering their time for you to have fun! So please do … scare ya later! \n\n\n\n\n\nThis event supports 7 local nonprofits in New Milford. \nThe Trail will run on: \nSaturday October 11 \nFriday October 17 \nSaturday October 18 \nFriday October 24 \nSaturday October 25.
URL:https://newmilford-chamber.com/events/scarrybrooke-park-cts-haunted-trail-7/
LOCATION:Harrybrooke Park\, 100 Still River Drive\, New Milford\, CT\, 06776
CATEGORIES:Community Events,Non Profit,Open House
ATTACH;FMTTYPE=image/jpeg:https://newmilford-chamber.com/wp-content/uploads/2025/09/scarrybrooke-2025.jpg
END:VEVENT
BEGIN:VEVENT
DTSTART;TZID=America/New_York:20251024T180000
DTEND;TZID=America/New_York:20251024T220000
DTSTAMP:20260420T135630
CREATED:20251008T165804Z
LAST-MODIFIED:20251008T170020Z
UID:30910-1761328800-1761343200@newmilford-chamber.com
SUMMARY:Scarrybrooke Park CT's Haunted Trail
DESCRIPTION:Scarrybrooke Haunted Walking Trail takes place at Harrybrooke Park. \n\n\n\n\n\nPrepare for the scare! Returning for its 12th anniversary CT’s Haunted trail at Scarrybrooke Park returns with more fearsome delights for your walk through the park after dark! Our event is not ONLY a staple of the season for Western CT\, but THE LONGEST attraction to walk in the state! It takes hundreds of volunteers\, working for months on end to bring you your scare. The event is a collaboration of 7 local non-profits who all benefit from your admission! NO outside entity reaps the rewards aside from the non-profits themselves! You’ll be helping The United Methodist Church\, Boy Scout Troop 58\, New Milford Lions Club\, Boy Scout Troop 432\, Soccer Club of New Milford\, Knights of Columbus\, and of course\, Harrybrooke Park\, the home of the event! Scarrybrooke Haunted Trail takes place at Harrybrooke Park\, but please note parking is at Pettibone Community Center. It is critical that you read\, understand and respect our rules\, which can be found here. We will be stricter this year and police will be notified immediately if anyone causes damage to our props or is a concern of violence to our actors. Keep in mind ALL of our actors\, ticketing people\, concessions … ALL STAFF are volunteering their time for you to have fun! So please do … scare ya later! \n\n\n\n\n\nThis event supports 7 local nonprofits in New Milford. \nThe Trail will run on: \nSaturday October 11 \nFriday October 17 \nSaturday October 18 \nFriday October 24 \nSaturday October 25.
URL:https://newmilford-chamber.com/events/scarrybrooke-park-cts-haunted-trail-8/
LOCATION:Harrybrooke Park\, 100 Still River Drive\, New Milford\, CT\, 06776
CATEGORIES:Community Events,Non Profit,Open House
ATTACH;FMTTYPE=image/jpeg:https://newmilford-chamber.com/wp-content/uploads/2025/09/scarrybrooke-2025.jpg
END:VEVENT
BEGIN:VEVENT
DTSTART;TZID=America/New_York:20251025T180000
DTEND;TZID=America/New_York:20251025T220000
DTSTAMP:20260420T135630
CREATED:20251008T165944Z
LAST-MODIFIED:20251008T170024Z
UID:30912-1761415200-1761429600@newmilford-chamber.com
SUMMARY:Scarrybrooke Park CT's Haunted Trail
DESCRIPTION:Scarrybrooke Haunted Walking Trail takes place at Harrybrooke Park. \n\n\n\n\n\nPrepare for the scare! Returning for its 12th anniversary CT’s Haunted trail at Scarrybrooke Park returns with more fearsome delights for your walk through the park after dark! Our event is not ONLY a staple of the season for Western CT\, but THE LONGEST attraction to walk in the state! It takes hundreds of volunteers\, working for months on end to bring you your scare. The event is a collaboration of 7 local non-profits who all benefit from your admission! NO outside entity reaps the rewards aside from the non-profits themselves! You’ll be helping The United Methodist Church\, Boy Scout Troop 58\, New Milford Lions Club\, Boy Scout Troop 432\, Soccer Club of New Milford\, Knights of Columbus\, and of course\, Harrybrooke Park\, the home of the event! Scarrybrooke Haunted Trail takes place at Harrybrooke Park\, but please note parking is at Pettibone Community Center. It is critical that you read\, understand and respect our rules\, which can be found here. We will be stricter this year and police will be notified immediately if anyone causes damage to our props or is a concern of violence to our actors. Keep in mind ALL of our actors\, ticketing people\, concessions … ALL STAFF are volunteering their time for you to have fun! So please do … scare ya later! \n\n\n\n\n\nThis event supports 7 local nonprofits in New Milford. \nThe Trail will run on: \nSaturday October 11 \nFriday October 17 \nSaturday October 18 \nFriday October 24 \nSaturday October 25.
URL:https://newmilford-chamber.com/events/scarrybrooke-park-cts-haunted-trail-9/
LOCATION:Harrybrooke Park\, 100 Still River Drive\, New Milford\, CT\, 06776
CATEGORIES:Community Events,Non Profit,Open House
ATTACH;FMTTYPE=image/jpeg:https://newmilford-chamber.com/wp-content/uploads/2025/09/scarrybrooke-2025.jpg
END:VEVENT
END:VCALENDAR