BEGIN:VCALENDAR
VERSION:2.0
PRODID:-//New Milford Chamber of Commerce - ECPv6.15.20//NONSGML v1.0//EN
CALSCALE:GREGORIAN
METHOD:PUBLISH
X-ORIGINAL-URL:https://newmilford-chamber.com
X-WR-CALDESC:Events for New Milford Chamber of Commerce
REFRESH-INTERVAL;VALUE=DURATION:PT1H
X-Robots-Tag:noindex
X-PUBLISHED-TTL:PT1H
BEGIN:VTIMEZONE
TZID:America/New_York
BEGIN:DAYLIGHT
TZOFFSETFROM:-0500
TZOFFSETTO:-0400
TZNAME:EDT
DTSTART:20240310T070000
END:DAYLIGHT
BEGIN:STANDARD
TZOFFSETFROM:-0400
TZOFFSETTO:-0500
TZNAME:EST
DTSTART:20241103T060000
END:STANDARD
BEGIN:DAYLIGHT
TZOFFSETFROM:-0500
TZOFFSETTO:-0400
TZNAME:EDT
DTSTART:20250309T070000
END:DAYLIGHT
BEGIN:STANDARD
TZOFFSETFROM:-0400
TZOFFSETTO:-0500
TZNAME:EST
DTSTART:20251102T060000
END:STANDARD
BEGIN:DAYLIGHT
TZOFFSETFROM:-0500
TZOFFSETTO:-0400
TZNAME:EDT
DTSTART:20260308T070000
END:DAYLIGHT
BEGIN:STANDARD
TZOFFSETFROM:-0400
TZOFFSETTO:-0500
TZNAME:EST
DTSTART:20261101T060000
END:STANDARD
END:VTIMEZONE
BEGIN:VEVENT
DTSTART;TZID=America/New_York:20250503T100000
DTEND;TZID=America/New_York:20250503T120000
DTSTAMP:20260420T220805
CREATED:20250424T212932Z
LAST-MODIFIED:20250424T212933Z
UID:26929-1746266400-1746273600@newmilford-chamber.com
SUMMARY:Clay Play
DESCRIPTION:Clay Play\nFor all ages (7 and under can sit on parents lap)\nSaturday\, ​​​May 3rd. 2:00-4:00PM\nThis is a great chance to try the pottery wheel and get your hands in some clay. We show you how\, then you get on the wheel right away. This class is perfect for all ages—little ones are welcome to sit on their parent’s lap and join the fun. Great for groups or families!!\n$50 ea. Please see our website for other dates.\nPre-registration is required.\nOther start dates on our website. \nVillage Center for the Arts\n12 Main Street\, New Milford\, CT\n(860) 354-4318
URL:https://newmilford-chamber.com/events/clay-play-2/
LOCATION:Village Center for the Arts\, 12 Main Street\, New Milford\, CT\, 06776
CATEGORIES:Community Events,Non Profit,Special Event
ATTACH;FMTTYPE=image/png:https://newmilford-chamber.com/wp-content/uploads/2025/04/Clay-Play-May24-FB.png
END:VEVENT
BEGIN:VEVENT
DTSTART;TZID=America/New_York:20250508T060000
DTEND;TZID=America/New_York:20250508T080000
DTSTAMP:20260420T220805
CREATED:20250506T210211Z
LAST-MODIFIED:20250506T210211Z
UID:27150-1746684000-1746691200@newmilford-chamber.com
SUMMARY:Beginner Birding Class & Walk @ Deer Pond Farm in Sherman
DESCRIPTION:Join us at Deer Pond Farm with Lori Lichtenauer\, Sanctuary Manager/Naturalist\, who will teach you recreational birding basics. Learn about apps such as Merlin & eBird to advance your skills\, and how to bird on your “best” behavior. We’ll start in the classroom\, and end outside. \nVisit https://www.ctaudubon.org/deer-pond-farm-programs-classes/ for the May 8 Beginner Birding class.\nThis program meets at Deer Pond Farm\, 57 Wakeman Hill Road\, Sherman\, CT 06784\n$5 Members\, $10 Non-Members
URL:https://newmilford-chamber.com/events/beginner-birding-class-walk-deer-pond-farm-in-sherman/
LOCATION:Deer Pond Nature Preserve\, 57 Wakeman Hill Rd.\, Sherman\, CT\, 06784\, United States
CATEGORIES:Community Events,Non Profit,Special Event,Workshops/Seminars
ATTACH;FMTTYPE=image/jpeg:https://newmilford-chamber.com/wp-content/uploads/2025/05/Birding.jpg
ORGANIZER;CN="Connecticut Audubon Society at Deer Pond Farm":MAILTO:chagadorn@ctaudubon.org
END:VEVENT
BEGIN:VEVENT
DTSTART;TZID=America/New_York:20250510T040000
DTEND;TZID=America/New_York:20250510T060000
DTSTAMP:20260420T220805
CREATED:20250506T210055Z
LAST-MODIFIED:20250506T210055Z
UID:27157-1746849600-1746856800@newmilford-chamber.com
SUMMARY:Migration Bird Walk @ Deer Pond Farm in Sherman
DESCRIPTION:Warblers\, tanagers\, and vireos\, oh my! Enjoy peak avian migration season on Deer Pond Farm’s spacious trails. Lori Lichtenauer\, Naturalist\, will lead this bird walk focused on neotropical migrants. We’ll explore wetland\, meadow\, and forest habitat to seek out the biggest diversity of birds. Add to your life list on our walk!\nClick link to register: https://www.ctaudubon.org/2025/03/register-deer-pond-farm-migration-bird-walk/ \nThis program meets at Deer Pond Farm\, 57 Wakeman Hill Road\, Sherman\, CT 06784.
URL:https://newmilford-chamber.com/events/migration-bird-walk-deer-pond-farm-in-sherman/
LOCATION:Deer Pond Nature Preserve\, 57 Wakeman Hill Rd.\, Sherman\, CT\, 06784\, United States
CATEGORIES:Community Events,Non Profit,Workshops/Seminars
ATTACH;FMTTYPE=image/jpeg:https://newmilford-chamber.com/wp-content/uploads/2025/05/Bird.jpg
ORGANIZER;CN="Connecticut Audubon Society at Deer Pond Farm":MAILTO:chagadorn@ctaudubon.org
END:VEVENT
BEGIN:VEVENT
DTSTART;TZID=America/New_York:20250510T090000
DTEND;TZID=America/New_York:20250510T110000
DTSTAMP:20260420T220805
CREATED:20250506T205738Z
LAST-MODIFIED:20250506T205738Z
UID:27165-1746867600-1746874800@newmilford-chamber.com
SUMMARY:Family Nature Walk @ Deer Pond Farm in Sherman
DESCRIPTION:Enjoy wildflowers\, amphibians\, birds\, trees\, butterflies and more on our family-friendly nature walk with Deer Pond Farm’s Naturalist Lori. Explore the trails of the main campus on this 1-mile loop. \nOur fun Nature Walk is FREE\, but please register at https://www.ctaudubon.org/2025/03/register-deer-pond-farm-family-nature-walk/\nThis program meets at Deer Pond Farm\, 57 Wakeman Hill Road\, Sherman\, CT 06784.
URL:https://newmilford-chamber.com/events/family-nature-walk-deer-pond-farm-in-sherman/
LOCATION:Deer Pond Nature Preserve\, 57 Wakeman Hill Rd.\, Sherman\, CT\, 06784\, United States
CATEGORIES:Community Events,Non Profit,Special Event
ATTACH;FMTTYPE=image/jpeg:https://newmilford-chamber.com/wp-content/uploads/2025/05/family-nature-walk.jpg
ORGANIZER;CN="Connecticut Audubon Society at Deer Pond Farm":MAILTO:chagadorn@ctaudubon.org
END:VEVENT
BEGIN:VEVENT
DTSTART;TZID=America/New_York:20250510T143000
DTEND;TZID=America/New_York:20250510T173000
DTSTAMP:20260420T220805
CREATED:20250424T212851Z
LAST-MODIFIED:20250424T212851Z
UID:26937-1746887400-1746898200@newmilford-chamber.com
SUMMARY:Dirty Date Night
DESCRIPTION:Dirty Date Night\nSaturday\, May 10th 6:30-9:30 PM\nSpring is in the AIR!\nGrab someone special and come get dirty….with clay!\nThis is a two-day course (plus a day for glazing) where you will throw one piece of pottery on the wheel\, & trim the base during the second visit. You can glaze your piece at your leisure once it’s out of the kiln. $245 per couple. Needs a minimum of 2 couples to run this class. BYOB and a snack to share to make it more fun! BYOB\nPre-registration is required.\nCan’t make this one? Check our website for other dates. \nLocated at 12 Main Street\, New Milford\, CT\n(860) 354-4318
URL:https://newmilford-chamber.com/events/dirty-date-night-4/
LOCATION:Village Center for the Arts\, 12 Main Street\, New Milford\, CT\, 06776
CATEGORIES:Non Profit
ATTACH;FMTTYPE=image/png:https://newmilford-chamber.com/wp-content/uploads/2025/04/DDN-May-25.png
END:VEVENT
BEGIN:VEVENT
DTSTART;TZID=America/New_York:20250513T150000
DTEND;TZID=America/New_York:20250513T160000
DTSTAMP:20260420T220805
CREATED:20250506T205917Z
LAST-MODIFIED:20250506T205917Z
UID:27170-1747148400-1747152000@newmilford-chamber.com
SUMMARY:Birdsong Webinar with Lori Lichtenauer from Deer Pond Farm
DESCRIPTION:Springtime and birdsong go hand in hand. Lori Lichtenauer\, Deer Pond Farm’s Sanctuary Manager/Naturalist will blend science and music in her Birdsong Webinar. She will explain how and why birdsong has evolved\, who is singing\, and will share tips and tools for identifying birdsong.\nRegister here https://www.ctaudubon.org/2025/03/register-deer-pond-farm-birdsong-webinar/ for Zoom link.\nFree to attend. Suggested donation $10. Registration required.
URL:https://newmilford-chamber.com/events/birdsong-webinar-with-lori-lichtenauer-from-deer-pond-farm/
LOCATION:Deer Pond Nature Preserve\, 57 Wakeman Hill Rd.\, Sherman\, CT\, 06784\, United States
CATEGORIES:Community Events,Non Profit,Special Event,Workshops/Seminars
ATTACH;FMTTYPE=image/jpeg:https://newmilford-chamber.com/wp-content/uploads/2025/05/indigo-bunting.jpg
ORGANIZER;CN="Connecticut Audubon Society at Deer Pond Farm":MAILTO:chagadorn@ctaudubon.org
END:VEVENT
BEGIN:VEVENT
DTSTART;TZID=America/New_York:20250517T040000
DTEND;TZID=America/New_York:20250517T060000
DTSTAMP:20260420T220805
CREATED:20250506T205841Z
LAST-MODIFIED:20250506T205842Z
UID:27175-1747454400-1747461600@newmilford-chamber.com
SUMMARY:Spring Bird Walk @ Deer Pond Farm
DESCRIPTION:Join Angela Dimmitt\, president of Western CT Bird Club\, for this early morning bird walk at Deer Pond Farm. Learn about\, see\, and hear numerous songbirds that are migrating through the area and those that will be nesting here. \nOur fun event is free\, but please click https://www.ctaudubon.org/2025/03/register-deer-pond-farm-spring-bird-walk/ to register. This program meets at Deer Pond Farm\, 57 Wakeman Hill Road\, Sherman\, CT 06784.
URL:https://newmilford-chamber.com/events/spring-bird-walk-deer-pond-farm/
LOCATION:Deer Pond Nature Preserve\, 57 Wakeman Hill Rd.\, Sherman\, CT\, 06784\, United States
CATEGORIES:Community Events,Non Profit,Special Event
ATTACH;FMTTYPE=image/jpeg:https://newmilford-chamber.com/wp-content/uploads/2025/05/Scarlet-Tanager.jpg
ORGANIZER;CN="Connecticut Audubon Society at Deer Pond Farm":MAILTO:chagadorn@ctaudubon.org
END:VEVENT
BEGIN:VEVENT
DTSTART;TZID=America/New_York:20250517T060000
DTEND;TZID=America/New_York:20250517T140000
DTSTAMP:20260420T220805
CREATED:20250404T182406Z
LAST-MODIFIED:20250404T182407Z
UID:26631-1747461600-1747490400@newmilford-chamber.com
SUMMARY:VCA's 25th Year
DESCRIPTION:Saturday\, May 17th 10:00 AM- 6:00 PM\nJoin us!!\nWe’ll be hosting a fun and interactive event with activities for all ages\, including a pottery smash tent\, face painting\, a fundraising art auction\, and more. As a small nonprofit\, we rely on the generosity of our community to help us continue our mission. We believe that art has the power to bring people together\, and we are passionate about making art accessible to everyone in New Milford and beyond. \nIn addition to our events and exhibitions\, we offer programs like tuition assistance\, our Studio Affair (a free monthly gathering)\, and the Unexpected Artist program\, all designed to help people of all ages and backgrounds connect with their creative potential. \nYou can learn more about us at www.villagecenterarts.org and @villagecenterarts on Instagram\, we would be thrilled if you could include our story and event in your news coverage. Your support would mean the world to us and to everyone in the community who benefits from the arts.
URL:https://newmilford-chamber.com/events/vcas-25th-year/
LOCATION:Village Center for the Arts\, 12 Main Street\, New Milford\, CT\, 06776
CATEGORIES:Community Events,Non Profit,Open House,Special Event
ATTACH;FMTTYPE=image/png:https://newmilford-chamber.com/wp-content/uploads/2025/04/VCA25_flyer_Front-JOE.png
END:VEVENT
BEGIN:VEVENT
DTSTART;TZID=America/New_York:20250517T143000
DTEND;TZID=America/New_York:20250517T180000
DTSTAMP:20260420T220805
CREATED:20250514T230840Z
LAST-MODIFIED:20250514T230840Z
UID:26947-1747492200-1747504800@newmilford-chamber.com
SUMMARY:a Studio Affair
DESCRIPTION:Join us for a Studio Affair\nSaturday\, May 17th\n21+ 6:30 – 10:00PM – Free \nUnleash Your Inner Artist\nExpress your Creativity\nBring your Passion\nDo you have a craving to unleash your creativity but aren’t sure where to start? Well\, look no further! We aim to create a vibrant space for our community to gather\, socialize with friends\, and even make new ones. Our focus is on inclusivity and fostering creativity. \nIf you’re already working on a masterpiece\, feel free to bring it along and showcase your skills. You don’t have to be a professional artist to join in; all you need is the passion to create. Just bring your enthusiasm\, and we’ll supply a variety of materials for you to play around with. \nSpread the word\, invite your friends\, and get ready for an unforgettable experience! Plus\, if you’re feeling thirsty\, don’t forget to bring your own beverages.\nLocated at 12 Main Street\, New Milford\, CT\n(860) 354-4318
URL:https://newmilford-chamber.com/events/a-studio-affair-3/
LOCATION:Village Center for the Arts\, 12 Main Street\, New Milford\, CT\, 06776
CATEGORIES:Community Events,Non Profit,Special Event
ATTACH;FMTTYPE=image/png:https://newmilford-chamber.com/wp-content/uploads/2025/04/Studio-Affair-May25-IG.png
END:VEVENT
BEGIN:VEVENT
DTSTART;TZID=America/New_York:20250524T080000
DTEND;TZID=America/New_York:20250524T130000
DTSTAMP:20260420T220805
CREATED:20250424T210003Z
LAST-MODIFIED:20250424T210003Z
UID:27019-1748073600-1748091600@newmilford-chamber.com
SUMMARY:Chicken Barbeque at Gaylordsville Fire Dept.
DESCRIPTION:
URL:https://newmilford-chamber.com/events/chicken-barbeque-at-gaylordsville-fire-dept/
LOCATION:Gaylordsville Firehouse\, 700 Kent Rd\, Gaylordsville\, 06755
CATEGORIES:Community Events,Non Profit,Sale,Special Event
END:VEVENT
BEGIN:VEVENT
DTSTART;TZID=America/New_York:20250524T143000
DTEND;TZID=America/New_York:20250524T173000
DTSTAMP:20260420T220805
CREATED:20250424T212825Z
LAST-MODIFIED:20250424T212826Z
UID:26942-1748097000-1748107800@newmilford-chamber.com
SUMMARY:Women\, Wine\, & Wheel
DESCRIPTION:Women\, Wine\, & Wheel\nSaturday\, May 24th 6:30-9:30PM \nReady for some serious fun with friends? Picture this: laughter\, creativity\, and a pottery wheel at your fingertips!\nJoin us for a super fun 2-day pottery adventure. On day one\, you’ll dive in and create your first masterpiece on the wheel. Then\, come back for day two and give it a perfect trim. On your third visit\, you can glaze your creation however you like (no rush\, take your time!). All this for just $129 each. It’s the perfect blend of fun and art—grab a spot and let’s get spinning!\npre-registration is required.\nCan’t make this one? Check our website for other dates. \nLocated at 12 Main Street\, New Milford\, CT\n(860) 354-4318
URL:https://newmilford-chamber.com/events/women-wine-wheel-5/
LOCATION:Village Center for the Arts\, 12 Main Street\, New Milford\, CT\, 06776
CATEGORIES:Non Profit
ATTACH;FMTTYPE=image/png:https://newmilford-chamber.com/wp-content/uploads/2025/04/WWW-May2025-.png
END:VEVENT
BEGIN:VEVENT
DTSTART;TZID=America/New_York:20250531T050000
DTEND;TZID=America/New_York:20250531T090000
DTSTAMP:20260420T220805
CREATED:20250514T230436Z
LAST-MODIFIED:20250514T230436Z
UID:26369-1748667600-1748682000@newmilford-chamber.com
SUMMARY:Annual Garden Club Plant Sale Extravanganza
DESCRIPTION:Welcome to our much-anticipated Annual Plant Sale! This event is the perfect opportunity for all plant enthusiasts\, from beginners to seasoned gardeners\, to explore an incredible selection of greenery at unbeatable prices. Here’s what you can expect: \nBargain Prices\nDon’t miss out on our exclusive deals! Our plant sale offers bargain prices that make it easy and affordable to spruce up your garden or home. Whether you’re looking to add a splash of color with annuals or invest in long-term beauty with perennials\, you’ll find fantastic savings here. \nExpert Advice\nNeed help choosing the right plants or understanding how to care for them? Our team of gardening experts will be on hand to provide insightful advice and tips. Whether you’re curious about soil types\, sunlight needs\, or watering schedules\, our knowledgeable staff is ready to assist you. \nVariety of Plants\nExplore a diverse selection of plants tailored to meet all your gardening needs: \nAnnuals: Perfect for adding vibrant color and variety to your garden each year. \nPerennials: Ideal for those seeking plants that come back stronger year after year. \nVegetables: Start your own homegrown vegetable garden with our selection of healthy seedlings. \nHouseplants: Bring the outdoors in with a wide range of houseplants that will enhance your indoor spaces. \nOur Annual Plant Sale is more than just a shopping trip; it’s an experience that offers inspiration and education for all plant lovers. We look forward to seeing you there and helping you grow your green thumb!
URL:https://newmilford-chamber.com/events/annual-garden-club-plant-sale-extravanganza/
LOCATION:New Milford Green\, Main Street\, New Milford\, CT
CATEGORIES:Non Profit
ATTACH;FMTTYPE=image/jpeg:https://newmilford-chamber.com/wp-content/uploads/2025/03/Peonies-1.jpg
ORGANIZER;CN="The Garden Club of New Milford":MAILTO:nmgardenclub@gmail.com
END:VEVENT
END:VCALENDAR