BEGIN:VCALENDAR
VERSION:2.0
PRODID:-//New Milford Chamber of Commerce - ECPv6.15.20//NONSGML v1.0//EN
CALSCALE:GREGORIAN
METHOD:PUBLISH
X-WR-CALNAME:New Milford Chamber of Commerce
X-ORIGINAL-URL:https://newmilford-chamber.com
X-WR-CALDESC:Events for New Milford Chamber of Commerce
REFRESH-INTERVAL;VALUE=DURATION:PT1H
X-Robots-Tag:noindex
X-PUBLISHED-TTL:PT1H
BEGIN:VTIMEZONE
TZID:America/New_York
BEGIN:DAYLIGHT
TZOFFSETFROM:-0500
TZOFFSETTO:-0400
TZNAME:EDT
DTSTART:20250309T070000
END:DAYLIGHT
BEGIN:STANDARD
TZOFFSETFROM:-0400
TZOFFSETTO:-0500
TZNAME:EST
DTSTART:20251102T060000
END:STANDARD
BEGIN:DAYLIGHT
TZOFFSETFROM:-0500
TZOFFSETTO:-0400
TZNAME:EDT
DTSTART:20260308T070000
END:DAYLIGHT
BEGIN:STANDARD
TZOFFSETFROM:-0400
TZOFFSETTO:-0500
TZNAME:EST
DTSTART:20261101T060000
END:STANDARD
BEGIN:DAYLIGHT
TZOFFSETFROM:-0500
TZOFFSETTO:-0400
TZNAME:EDT
DTSTART:20270314T070000
END:DAYLIGHT
BEGIN:STANDARD
TZOFFSETFROM:-0400
TZOFFSETTO:-0500
TZNAME:EST
DTSTART:20271107T060000
END:STANDARD
END:VTIMEZONE
BEGIN:VEVENT
DTSTART;TZID=America/New_York:20260322T103000
DTEND;TZID=America/New_York:20260322T123000
DTSTAMP:20260421T184357
CREATED:20260228T214700Z
LAST-MODIFIED:20260228T214700Z
UID:32875-1774175400-1774182600@newmilford-chamber.com
SUMMARY:Focaccia Baking Class with JCC Member David Schwartzbaum
DESCRIPTION:Interested in learning how to bake bread but never had the chance?\nPlease join David Schwartzbaum for a class on how to make bread.  David will provide hands-on instructions for a no-knead focaccia that is easy to make\, virtually foolproof\, and absolutely delicious.  No prior bread making experience is needed (or kneaded).Participants will be provided all required ingredients and kitchen tools. Space is limited\, and spots will be filled on a first-come\, first-served basis. Early registration is recommended to ensure your place in the class. David\, a semi-retired corporate lawyer\, has been baking bread and teaching bread-making for more than 10 years. During COVID\, David taught on-line bread-making classes to his law firm colleagues. David and his wife Rena can be frequently found enjoying events at JCCS when they are not busy shoveling snow. David is pleased to be volunteering his time for this class to bring the joy of bread-making to the JCC in Sherman community. \nJCCS Members can register NOW! Non-Member registration opens 3/01!
URL:https://newmilford-chamber.com/events/focaccia-baking-class-with-jcc-member-david-schwartzbaum/
LOCATION:JCC in Sherman\, 9 Route 39 South\, Sherman\, CT
CATEGORIES:Community Events
END:VEVENT
END:VCALENDAR