BEGIN:VCALENDAR
VERSION:2.0
PRODID:-//New Milford Chamber of Commerce - ECPv6.15.20//NONSGML v1.0//EN
CALSCALE:GREGORIAN
METHOD:PUBLISH
X-WR-CALNAME:New Milford Chamber of Commerce
X-ORIGINAL-URL:https://newmilford-chamber.com
X-WR-CALDESC:Events for New Milford Chamber of Commerce
REFRESH-INTERVAL;VALUE=DURATION:PT1H
X-Robots-Tag:noindex
X-PUBLISHED-TTL:PT1H
BEGIN:VTIMEZONE
TZID:America/New_York
BEGIN:DAYLIGHT
TZOFFSETFROM:-0500
TZOFFSETTO:-0400
TZNAME:EDT
DTSTART:20250309T070000
END:DAYLIGHT
BEGIN:STANDARD
TZOFFSETFROM:-0400
TZOFFSETTO:-0500
TZNAME:EST
DTSTART:20251102T060000
END:STANDARD
BEGIN:DAYLIGHT
TZOFFSETFROM:-0500
TZOFFSETTO:-0400
TZNAME:EDT
DTSTART:20260308T070000
END:DAYLIGHT
BEGIN:STANDARD
TZOFFSETFROM:-0400
TZOFFSETTO:-0500
TZNAME:EST
DTSTART:20261101T060000
END:STANDARD
BEGIN:DAYLIGHT
TZOFFSETFROM:-0500
TZOFFSETTO:-0400
TZNAME:EDT
DTSTART:20270314T070000
END:DAYLIGHT
BEGIN:STANDARD
TZOFFSETFROM:-0400
TZOFFSETTO:-0500
TZNAME:EST
DTSTART:20271107T060000
END:STANDARD
END:VTIMEZONE
BEGIN:VEVENT
DTSTART;TZID=America/New_York:20260325T120000
DTEND;TZID=America/New_York:20260325T130000
DTSTAMP:20260423T190607
CREATED:20260312T192442Z
LAST-MODIFIED:20260312T192628Z
UID:33448-1774440000-1774443600@newmilford-chamber.com
SUMMARY:Lunch & Learn AI for Small Business
DESCRIPTION:RSVP at https://www.zeffy.com/en-US/ticketing/ai-for-small-business \n 
URL:https://newmilford-chamber.com/events/lunch-learn-ai-for-small-business/
LOCATION:The Maxx\, 94 Railroad Street\, New Milford\, CT\, 06776
CATEGORIES:Chamber Events
ATTACH;FMTTYPE=image/png:https://newmilford-chamber.com/wp-content/uploads/2026/03/Screenshot-2026-03-12-at-3.22.59-PM.png
ORGANIZER;CN="New Milford Chamber":MAILTO:nmcc@newmilford-chamber.com
END:VEVENT
BEGIN:VEVENT
DTSTART;TZID=America/New_York:20260416T173000
DTEND;TZID=America/New_York:20260416T193000
DTSTAMP:20260423T190607
CREATED:20260320T031919Z
LAST-MODIFIED:20260320T031919Z
UID:33629-1776360600-1776367800@newmilford-chamber.com
SUMMARY:April Business Scene - networking
DESCRIPTION:Forge powerful connections and unlock opportunities to grow your business. Bring your business cards. Hors d’oeuvres and beverages provided by sponsor. Sponsored this month by the Rotary Club of New Milford at The Iron Rail.
URL:https://newmilford-chamber.com/events/april-business-scene-networking/
LOCATION:The Iron Rail\, 10 Railroad Street\, New Milford\, CT\, 06776
CATEGORIES:Chamber Events,Networking
ATTACH;FMTTYPE=image/jpeg:https://newmilford-chamber.com/wp-content/uploads/2026/03/041626-Business-Scene-FB-Instagram.jpg
ORGANIZER;CN="New Milford Chamber":MAILTO:nmcc@newmilford-chamber.com
END:VEVENT
BEGIN:VEVENT
DTSTART;TZID=America/New_York:20260618T173000
DTEND;TZID=America/New_York:20260618T193000
DTSTAMP:20260423T190607
CREATED:20260205T034055Z
LAST-MODIFIED:20260206T164613Z
UID:32812-1781803800-1781811000@newmilford-chamber.com
SUMMARY:June Business Scene
DESCRIPTION:Forge powerful connections and unlock opportunities to grow your business. \nBring your business cards. \nHors d’oeuvres and beverages provided by sponsor. \nSponsored this month by New Milford Tennis & Swim Club & National Iron Bank
URL:https://newmilford-chamber.com/events/june-business-scene-4/
LOCATION:New Milford Tennis & Swim Club\, 93 Aspetuck Ridge Road\, New Milford\, CT\, 06776
CATEGORIES:Chamber Events,Networking
ATTACH;FMTTYPE=image/png:https://newmilford-chamber.com/wp-content/uploads/2026/02/June-Business-Scene-06-11-26.png
ORGANIZER;CN="The Greater New Milford Chamber of Commerce":MAILTO:nmcc@newmilford-chamber.com
END:VEVENT
BEGIN:VEVENT
DTSTART;TZID=America/New_York:20260820T173000
DTEND;TZID=America/New_York:20260820T190000
DTSTAMP:20260423T190607
CREATED:20260123T221234Z
LAST-MODIFIED:20260123T221234Z
UID:32668-1787247000-1787252400@newmilford-chamber.com
SUMMARY:Chamber Business Scene
DESCRIPTION:Join us and other business professionals to connect and network at this informal networking opportunity.\n* Free and open to the public* Bring your business cards* Bring a friend/colleague* Food and beverages* Door prizes welcome to help promote your business\n\nSponsored this month by:\n\nAll American Waste\n&\nRich’s Wings & Things
URL:https://newmilford-chamber.com/events/chamber-business-scene-3/
CATEGORIES:Chamber Events,chamber/Community Event
END:VEVENT
BEGIN:VEVENT
DTSTART;TZID=America/New_York:20261128T173000
DTEND;TZID=America/New_York:20261128T193000
DTSTAMP:20260423T190607
CREATED:20251228T223619Z
LAST-MODIFIED:20251228T224021Z
UID:32229-1795887000-1795894200@newmilford-chamber.com
SUMMARY:Annual Tree Lighting on Green
DESCRIPTION:Join us for a festive event where the lights on the trees on the Green – put up by the United Methodist Church’s Men’s Group – are lighted and Santa visits with children.
URL:https://newmilford-chamber.com/events/annual-tree-lighting-on-green/
LOCATION:New Milford Green\, Main Street\, New Milford\, CT
CATEGORIES:Chamber Events,Community Events
ORGANIZER;CN="The Greater New Milford Chamber of Commerce":MAILTO:nmcc@newmilford-chamber.com
END:VEVENT
END:VCALENDAR