BEGIN:VCALENDAR
VERSION:2.0
PRODID:-//New Milford Chamber of Commerce - ECPv6.15.20//NONSGML v1.0//EN
CALSCALE:GREGORIAN
METHOD:PUBLISH
X-WR-CALNAME:New Milford Chamber of Commerce
X-ORIGINAL-URL:https://newmilford-chamber.com
X-WR-CALDESC:Events for New Milford Chamber of Commerce
REFRESH-INTERVAL;VALUE=DURATION:PT1H
X-Robots-Tag:noindex
X-PUBLISHED-TTL:PT1H
BEGIN:VTIMEZONE
TZID:America/New_York
BEGIN:DAYLIGHT
TZOFFSETFROM:-0500
TZOFFSETTO:-0400
TZNAME:EDT
DTSTART:20240310T070000
END:DAYLIGHT
BEGIN:STANDARD
TZOFFSETFROM:-0400
TZOFFSETTO:-0500
TZNAME:EST
DTSTART:20241103T060000
END:STANDARD
BEGIN:DAYLIGHT
TZOFFSETFROM:-0500
TZOFFSETTO:-0400
TZNAME:EDT
DTSTART:20250309T070000
END:DAYLIGHT
BEGIN:STANDARD
TZOFFSETFROM:-0400
TZOFFSETTO:-0500
TZNAME:EST
DTSTART:20251102T060000
END:STANDARD
BEGIN:DAYLIGHT
TZOFFSETFROM:-0500
TZOFFSETTO:-0400
TZNAME:EDT
DTSTART:20260308T070000
END:DAYLIGHT
BEGIN:STANDARD
TZOFFSETFROM:-0400
TZOFFSETTO:-0500
TZNAME:EST
DTSTART:20261101T060000
END:STANDARD
END:VTIMEZONE
BEGIN:VEVENT
DTSTART;TZID=America/New_York:20250522T133000
DTEND;TZID=America/New_York:20250522T153000
DTSTAMP:20260422T132611
CREATED:20250417T201924Z
LAST-MODIFIED:20250502T232653Z
UID:26912-1747920600-1747927800@newmilford-chamber.com
SUMMARY:May Business Scene at Candlewood Valley County Club
DESCRIPTION:Candlewood Valley Country Club\, Ives Bank and Horizon Bound Adventures have partnered up to sponsor this amazing event!\nJoin us and other business professionals to connect and network at this informal networking opportunity with an open house setting to tour the Candlewood Valley Country Club* Free and open to the public* Bring your business cards* Bring a friend/colleague* Food and beverages* Door prizes welcome to help promote your business
URL:https://newmilford-chamber.com/events/may-business-scene-at-candlewood-valley-county-club/
LOCATION:Candlewood Valley Country Club\, 401 Danbury Rd\, New Milford\, CT\, 06776
CATEGORIES:Chamber Events,Networking
ATTACH;FMTTYPE=image/png:https://newmilford-chamber.com/wp-content/uploads/2025/04/May-BS-2025-CVCC-Ives-Horizon-Bound-Chamber-cal.png
END:VEVENT
END:VCALENDAR