BEGIN:VCALENDAR
VERSION:2.0
PRODID:-//New Milford Chamber of Commerce - ECPv6.15.20//NONSGML v1.0//EN
CALSCALE:GREGORIAN
METHOD:PUBLISH
X-ORIGINAL-URL:https://newmilford-chamber.com
X-WR-CALDESC:Events for New Milford Chamber of Commerce
REFRESH-INTERVAL;VALUE=DURATION:PT1H
X-Robots-Tag:noindex
X-PUBLISHED-TTL:PT1H
BEGIN:VTIMEZONE
TZID:America/New_York
BEGIN:DAYLIGHT
TZOFFSETFROM:-0500
TZOFFSETTO:-0400
TZNAME:EDT
DTSTART:20240310T070000
END:DAYLIGHT
BEGIN:STANDARD
TZOFFSETFROM:-0400
TZOFFSETTO:-0500
TZNAME:EST
DTSTART:20241103T060000
END:STANDARD
BEGIN:DAYLIGHT
TZOFFSETFROM:-0500
TZOFFSETTO:-0400
TZNAME:EDT
DTSTART:20250309T070000
END:DAYLIGHT
BEGIN:STANDARD
TZOFFSETFROM:-0400
TZOFFSETTO:-0500
TZNAME:EST
DTSTART:20251102T060000
END:STANDARD
BEGIN:DAYLIGHT
TZOFFSETFROM:-0500
TZOFFSETTO:-0400
TZNAME:EDT
DTSTART:20260308T070000
END:DAYLIGHT
BEGIN:STANDARD
TZOFFSETFROM:-0400
TZOFFSETTO:-0500
TZNAME:EST
DTSTART:20261101T060000
END:STANDARD
END:VTIMEZONE
BEGIN:VEVENT
DTSTART;TZID=America/New_York:20250513T040000
DTEND;TZID=America/New_York:20250513T130000
DTSTAMP:20260422T132852
CREATED:20250117T022814Z
LAST-MODIFIED:20250117T022815Z
UID:25078-1747108800-1747141200@newmilford-chamber.com
SUMMARY:Chamber scholarship application deadline
DESCRIPTION:All applications for Chamber scholarships must be submitted through the guidance office at participating schools or the Chamber office.
URL:https://newmilford-chamber.com/events/chamber-scholarship-application-deadline/
LOCATION:CT
CATEGORIES:Chamber Events
ORGANIZER;CN="The Greater New Milford Chamber of Commerce":MAILTO:nmcc@newmilford-chamber.com
END:VEVENT
END:VCALENDAR