BEGIN:VCALENDAR
VERSION:2.0
PRODID:-//New Milford Chamber of Commerce - ECPv6.15.20//NONSGML v1.0//EN
CALSCALE:GREGORIAN
METHOD:PUBLISH
X-ORIGINAL-URL:https://newmilford-chamber.com
X-WR-CALDESC:Events for New Milford Chamber of Commerce
REFRESH-INTERVAL;VALUE=DURATION:PT1H
X-Robots-Tag:noindex
X-PUBLISHED-TTL:PT1H
BEGIN:VTIMEZONE
TZID:America/New_York
BEGIN:DAYLIGHT
TZOFFSETFROM:-0500
TZOFFSETTO:-0400
TZNAME:EDT
DTSTART:20240310T070000
END:DAYLIGHT
BEGIN:STANDARD
TZOFFSETFROM:-0400
TZOFFSETTO:-0500
TZNAME:EST
DTSTART:20241103T060000
END:STANDARD
BEGIN:DAYLIGHT
TZOFFSETFROM:-0500
TZOFFSETTO:-0400
TZNAME:EDT
DTSTART:20250309T070000
END:DAYLIGHT
BEGIN:STANDARD
TZOFFSETFROM:-0400
TZOFFSETTO:-0500
TZNAME:EST
DTSTART:20251102T060000
END:STANDARD
BEGIN:DAYLIGHT
TZOFFSETFROM:-0500
TZOFFSETTO:-0400
TZNAME:EDT
DTSTART:20260308T070000
END:DAYLIGHT
BEGIN:STANDARD
TZOFFSETFROM:-0400
TZOFFSETTO:-0500
TZNAME:EST
DTSTART:20261101T060000
END:STANDARD
END:VTIMEZONE
BEGIN:VEVENT
DTSTART;TZID=America/New_York:20250313T133000
DTEND;TZID=America/New_York:20250313T153000
DTSTAMP:20260422T182213
CREATED:20250225T033559Z
LAST-MODIFIED:20250225T034027Z
UID:25804-1741872600-1741879800@newmilford-chamber.com
SUMMARY:March Business Scene
DESCRIPTION:Hosted by Chamber member New Milford Hospital\nFeaturing a Hospital Update and Q & A with\nThomas Koobatian\, MD\, Executive Director & Chief of Staff\nClinical Assistant Professor\, University of Vermont Larner College of Medicine \nJoin us and other business professionals to connect and network at this informal networking opportunity with an open house setting to tour the the Homestead Inn* Free and open to the public* Bring your business cards* Bring a friend/colleague* Food and beverages* Door prizes welcome to help promote your businessSponsored this month by:New Milford HospitalDelivering personalized care\, without compromise
URL:https://newmilford-chamber.com/events/march-business-scene/
LOCATION:New Milford Hospital\, part of Nuvance Health\, 21 Elm St.\, New Milford\, CT\, 06776
CATEGORIES:Chamber Events,Networking
ATTACH;FMTTYPE=image/png:https://newmilford-chamber.com/wp-content/uploads/2025/02/March-13-Nuvance-NMH.png
END:VEVENT
END:VCALENDAR