BEGIN:VCALENDAR
VERSION:2.0
PRODID:-//New Milford Chamber of Commerce - ECPv6.15.20//NONSGML v1.0//EN
CALSCALE:GREGORIAN
METHOD:PUBLISH
X-WR-CALNAME:New Milford Chamber of Commerce
X-ORIGINAL-URL:https://newmilford-chamber.com
X-WR-CALDESC:Events for New Milford Chamber of Commerce
REFRESH-INTERVAL;VALUE=DURATION:PT1H
X-Robots-Tag:noindex
X-PUBLISHED-TTL:PT1H
BEGIN:VTIMEZONE
TZID:America/New_York
BEGIN:DAYLIGHT
TZOFFSETFROM:-0500
TZOFFSETTO:-0400
TZNAME:EDT
DTSTART:20230312T070000
END:DAYLIGHT
BEGIN:STANDARD
TZOFFSETFROM:-0400
TZOFFSETTO:-0500
TZNAME:EST
DTSTART:20231105T060000
END:STANDARD
BEGIN:DAYLIGHT
TZOFFSETFROM:-0500
TZOFFSETTO:-0400
TZNAME:EDT
DTSTART:20240310T070000
END:DAYLIGHT
BEGIN:STANDARD
TZOFFSETFROM:-0400
TZOFFSETTO:-0500
TZNAME:EST
DTSTART:20241103T060000
END:STANDARD
BEGIN:DAYLIGHT
TZOFFSETFROM:-0500
TZOFFSETTO:-0400
TZNAME:EDT
DTSTART:20250309T070000
END:DAYLIGHT
BEGIN:STANDARD
TZOFFSETFROM:-0400
TZOFFSETTO:-0500
TZNAME:EST
DTSTART:20251102T060000
END:STANDARD
END:VTIMEZONE
BEGIN:VEVENT
DTSTART;TZID=America/New_York:20240808T133000
DTEND;TZID=America/New_York:20240808T153000
DTSTAMP:20260423T140052
CREATED:20240723T202316Z
LAST-MODIFIED:20240723T202316Z
UID:21747-1723123800-1723131000@newmilford-chamber.com
SUMMARY:Chamber Business Scene
DESCRIPTION:Join us and other business professionals to connect and network at this informal networking opportunity.* Free and open to the public* Bring your business cards* Bring a friend/colleague* Food and beverages* Door prizes welcome to help promote your business\n\nSponsored this month by:* All American Waste\n\nVenue\, food and drinks provided/donated by:* Candlelight Farms* Housatonic River Brewing* Rich’s Wings & Things
URL:https://newmilford-chamber.com/events/chamber-business-scene/
LOCATION:Candlelight Farms\, 214 Candlewood Mountain Rd\, New Milford\, CT
CATEGORIES:Chamber Events
ATTACH;FMTTYPE=image/png:https://newmilford-chamber.com/wp-content/uploads/2024/07/Business-Scene-2024-Instagram-Post.png
END:VEVENT
END:VCALENDAR