BEGIN:VCALENDAR
VERSION:2.0
PRODID:-//New Milford Chamber of Commerce - ECPv6.15.20//NONSGML v1.0//EN
CALSCALE:GREGORIAN
METHOD:PUBLISH
X-ORIGINAL-URL:https://newmilford-chamber.com
X-WR-CALDESC:Events for New Milford Chamber of Commerce
REFRESH-INTERVAL;VALUE=DURATION:PT1H
X-Robots-Tag:noindex
X-PUBLISHED-TTL:PT1H
BEGIN:VTIMEZONE
TZID:America/New_York
BEGIN:DAYLIGHT
TZOFFSETFROM:-0500
TZOFFSETTO:-0400
TZNAME:EDT
DTSTART:20240310T070000
END:DAYLIGHT
BEGIN:STANDARD
TZOFFSETFROM:-0400
TZOFFSETTO:-0500
TZNAME:EST
DTSTART:20241103T060000
END:STANDARD
BEGIN:DAYLIGHT
TZOFFSETFROM:-0500
TZOFFSETTO:-0400
TZNAME:EDT
DTSTART:20250309T070000
END:DAYLIGHT
BEGIN:STANDARD
TZOFFSETFROM:-0400
TZOFFSETTO:-0500
TZNAME:EST
DTSTART:20251102T060000
END:STANDARD
BEGIN:DAYLIGHT
TZOFFSETFROM:-0500
TZOFFSETTO:-0400
TZNAME:EDT
DTSTART:20260308T070000
END:DAYLIGHT
BEGIN:STANDARD
TZOFFSETFROM:-0400
TZOFFSETTO:-0500
TZNAME:EST
DTSTART:20261101T060000
END:STANDARD
END:VTIMEZONE
BEGIN:VEVENT
DTSTART;TZID=America/New_York:20251211T173000
DTEND;TZID=America/New_York:20251211T193000
DTSTAMP:20260424T035901
CREATED:20251104T194048Z
LAST-MODIFIED:20251104T194048Z
UID:31148-1765474200-1765481400@newmilford-chamber.com
SUMMARY:Holiday Magic: Parchment Ornaments
DESCRIPTION:Celebrate the season with a calming and creative Holiday Magic: Parchment Ornaments Workshop. Discover how to transform delicate translucent parchment paper into beautiful\, hand-crafted ornaments that capture the light and spirit of the holidays. In this two-hour session\, participants will explore the basics of parchment craft—including tracing\, embossing\, and simple decorative techniques. Guided step-by-step\, you’ll use pre-cut templates to create your own elegant ornaments featuring floral\, festive\, or geometric designs. All materials are provided\, and your finished pieces will make charming additions to your holiday décor or heartfelt handmade gifts. Unwind\, create\, and bring a touch of holiday magic home with you!
URL:https://newmilford-chamber.com/events/holiday-magic-parchment-ornaments/
LOCATION:New Milford Public Library\, 24 Main Street\, New Milford\, CT\, 06776
ATTACH;FMTTYPE=image/jpeg:https://newmilford-chamber.com/wp-content/uploads/2025/10/Parchment-Ornaments.jpg
ORGANIZER;CN="New Milford Public Library":MAILTO:aberkun@biblio.org
END:VEVENT
END:VCALENDAR