BEGIN:VCALENDAR
VERSION:2.0
PRODID:-//New Milford Chamber of Commerce - ECPv6.15.20//NONSGML v1.0//EN
CALSCALE:GREGORIAN
METHOD:PUBLISH
X-WR-CALNAME:New Milford Chamber of Commerce
X-ORIGINAL-URL:https://newmilford-chamber.com
X-WR-CALDESC:Events for New Milford Chamber of Commerce
REFRESH-INTERVAL;VALUE=DURATION:PT1H
X-Robots-Tag:noindex
X-PUBLISHED-TTL:PT1H
BEGIN:VTIMEZONE
TZID:America/New_York
BEGIN:DAYLIGHT
TZOFFSETFROM:-0500
TZOFFSETTO:-0400
TZNAME:EDT
DTSTART:20240310T070000
END:DAYLIGHT
BEGIN:STANDARD
TZOFFSETFROM:-0400
TZOFFSETTO:-0500
TZNAME:EST
DTSTART:20241103T060000
END:STANDARD
BEGIN:DAYLIGHT
TZOFFSETFROM:-0500
TZOFFSETTO:-0400
TZNAME:EDT
DTSTART:20250309T070000
END:DAYLIGHT
BEGIN:STANDARD
TZOFFSETFROM:-0400
TZOFFSETTO:-0500
TZNAME:EST
DTSTART:20251102T060000
END:STANDARD
BEGIN:DAYLIGHT
TZOFFSETFROM:-0500
TZOFFSETTO:-0400
TZNAME:EDT
DTSTART:20260308T070000
END:DAYLIGHT
BEGIN:STANDARD
TZOFFSETFROM:-0400
TZOFFSETTO:-0500
TZNAME:EST
DTSTART:20261101T060000
END:STANDARD
END:VTIMEZONE
BEGIN:VEVENT
DTSTART;TZID=America/New_York:20251207T100000
DTEND;TZID=America/New_York:20251207T160000
DTSTAMP:20260424T083913
CREATED:20251104T195503Z
LAST-MODIFIED:20251115T232339Z
UID:31135-1765101600-1765123200@newmilford-chamber.com
SUMMARY:Holiday Soiree
DESCRIPTION:🎄 Holiday Sip & Shop Soirée at Candlelight Farms!Sunday\, December 7 | 10 AM – 4 PM | Lower Barn \nKick off the holiday season with Lumeniri Studio at our festive Sip & Shop! Enjoy hot chocolate and wine while browsing handcrafted jewelry\, unique gifts\, and local artisan treasures. Bring the family—kids can enjoy holiday crafts and photos\, too! \n✨ Shopping • Sips • Crafts • Photos • Holiday Cheer for All Ages ✨
URL:https://newmilford-chamber.com/events/holiday-sip-shop-soiree-candlelight-farms/
LOCATION:Candlelight Farms\, 214 Candlewood Mountain Rd\, New Milford\, CT
CATEGORIES:Community Events,Open House,Sale,Special Event
ATTACH;FMTTYPE=image/jpeg:https://newmilford-chamber.com/wp-content/uploads/2025/10/IMG_6204.jpg
ORGANIZER;CN="Lumeniri":MAILTO:Hi@lumeniri.com
END:VEVENT
BEGIN:VEVENT
DTSTART;TZID=America/New_York:20251207T140000
DTEND;TZID=America/New_York:20251207T150000
DTSTAMP:20260424T083913
CREATED:20251114T012110Z
LAST-MODIFIED:20251114T012110Z
UID:31504-1765116000-1765119600@newmilford-chamber.com
SUMMARY:Northville District Slide Show and Talk
DESCRIPTION:Slide Show and Talk of the Northville District presented by Ted Hine
URL:https://newmilford-chamber.com/events/northville-district-slide-show-and-talk/
LOCATION:New Milford Historical Society\, 6 Aspetuck Ave\, New Milford\, CT\, 06776
CATEGORIES:Community Events
ATTACH;FMTTYPE=image/jpeg:https://newmilford-chamber.com/wp-content/uploads/2025/11/Flyer-1.jpg
END:VEVENT
END:VCALENDAR