BEGIN:VCALENDAR
VERSION:2.0
PRODID:-//New Milford Chamber of Commerce - ECPv6.15.20//NONSGML v1.0//EN
CALSCALE:GREGORIAN
METHOD:PUBLISH
X-WR-CALNAME:New Milford Chamber of Commerce
X-ORIGINAL-URL:https://newmilford-chamber.com
X-WR-CALDESC:Events for New Milford Chamber of Commerce
REFRESH-INTERVAL;VALUE=DURATION:PT1H
X-Robots-Tag:noindex
X-PUBLISHED-TTL:PT1H
BEGIN:VTIMEZONE
TZID:America/New_York
BEGIN:DAYLIGHT
TZOFFSETFROM:-0500
TZOFFSETTO:-0400
TZNAME:EDT
DTSTART:20240310T070000
END:DAYLIGHT
BEGIN:STANDARD
TZOFFSETFROM:-0400
TZOFFSETTO:-0500
TZNAME:EST
DTSTART:20241103T060000
END:STANDARD
BEGIN:DAYLIGHT
TZOFFSETFROM:-0500
TZOFFSETTO:-0400
TZNAME:EDT
DTSTART:20250309T070000
END:DAYLIGHT
BEGIN:STANDARD
TZOFFSETFROM:-0400
TZOFFSETTO:-0500
TZNAME:EST
DTSTART:20251102T060000
END:STANDARD
BEGIN:DAYLIGHT
TZOFFSETFROM:-0500
TZOFFSETTO:-0400
TZNAME:EDT
DTSTART:20260308T070000
END:DAYLIGHT
BEGIN:STANDARD
TZOFFSETFROM:-0400
TZOFFSETTO:-0500
TZNAME:EST
DTSTART:20261101T060000
END:STANDARD
END:VTIMEZONE
BEGIN:VEVENT
DTSTART;TZID=America/New_York:20251204T133000
DTEND;TZID=America/New_York:20251204T143000
DTSTAMP:20260424T083647
CREATED:20251205T144321Z
LAST-MODIFIED:20251205T144321Z
UID:31661-1764855000-1764858600@newmilford-chamber.com
SUMMARY:Fraud Protection Workshop For Adults 60 And Older
DESCRIPTION:Scams are everywhere these days — don’t let them catch you off guard. Join us for a free\, one-hour workshop to learn how to recognize\, avoid\, and protect yourself from common frauds and scams. Free\, just show up and enjoy this insightful session packed with practical tips to help you stay safe.
URL:https://newmilford-chamber.com/events/fraud-protection-workshop-for-adults-60-and-older/
LOCATION:CT
CATEGORIES:Non Profit
ATTACH;FMTTYPE=image/jpeg:https://newmilford-chamber.com/wp-content/uploads/2025/11/Fraud.jpg
END:VEVENT
BEGIN:VEVENT
DTSTART;TZID=America/New_York:20251204T133000
DTEND;TZID=America/New_York:20251204T143000
DTSTAMP:20260424T083647
CREATED:20251205T144340Z
LAST-MODIFIED:20251205T144340Z
UID:31635-1764855000-1764858600@newmilford-chamber.com
SUMMARY:Fraud Protection Workshop For Adults 60 And Older
DESCRIPTION:Scams are everywhere these days — don’t let them catch you off guard. Join us for a free\, one-hour workshop to learn how to recognize\, avoid\, and protect yourself from common frauds and scams. Free\, just show up and enjoy this insightful session packed with practical tips to help you stay safe. \n  \nThursday\, December 4\, 2025 \n1:30 PM – 2:30 PM \nElmwood Hall Senior Center \n10 Elmwood Place\, Danbury\, CT 06810 \n  \nNote: You do not need to be a Danbury resident to attend. All are welcome — you just need to be 60+. \nProudly sponsored by Union Savings Bank & Newtown Savings Bank
URL:https://newmilford-chamber.com/events/fraud-protection-workshop-for-adults-60-and-older-2/
LOCATION:CT
CATEGORIES:Community Events
ATTACH;FMTTYPE=image/jpeg:https://newmilford-chamber.com/wp-content/uploads/2025/11/Fraud-Protection-Workshop-Flyer-1.jpg
END:VEVENT
BEGIN:VEVENT
DTSTART;TZID=America/New_York:20251204T180000
DTEND;TZID=America/New_York:20251204T193000
DTSTAMP:20260424T083647
CREATED:20251114T190329Z
LAST-MODIFIED:20251114T190329Z
UID:31143-1764871200-1764876600@newmilford-chamber.com
SUMMARY:The Web They Wove: Women and Their Wardrobes During New England’s Revolution
DESCRIPTION:Underpinning the sensationalism of battle reports and broadsides is the often silent steadiness of women’s work with textiles. The choices they made every day about fashion and fabric consumption and creation drove the course of Revolution just as determinedly as any congress. As southern New England commemorates the 250th anniversary of the War for Independence\, it is these local lives dressed in fulled wool or spun silk that continue to inspire creativity\, resilience\, and empathy in us today. From the mythology of homespun to legends of midnight rides in red cloaks and calashes\, the Dirty Blue Shirts share stories of women who waged war on multiple fronts as well as a look at what they wore as their worlds turn’d upside down. This program is presented by costumed historians and includes reproduction clothing pieces and fabric samples\, as well as a PowerPoint presentation with images of extant originals.
URL:https://newmilford-chamber.com/events/the-web-they-wove-women-and-their-wardrobes-during-new-englands-revolution/
LOCATION:New Milford Public Library\, 24 Main Street\, New Milford\, CT\, 06776
ATTACH;FMTTYPE=image/jpeg:https://newmilford-chamber.com/wp-content/uploads/2025/10/the-web-they-wove.jpg
ORGANIZER;CN="New Milford Public Library":MAILTO:aberkun@biblio.org
END:VEVENT
END:VCALENDAR