BEGIN:VCALENDAR
VERSION:2.0
PRODID:-//New Milford Chamber of Commerce - ECPv6.15.20//NONSGML v1.0//EN
CALSCALE:GREGORIAN
METHOD:PUBLISH
X-ORIGINAL-URL:https://newmilford-chamber.com
X-WR-CALDESC:Events for New Milford Chamber of Commerce
REFRESH-INTERVAL;VALUE=DURATION:PT1H
X-Robots-Tag:noindex
X-PUBLISHED-TTL:PT1H
BEGIN:VTIMEZONE
TZID:America/New_York
BEGIN:DAYLIGHT
TZOFFSETFROM:-0500
TZOFFSETTO:-0400
TZNAME:EDT
DTSTART:20240310T070000
END:DAYLIGHT
BEGIN:STANDARD
TZOFFSETFROM:-0400
TZOFFSETTO:-0500
TZNAME:EST
DTSTART:20241103T060000
END:STANDARD
BEGIN:DAYLIGHT
TZOFFSETFROM:-0500
TZOFFSETTO:-0400
TZNAME:EDT
DTSTART:20250309T070000
END:DAYLIGHT
BEGIN:STANDARD
TZOFFSETFROM:-0400
TZOFFSETTO:-0500
TZNAME:EST
DTSTART:20251102T060000
END:STANDARD
BEGIN:DAYLIGHT
TZOFFSETFROM:-0500
TZOFFSETTO:-0400
TZNAME:EDT
DTSTART:20260308T070000
END:DAYLIGHT
BEGIN:STANDARD
TZOFFSETFROM:-0400
TZOFFSETTO:-0500
TZNAME:EST
DTSTART:20261101T060000
END:STANDARD
END:VTIMEZONE
BEGIN:VEVENT
DTSTART;TZID=America/New_York:20251122T190000
DTEND;TZID=America/New_York:20251122T213000
DTSTAMP:20260424T070717
CREATED:20251014T202819Z
LAST-MODIFIED:20251014T203024Z
UID:30956-1763838000-1763847000@newmilford-chamber.com
SUMMARY:Friendsgiving Dinner & Music with Riva Jean
DESCRIPTION:Join us for a long overdue Dinner and Music with RIva Jean! \nMenu Coming Soon! \nRivaJean — born and raised in Litchfield County\, grew up with inherent artistic qualities and has developed those talents over the years. A lover of timeless tunes and classic country music\, her voice has both strength and gentleness and she is humbled when compared to greats like Patsy Cline\, Alison Krauss\, and Norah Jones. Whether singing while she farms alongside her family\, or on stage with her band of musician friends\, she is happy to share that music.
URL:https://newmilford-chamber.com/events/friendsgiving-dinner-music-with-riva-jean/
LOCATION:JCC in Sherman\, 9 Route 39 South\, Sherman\, CT
ATTACH;FMTTYPE=image/png:https://newmilford-chamber.com/wp-content/uploads/2025/10/DInner-Music-5-x-5-in.png
END:VEVENT
END:VCALENDAR