BEGIN:VCALENDAR
VERSION:2.0
PRODID:-//New Milford Chamber of Commerce - ECPv6.15.20//NONSGML v1.0//EN
CALSCALE:GREGORIAN
METHOD:PUBLISH
X-ORIGINAL-URL:https://newmilford-chamber.com
X-WR-CALDESC:Events for New Milford Chamber of Commerce
REFRESH-INTERVAL;VALUE=DURATION:PT1H
X-Robots-Tag:noindex
X-PUBLISHED-TTL:PT1H
BEGIN:VTIMEZONE
TZID:America/New_York
BEGIN:DAYLIGHT
TZOFFSETFROM:-0500
TZOFFSETTO:-0400
TZNAME:EDT
DTSTART:20240310T070000
END:DAYLIGHT
BEGIN:STANDARD
TZOFFSETFROM:-0400
TZOFFSETTO:-0500
TZNAME:EST
DTSTART:20241103T060000
END:STANDARD
BEGIN:DAYLIGHT
TZOFFSETFROM:-0500
TZOFFSETTO:-0400
TZNAME:EDT
DTSTART:20250309T070000
END:DAYLIGHT
BEGIN:STANDARD
TZOFFSETFROM:-0400
TZOFFSETTO:-0500
TZNAME:EST
DTSTART:20251102T060000
END:STANDARD
BEGIN:DAYLIGHT
TZOFFSETFROM:-0500
TZOFFSETTO:-0400
TZNAME:EDT
DTSTART:20260308T070000
END:DAYLIGHT
BEGIN:STANDARD
TZOFFSETFROM:-0400
TZOFFSETTO:-0500
TZNAME:EST
DTSTART:20261101T060000
END:STANDARD
END:VTIMEZONE
BEGIN:VEVENT
DTSTART;TZID=America/New_York:20250928T090000
DTEND;TZID=America/New_York:20250928T110000
DTSTAMP:20260424T113921
CREATED:20250731T165625Z
LAST-MODIFIED:20250731T165625Z
UID:28183-1759050000-1759057200@newmilford-chamber.com
SUMMARY:Michael Ford: Contemporary Piano
DESCRIPTION:Michael Ford’s compositional and improvisational style draws on many influences\, but it is rooted in a classical music aesthetic that stems from a life dedicated to the piano. \n Ford describe his music as having hints of impressionism\, progressive rock\, jazz and Americana. He loves a good melody and enjoys rhythmic explorations. His music ranges from sadness to jubilant.  \nMusic critics and fellow musicians have said this about his music and piano works\,  \n \n“His music drifts from the darkness of intimate dream-like visions quickly into the bright sunlight of vivacious perpetual motion works.” \n“Michael Ford has this rare ability to transport listeners to deep emotional places with his music.  It is rich with color and movement\, and we travel alongside every note.”  \n“His music is very uplifting\, inspiring and emotional.” 
URL:https://newmilford-chamber.com/events/michael-ford-contemporary-piano/
LOCATION:Merryall Center\, 8 Chapel Hill Road\, New Milford\, CT\, 06776
CATEGORIES:Community Events
ATTACH;FMTTYPE=image/jpeg:https://newmilford-chamber.com/wp-content/uploads/2025/07/9.28-NM-Chamber-Michael-Ford-scaled.jpg
END:VEVENT
END:VCALENDAR