BEGIN:VCALENDAR
VERSION:2.0
PRODID:-//New Milford Chamber of Commerce - ECPv6.15.20//NONSGML v1.0//EN
CALSCALE:GREGORIAN
METHOD:PUBLISH
X-ORIGINAL-URL:https://newmilford-chamber.com
X-WR-CALDESC:Events for New Milford Chamber of Commerce
REFRESH-INTERVAL;VALUE=DURATION:PT1H
X-Robots-Tag:noindex
X-PUBLISHED-TTL:PT1H
BEGIN:VTIMEZONE
TZID:America/New_York
BEGIN:DAYLIGHT
TZOFFSETFROM:-0500
TZOFFSETTO:-0400
TZNAME:EDT
DTSTART:20240310T070000
END:DAYLIGHT
BEGIN:STANDARD
TZOFFSETFROM:-0400
TZOFFSETTO:-0500
TZNAME:EST
DTSTART:20241103T060000
END:STANDARD
BEGIN:DAYLIGHT
TZOFFSETFROM:-0500
TZOFFSETTO:-0400
TZNAME:EDT
DTSTART:20250309T070000
END:DAYLIGHT
BEGIN:STANDARD
TZOFFSETFROM:-0400
TZOFFSETTO:-0500
TZNAME:EST
DTSTART:20251102T060000
END:STANDARD
BEGIN:DAYLIGHT
TZOFFSETFROM:-0500
TZOFFSETTO:-0400
TZNAME:EDT
DTSTART:20260308T070000
END:DAYLIGHT
BEGIN:STANDARD
TZOFFSETFROM:-0400
TZOFFSETTO:-0500
TZNAME:EST
DTSTART:20261101T060000
END:STANDARD
END:VTIMEZONE
BEGIN:VEVENT
DTSTART;TZID=America/New_York:20250921T010000
DTEND;TZID=America/New_York:20250921T150000
DTSTAMP:20260424T130544
CREATED:20250904T202442Z
LAST-MODIFIED:20250904T202443Z
UID:29136-1758416400-1758466800@newmilford-chamber.com
SUMMARY:Gogh to the Pumpkin Patch - Canvas Painting workshop
DESCRIPTION:Create a Rustic Van Gogh-Inspired Pumpkins & Sunflowers Canvas\nduring this 3-Part Workshop \nCapture the golden warmth of fall with bold brushstrokes and swirling color in this rustic painting workshop inspired by the style of Vincent van Gogh. \nIn this three-week workshop\, our instructor will guide you step-by-step through the steps to create this vibrant autumn scene featuring abstracted pumpkins and sunflowers—brought to life with expressive texture\, rich color\, and that unmistakable Van Gogh flair. Learn new painting techniques in each session as you create this lovely design. No experience needed—just a love of the season and a willingness to play with paint! \nPerfect for fall décor or a creative evening out with friends. All materials provided. Reservations are required to secure your spot and supplies. \n$85 per person\,\nAges 12+\nRefreshments are welcome
URL:https://newmilford-chamber.com/events/gogh-to-the-pumpkin-patch-canvas-painting-workshop/
LOCATION:Create Escape Studio\, 143 West Street - Unit U\, New Milford\, CT\, 06776\, United States
CATEGORIES:Workshops/Seminars
ATTACH;FMTTYPE=image/jpeg:https://newmilford-chamber.com/wp-content/uploads/2025/09/3-day-Gogh-to-pumpkin-patch.jpeg
ORGANIZER;CN="Create Escape Studio":MAILTO:createescapestudio@gmail.com
END:VEVENT
END:VCALENDAR