BEGIN:VCALENDAR
VERSION:2.0
PRODID:-//New Milford Chamber of Commerce - ECPv6.15.20//NONSGML v1.0//EN
CALSCALE:GREGORIAN
METHOD:PUBLISH
X-ORIGINAL-URL:https://newmilford-chamber.com
X-WR-CALDESC:Events for New Milford Chamber of Commerce
REFRESH-INTERVAL;VALUE=DURATION:PT1H
X-Robots-Tag:noindex
X-PUBLISHED-TTL:PT1H
BEGIN:VTIMEZONE
TZID:America/New_York
BEGIN:DAYLIGHT
TZOFFSETFROM:-0500
TZOFFSETTO:-0400
TZNAME:EDT
DTSTART:20240310T070000
END:DAYLIGHT
BEGIN:STANDARD
TZOFFSETFROM:-0400
TZOFFSETTO:-0500
TZNAME:EST
DTSTART:20241103T060000
END:STANDARD
BEGIN:DAYLIGHT
TZOFFSETFROM:-0500
TZOFFSETTO:-0400
TZNAME:EDT
DTSTART:20250309T070000
END:DAYLIGHT
BEGIN:STANDARD
TZOFFSETFROM:-0400
TZOFFSETTO:-0500
TZNAME:EST
DTSTART:20251102T060000
END:STANDARD
BEGIN:DAYLIGHT
TZOFFSETFROM:-0500
TZOFFSETTO:-0400
TZNAME:EDT
DTSTART:20260308T070000
END:DAYLIGHT
BEGIN:STANDARD
TZOFFSETFROM:-0400
TZOFFSETTO:-0500
TZNAME:EST
DTSTART:20261101T060000
END:STANDARD
END:VTIMEZONE
BEGIN:VEVENT
DTSTART;VALUE=DATE:20250906
DTEND;VALUE=DATE:20250907
DTSTAMP:20260424T130556
CREATED:20250904T202613Z
LAST-MODIFIED:20250904T202613Z
UID:29126-1757116800-1757203199@newmilford-chamber.com
SUMMARY:Sunflower Extravaganza
DESCRIPTION:Bring your friends and family for a fun-filled day surrounded by the beauty of sunflowers and the joy of artistic expression! \nSpend the day creating a sunflower masterpiece. We’ll have a wide array of sunflower-themed projects to spark your imagination and brighten your day.  \nWhether you’re a seasoned artist or simply love to create\, there’s something for everyone. Create your own sunflower masterpiece. \nChoose from: \n\n\nPainting Sunflowers on Glass  \n\n\nSunflower designs on Ceramics \n\n\nFused glass sunflower dishes\, suncatchers & votives \n\n\nDIY sunflower wooden wall hanging \n\n\nSelect from Several sunflower-themed canvas designs \n\n\nand more! \n\n\nDon’t miss out on this vibrant\, blooming celebration of creativity! \n$15 registration will be applied toward the cost of your project. \n Refreshments are welcome
URL:https://newmilford-chamber.com/events/sunflower-extravaganza/
LOCATION:Create Escape Studio\, 143 West Street - Unit U\, New Milford\, CT\, 06776\, United States
CATEGORIES:Community Events,Special Event,Workshops/Seminars
ATTACH;FMTTYPE=image/jpeg:https://newmilford-chamber.com/wp-content/uploads/2025/09/Sunflower-Extraveganza.jpg
ORGANIZER;CN="Create Escape Studio":MAILTO:createescapestudio@gmail.com
END:VEVENT
BEGIN:VEVENT
DTSTART;TZID=America/New_York:20250906T153000
DTEND;TZID=America/New_York:20250906T173000
DTSTAMP:20260424T130556
CREATED:20250731T165915Z
LAST-MODIFIED:20250731T165915Z
UID:28163-1757172600-1757179800@newmilford-chamber.com
SUMMARY:Caravan of Thieves
DESCRIPTION:Inspired by the big band swing era\, musical theater and early American folk music\, with an upright bass\, violin\, an occasional accordion and any other willing participant recruited along the way\, that’s the amazing – Caravan of Thieves. This is the night\, not to be missed.
URL:https://newmilford-chamber.com/events/caravan-of-thieves/
LOCATION:Merryall Center\, 8 Chapel Hill Road\, New Milford\, CT\, 06776
CATEGORIES:Community Events
ATTACH;FMTTYPE=image/jpeg:https://newmilford-chamber.com/wp-content/uploads/2025/07/9.6-NM-Chamber-COT-scaled.jpg
END:VEVENT
END:VCALENDAR