BEGIN:VCALENDAR
VERSION:2.0
PRODID:-//New Milford Chamber of Commerce - ECPv6.15.20//NONSGML v1.0//EN
CALSCALE:GREGORIAN
METHOD:PUBLISH
X-WR-CALNAME:New Milford Chamber of Commerce
X-ORIGINAL-URL:https://newmilford-chamber.com
X-WR-CALDESC:Events for New Milford Chamber of Commerce
REFRESH-INTERVAL;VALUE=DURATION:PT1H
X-Robots-Tag:noindex
X-PUBLISHED-TTL:PT1H
BEGIN:VTIMEZONE
TZID:America/New_York
BEGIN:DAYLIGHT
TZOFFSETFROM:-0500
TZOFFSETTO:-0400
TZNAME:EDT
DTSTART:20240310T070000
END:DAYLIGHT
BEGIN:STANDARD
TZOFFSETFROM:-0400
TZOFFSETTO:-0500
TZNAME:EST
DTSTART:20241103T060000
END:STANDARD
BEGIN:DAYLIGHT
TZOFFSETFROM:-0500
TZOFFSETTO:-0400
TZNAME:EDT
DTSTART:20250309T070000
END:DAYLIGHT
BEGIN:STANDARD
TZOFFSETFROM:-0400
TZOFFSETTO:-0500
TZNAME:EST
DTSTART:20251102T060000
END:STANDARD
BEGIN:DAYLIGHT
TZOFFSETFROM:-0500
TZOFFSETTO:-0400
TZNAME:EDT
DTSTART:20260308T070000
END:DAYLIGHT
BEGIN:STANDARD
TZOFFSETFROM:-0400
TZOFFSETTO:-0500
TZNAME:EST
DTSTART:20261101T060000
END:STANDARD
END:VTIMEZONE
BEGIN:VEVENT
DTSTART;TZID=America/New_York:20250905T060000
DTEND;TZID=America/New_York:20250905T080000
DTSTAMP:20260424T130355
CREATED:20250807T214641Z
LAST-MODIFIED:20250807T214641Z
UID:28369-1757052000-1757059200@newmilford-chamber.com
SUMMARY:First Friday Hike @ Deer Pond Farm in Sherman
DESCRIPTION:Step into September with our First Friday Hike! While peak foliage is still a few weeks away\, the first golden hints of fall are starting to show. It’s the perfect time to get outside and enjoy the quiet beauty of the changing season. Bring a friend\, meet fellow nature lovers\, and learn more about our environmental projects at the Deer Pond Farm nature preserve. This program meets outside at the flagpole at 57 Wakeman Hill Rd.\, Sherman\, CT 06784  \nTo register for the First Friday Hike\, visit https://www.ctaudubon.org/2025/07/register-september-first-friday-hike-2/  \n 
URL:https://newmilford-chamber.com/events/first-friday-hike-deer-pond-farm-in-sherman-2/
LOCATION:Deer Pond Nature Preserve\, 57 Wakeman Hill Rd.\, Sherman\, CT\, 06784\, United States
CATEGORIES:Community Events,Non Profit,Special Event
ATTACH;FMTTYPE=image/jpeg:https://newmilford-chamber.com/wp-content/uploads/2025/08/Summer-Hike-NYConn-scaled.jpg
ORGANIZER;CN="Connecticut Audubon Society at Deer Pond Farm":MAILTO:chagadorn@ctaudubon.org
END:VEVENT
BEGIN:VEVENT
DTSTART;TZID=America/New_York:20250905T143000
DTEND;TZID=America/New_York:20250905T170000
DTSTAMP:20260424T130355
CREATED:20250812T220336Z
LAST-MODIFIED:20250812T220336Z
UID:28447-1757082600-1757091600@newmilford-chamber.com
SUMMARY:Dinner & Music: "This Time Songs For Our Times"
DESCRIPTION:Featuring Bill Buttner\, & Bernie Kaplan with an all-star band including the remarkable David Wonsey on percussion\, the acclaimed guitar player Rob Stagno on guitar\, the versatile and talented Annie O’Hara on bass and vocals\, Sherman’s own piano and multi instrumentalist wizard\, Christopher Carlone on piano\, and a few surprise guests. \nThe songs for this performance all speak to these most complicated times in which we live and search for the truth and beauty that is hidden beneath the brush\, bushes and brambles and sadly seems so difficult to hold onto these days. \nMenu: \n\nBeef stew w/ root vegetables\nTurkey sausage w/ roasted fall veggies\nBrown butter potato pierogi w/ Swiss chard & caramelized onions\nParmesan roasted broccoli & cauliflower\nFall harvest salad w/ apples\, pecans\, craisins & a cider vinaigrette\nCoffee\, tea\, & dessert
URL:https://newmilford-chamber.com/events/dinner-music-this-time-songs-for-our-times/
LOCATION:JCC in Sherman\, 9 Route 39 South\, Sherman\, CT
ATTACH;FMTTYPE=image/png:https://newmilford-chamber.com/wp-content/uploads/2025/08/This-Time-Songs-For-Our-Times-3.png
END:VEVENT
END:VCALENDAR