BEGIN:VCALENDAR
VERSION:2.0
PRODID:-//New Milford Chamber of Commerce - ECPv6.15.20//NONSGML v1.0//EN
CALSCALE:GREGORIAN
METHOD:PUBLISH
X-WR-CALNAME:New Milford Chamber of Commerce
X-ORIGINAL-URL:https://newmilford-chamber.com
X-WR-CALDESC:Events for New Milford Chamber of Commerce
REFRESH-INTERVAL;VALUE=DURATION:PT1H
X-Robots-Tag:noindex
X-PUBLISHED-TTL:PT1H
BEGIN:VTIMEZONE
TZID:America/New_York
BEGIN:DAYLIGHT
TZOFFSETFROM:-0500
TZOFFSETTO:-0400
TZNAME:EDT
DTSTART:20240310T070000
END:DAYLIGHT
BEGIN:STANDARD
TZOFFSETFROM:-0400
TZOFFSETTO:-0500
TZNAME:EST
DTSTART:20241103T060000
END:STANDARD
BEGIN:DAYLIGHT
TZOFFSETFROM:-0500
TZOFFSETTO:-0400
TZNAME:EDT
DTSTART:20250309T070000
END:DAYLIGHT
BEGIN:STANDARD
TZOFFSETFROM:-0400
TZOFFSETTO:-0500
TZNAME:EST
DTSTART:20251102T060000
END:STANDARD
BEGIN:DAYLIGHT
TZOFFSETFROM:-0500
TZOFFSETTO:-0400
TZNAME:EDT
DTSTART:20260308T070000
END:DAYLIGHT
BEGIN:STANDARD
TZOFFSETFROM:-0400
TZOFFSETTO:-0500
TZNAME:EST
DTSTART:20261101T060000
END:STANDARD
END:VTIMEZONE
BEGIN:VEVENT
DTSTART;TZID=America/New_York:20250706T050000
DTEND;TZID=America/New_York:20250831T060000
DTSTAMP:20260424T161228
CREATED:20250625T195436Z
LAST-MODIFIED:20250625T195436Z
UID:28054-1751778000-1756620000@newmilford-chamber.com
SUMMARY:Chapel in the Pines
DESCRIPTION:Summer Sunday Worship Service
URL:https://newmilford-chamber.com/events/chapel-in-the-pines/
LOCATION:New Milford United Methodist Church\, 68 Danbury Road\, New Milford\, 06776\, United States Minor Outlying Islands
CATEGORIES:Community Events
ATTACH;FMTTYPE=image/jpeg:https://newmilford-chamber.com/wp-content/uploads/2025/06/Chapel-in-the-Pines1.jpeg
ORGANIZER;CN="New Milford United Methodist Church":MAILTO:office@newmilfordumc.org
END:VEVENT
BEGIN:VEVENT
DTSTART;TZID=America/New_York:20250826T050000
DTEND;TZID=America/New_York:20250826T130000
DTSTAMP:20260424T161228
CREATED:20250610T202329Z
LAST-MODIFIED:20250610T202329Z
UID:27753-1756184400-1756213200@newmilford-chamber.com
SUMMARY:Blood Drive @ Active Health
DESCRIPTION:This will be an all day event \nMore details to follow.
URL:https://newmilford-chamber.com/events/blood-drive-active-health/
LOCATION:Active Health\, 39 Park Lane road\, New Milford\, CT\, 06776
END:VEVENT
BEGIN:VEVENT
DTSTART;TZID=America/New_York:20250826T050000
DTEND;TZID=America/New_York:20250828T080000
DTSTAMP:20260424T161228
CREATED:20250807T200850Z
LAST-MODIFIED:20250807T200851Z
UID:28350-1756184400-1756368000@newmilford-chamber.com
SUMMARY:Summer Creativity Club - Art for Kids
DESCRIPTION:Kids will have a great time creating art inspired by nature at this 3-day program \nThe Great Outdoors \nAugust 26\, 27\, 28 \nFor children ages 7 – 12 \n \nLet your child spend their Summer days in a Creative Way at Create Escape Studio’s Summer Art Program!  \nThis program will run 3 days a week\, Tuesday\, Wednesday & Thursday from 9 am – 12 pm  \nEach session will include a variety of projects each week\, such as:  \n• Pottery Painting • Acrylics on Canvas  \n• Hand building with clay  \n• Mosaics  \n• Glass (depending upon the maturity of the group)\, as well as other projects appropriate to the participant’s ability and interests.   \n \nThis program includes instruction and all materials for projects.  \nEach week\, we will average 2 projects per day. (Some projects may take multiple days \n \, and some projects may require a return visit (at no additional cost) to glaze.) \n \nThe cost of the program: $170 per child per session \n$65 daily rate (upon availability) Call for information and daily registrations \n Tuition includes all supplies & staff guidance \n \nNote: 5 participants per session are required for the session to run. \nProjects shown in promotional graphics are not guaranteed to be offered at the program session. \nActual projects will be selected and modified according to the participants’ skill levels.
URL:https://newmilford-chamber.com/events/summer-creativity-club-art-for-kids/
LOCATION:Create Escape Studio\, 143 West Street - Unit U\, New Milford\, CT\, 06776\, United States
CATEGORIES:Community Events,Workshops/Seminars
ATTACH;FMTTYPE=image/jpeg:https://newmilford-chamber.com/wp-content/uploads/2025/08/The-Great-Outdoors-25.jpg
ORGANIZER;CN="Create Escape Studio":MAILTO:createescapestudio@gmail.com
END:VEVENT
BEGIN:VEVENT
DTSTART;TZID=America/New_York:20250826T110000
DTEND;TZID=America/New_York:20250826T150000
DTSTAMP:20260424T161228
CREATED:20250822T195327Z
LAST-MODIFIED:20250822T203551Z
UID:28727-1756206000-1756220400@newmilford-chamber.com
SUMMARY:Sip\, Shop and Mingle at Lumeniri\, LLC
DESCRIPTION:Join us for a Sip\, Shop and Mingle\, see what we have or create your own. Weddings sets\, graduation gifts\, pendants\, tennis bracelets and many size stud earrings…all in our new crated lad diamonds.
URL:https://newmilford-chamber.com/events/sip-shop-and-mingle-at-lumeniri-llc/
LOCATION:Lumeniri\, 7 Kent Road\, Suite A\, New Milford\, CT\, 06776
CATEGORIES:Open House,Sale
ATTACH;FMTTYPE=image/jpeg:https://newmilford-chamber.com/wp-content/uploads/2025/08/Lumeniri-Sip-Shop-Aug-26-and-27.jpg
ORGANIZER;CN="Lumeniri":MAILTO:Hi@lumeniri.com
END:VEVENT
END:VCALENDAR