BEGIN:VCALENDAR
VERSION:2.0
PRODID:-//New Milford Chamber of Commerce - ECPv6.15.20//NONSGML v1.0//EN
CALSCALE:GREGORIAN
METHOD:PUBLISH
X-ORIGINAL-URL:https://newmilford-chamber.com
X-WR-CALDESC:Events for New Milford Chamber of Commerce
REFRESH-INTERVAL;VALUE=DURATION:PT1H
X-Robots-Tag:noindex
X-PUBLISHED-TTL:PT1H
BEGIN:VTIMEZONE
TZID:America/New_York
BEGIN:DAYLIGHT
TZOFFSETFROM:-0500
TZOFFSETTO:-0400
TZNAME:EDT
DTSTART:20240310T070000
END:DAYLIGHT
BEGIN:STANDARD
TZOFFSETFROM:-0400
TZOFFSETTO:-0500
TZNAME:EST
DTSTART:20241103T060000
END:STANDARD
BEGIN:DAYLIGHT
TZOFFSETFROM:-0500
TZOFFSETTO:-0400
TZNAME:EDT
DTSTART:20250309T070000
END:DAYLIGHT
BEGIN:STANDARD
TZOFFSETFROM:-0400
TZOFFSETTO:-0500
TZNAME:EST
DTSTART:20251102T060000
END:STANDARD
BEGIN:DAYLIGHT
TZOFFSETFROM:-0500
TZOFFSETTO:-0400
TZNAME:EDT
DTSTART:20260308T070000
END:DAYLIGHT
BEGIN:STANDARD
TZOFFSETFROM:-0400
TZOFFSETTO:-0500
TZNAME:EST
DTSTART:20261101T060000
END:STANDARD
END:VTIMEZONE
BEGIN:VEVENT
DTSTART;TZID=America/New_York:20250706T050000
DTEND;TZID=America/New_York:20250831T060000
DTSTAMP:20260424T204245
CREATED:20250625T195436Z
LAST-MODIFIED:20250625T195436Z
UID:28054-1751778000-1756620000@newmilford-chamber.com
SUMMARY:Chapel in the Pines
DESCRIPTION:Summer Sunday Worship Service
URL:https://newmilford-chamber.com/events/chapel-in-the-pines/
LOCATION:New Milford United Methodist Church\, 68 Danbury Road\, New Milford\, 06776\, United States Minor Outlying Islands
CATEGORIES:Community Events
ATTACH;FMTTYPE=image/jpeg:https://newmilford-chamber.com/wp-content/uploads/2025/06/Chapel-in-the-Pines1.jpeg
ORGANIZER;CN="New Milford United Methodist Church":MAILTO:office@newmilfordumc.org
END:VEVENT
BEGIN:VEVENT
DTSTART;TZID=America/New_York:20250822T153000
DTEND;TZID=America/New_York:20250822T173000
DTSTAMP:20260424T204245
CREATED:20250731T165940Z
LAST-MODIFIED:20250731T165940Z
UID:28158-1755876600-1755883800@newmilford-chamber.com
SUMMARY:The Red Dirt Girls
DESCRIPTION:Born at the Sherman Song Swap nearly 20 years ago\, The Red Dirt Girls (RDG) are all about harmonies. Inspired by the classic trio work of Emmy Lou Harris\, Linda Ronstadt\, and Dolly Parton\, as well as Red Molly and the Wailin’ Jennys\, these neighbors got together for the sheer joy of singing. Susy Marker and Missy Alexander trade off on the lead vocals and high harmonies. They are the songwriters of the group\, crafting lyrics that are sometimes poignant\, sometimes funny\, and often both. Pat Walker is the chief arranger\, with a perfect ear\, a passion for the unexpected\, and a smoky bass line. Best described as Americana (a blend of country & folk)\, their repertoire is an eclectic mix of original music and unexpected covers. Whether singing around the kitchen table or on local stages\, this trio of friends aspires to share the magic that a perfect chord creates.
URL:https://newmilford-chamber.com/events/the-red-dirt-girls/
LOCATION:Merryall Center\, 8 Chapel Hill Road\, New Milford\, CT\, 06776
CATEGORIES:Community Events
ATTACH;FMTTYPE=image/jpeg:https://newmilford-chamber.com/wp-content/uploads/2025/07/8.22-NM-Chamber-Red-Dirt-Girls-scaled.jpg
END:VEVENT
END:VCALENDAR