BEGIN:VCALENDAR
VERSION:2.0
PRODID:-//New Milford Chamber of Commerce - ECPv6.15.20//NONSGML v1.0//EN
CALSCALE:GREGORIAN
METHOD:PUBLISH
X-ORIGINAL-URL:https://newmilford-chamber.com
X-WR-CALDESC:Events for New Milford Chamber of Commerce
REFRESH-INTERVAL;VALUE=DURATION:PT1H
X-Robots-Tag:noindex
X-PUBLISHED-TTL:PT1H
BEGIN:VTIMEZONE
TZID:America/New_York
BEGIN:DAYLIGHT
TZOFFSETFROM:-0500
TZOFFSETTO:-0400
TZNAME:EDT
DTSTART:20240310T070000
END:DAYLIGHT
BEGIN:STANDARD
TZOFFSETFROM:-0400
TZOFFSETTO:-0500
TZNAME:EST
DTSTART:20241103T060000
END:STANDARD
BEGIN:DAYLIGHT
TZOFFSETFROM:-0500
TZOFFSETTO:-0400
TZNAME:EDT
DTSTART:20250309T070000
END:DAYLIGHT
BEGIN:STANDARD
TZOFFSETFROM:-0400
TZOFFSETTO:-0500
TZNAME:EST
DTSTART:20251102T060000
END:STANDARD
BEGIN:DAYLIGHT
TZOFFSETFROM:-0500
TZOFFSETTO:-0400
TZNAME:EDT
DTSTART:20260308T070000
END:DAYLIGHT
BEGIN:STANDARD
TZOFFSETFROM:-0400
TZOFFSETTO:-0500
TZNAME:EST
DTSTART:20261101T060000
END:STANDARD
END:VTIMEZONE
BEGIN:VEVENT
DTSTART;TZID=America/New_York:20250706T050000
DTEND;TZID=America/New_York:20250831T060000
DTSTAMP:20260424T161248
CREATED:20250625T195436Z
LAST-MODIFIED:20250625T195436Z
UID:28054-1751778000-1756620000@newmilford-chamber.com
SUMMARY:Chapel in the Pines
DESCRIPTION:Summer Sunday Worship Service
URL:https://newmilford-chamber.com/events/chapel-in-the-pines/
LOCATION:New Milford United Methodist Church\, 68 Danbury Road\, New Milford\, 06776\, United States Minor Outlying Islands
CATEGORIES:Community Events
ATTACH;FMTTYPE=image/jpeg:https://newmilford-chamber.com/wp-content/uploads/2025/06/Chapel-in-the-Pines1.jpeg
ORGANIZER;CN="New Milford United Methodist Church":MAILTO:office@newmilfordumc.org
END:VEVENT
BEGIN:VEVENT
DTSTART;TZID=America/New_York:20250807T140000
DTEND;TZID=America/New_York:20250814T160000
DTSTAMP:20260424T161248
CREATED:20250514T215423Z
LAST-MODIFIED:20250514T215423Z
UID:27293-1754575200-1755187200@newmilford-chamber.com
SUMMARY:Summer Art Club with Liz (August Session: Learn Color & Value)
DESCRIPTION:Summer ART Club with Liz RosielloThursday Evenings • 6–8 PM • $65 per sessionFor Adults & Young Adults (ages 14+)All skill levels welcome!Join artist and instructor Liz Rosiello for a summer of creativity\, skill-building\, and artistic exploration! Each session of this laid-back\, small-group Summer Art Club focuses on a different essential art skills—from drawing fundamentals to watercolor journaling to mastering color and value. Classes take place at Gallery 25 and we will draw inspiration from downtown New Milford\, making the town itself part of your inspiration! \n August: Learn Color & ValueThursdays\, 8/7 & 8/14 | 6–8 PMSession 1 dives into color theory and how to apply it meaningfully in your art. In Session 2\, we’ll focus on value—the true backbone of great painting. Learn how to make your work pop and why value is everything! Sign up for Liz’s August Session: https://square.link/u/Ea9y3Kvk \n Whether you’re just starting out or looking to deepen your practice\, Summer Art Club offers a welcoming\, fun space to grow your skills with guidance from a passionate teacher. Spots are limited—sign up early to save yours! Use the links to sign up for your sessions! Sign up for all three sessions or choose the sessions that fit your schedule!
URL:https://newmilford-chamber.com/events/summer-art-club-with-liz-august-session-learn-color-value/
LOCATION:Gallery 25 in the Historic Train Station\, 11 Railroad Street\, New Milford\, 06776
CATEGORIES:Community Events,Special Event,Workshops/Seminars
ATTACH;FMTTYPE=image/jpeg:https://newmilford-chamber.com/wp-content/uploads/2025/05/Summer-Art-Club-with-Liz-2.jpg
ORGANIZER;CN="Gallery 25 in the Historic Train Station":MAILTO:Gallery25newmilfordct@gmail.com
END:VEVENT
BEGIN:VEVENT
DTSTART;TZID=America/New_York:20250814T133000
DTEND;TZID=America/New_York:20250814T153000
DTSTAMP:20260424T161248
CREATED:20250117T025041Z
LAST-MODIFIED:20250625T194245Z
UID:25095-1755178200-1755185400@newmilford-chamber.com
SUMMARY:August Business Scene at Candlelight Farms
DESCRIPTION:🎉 You’re Invited! 🎉An Evening of Networking\, Connection\, and Community \nPresented by:All American Waste\, LAB Media\, and the John Pettibone Scholarship Fund \nJoin us for a vibrant evening of connections and conversations with fellow business professionals at the beautiful Candlelight Farms in New Milford! This informal networking event offers the perfect open house atmosphere to meet new faces\, share ideas\, and grow your business network. \n🗓 Date: August 14🕕 Time: 5.30 pm📍 Location: Candlelight Farms\, New Milford \n✨ What to Expect: \n\n\nFREE and open to the public \n\n\nA casual\, welcoming networking environment \n\n\nFood and beverages served \n\n\nBring your business cards & a friend or colleague \n\n\nDoor prizes welcome — a great way to promote your business! \n\nBeverages provided by Housatonic River Brewing\n\nDon’t miss this chance to mix\, mingle\, and make meaningful connections while supporting a great cause! \n📢 Let’s grow together — we can’t wait to see you there!
URL:https://newmilford-chamber.com/events/august-business-scene-location-and-sponsors-tba/
LOCATION:Candlelight Farms\, 214 Candlewood Mountain Rd\, New Milford\, CT
CATEGORIES:chamber/Community Event,Networking
ATTACH;FMTTYPE=image/jpeg:https://newmilford-chamber.com/wp-content/uploads/2025/01/53829bca-f0bd-4511-becf-2691f802ebe9.jpg
ORGANIZER;CN="The Greater New Milford Chamber of Commerce":MAILTO:nmcc@newmilford-chamber.com
END:VEVENT
BEGIN:VEVENT
DTSTART;VALUE=DATE:20250814
DTEND;VALUE=DATE:20250816
DTSTAMP:20260424T161248
CREATED:20250117T025238Z
LAST-MODIFIED:20250117T025239Z
UID:25097-1755201600-1755287999@newmilford-chamber.com
SUMMARY:Chamber booth at Bridgewater Country Fair
DESCRIPTION:Stop by our booth at the Bridgewater Country Fair Aug. 15-17.
URL:https://newmilford-chamber.com/events/chamber-booth-at-bridgewater-country-fair/
LOCATION:CT
CATEGORIES:chamber/Community Event,Community Events
END:VEVENT
END:VCALENDAR